Workbook

Sheet Note
B11: Note:
B12: 1 | D12: Rows with year in red (2016) are data collected in 2016 and are part of the National Highway System.
B16: 2 | D16: Rows with year in black (2015) are data collected in 2015 and are not part of the National Highway System.

Sheet Benton
I5: Region 4
A6: Pavement Management System | I6: Benton County
I7: (1.0 mile sections)
A8: County | B8: Route | C8: Route # | D8: County Sequence | E8: Special Case | F8: Direction | G8: From Log Mile | H8: To Log Mile | I8: IRI | J8: HC IRI | K8: Rut Depth | L8: PSI | M8: PDI | N8: PQI | O8: Year
A9: 3 | B9: I | C9: 40 | D9: 1 | F9: M | G9: 0 | H9: 1 | I9: 33 | J9: 27.13 | K9: 0.1 | L9: 4.17 | M9: 4.94 | N9: 4.7 | O9: 2016
A10: 3 | B10: I | C10: 40 | D10: 1 | F10: M | G10: 1 | H10: 2 | I10: 34.76 | J10: 28.49 | K10: 0.1 | L10: 4.13 | M10: 4.92 | N10: 4.67 | O10: 2016
A11: 3 | B11: I | C11: 40 | D11: 1 | F11: M | G11: 2 | H11: 3 | I11: 34.32 | J11: 28.01 | K11: 0.1 | L11: 4.14 | M11: 4.96 | N11: 4.7 | O11: 2016
A12: 3 | B12: I | C12: 40 | D12: 1 | F12: M | G12: 3 | H12: 4 | I12: 33 | J12: 26.71 | K12: 0.1 | L12: 4.17 | M12: 4.92 | N12: 4.68 | O12: 2016
A13: 3 | B13: I | C13: 40 | D13: 1 | F13: M | G13: 4 | H13: 5 | I13: 31.7 | J13: 25.43 | K13: 0.1 | L13: 4.2 | M13: 4.88 | N13: 4.67 | O13: 2016
A14: 3 | B14: I | C14: 40 | D14: 1 | F14: M | G14: 5 | H14: 6 | I14: 35.64 | J14: 29.85 | K14: 0.1 | L14: 4.11 | M14: 4.89 | N14: 4.64 | O14: 2016
A15: 3 | B15: I | C15: 40 | D15: 1 | F15: M | G15: 6 | H15: 7 | I15: 34.32 | J15: 28.42 | K15: 0.09 | L15: 4.14 | M15: 4.98 | N15: 4.71 | O15: 2016
A16: 3 | B16: I | C16: 40 | D16: 1 | F16: M | G16: 7 | H16: 8 | I16: 32.13 | J16: 26.14 | K16: 0.07 | L16: 4.19 | M16: 4.97 | N16: 4.72 | O16: 2016
A17: 3 | B17: I | C17: 40 | D17: 1 | F17: M | G17: 8 | H17: 8.78 | I17: 77.21 | J17: 70.76 | K17: 0.09 | L17: 3.27 | M17: 4.54 | N17: 4.11 | O17: 2016
A18: 3 | B18: I | C18: 40 | D18: 1 | F18: P | G18: 0 | H18: 1 | I18: 41.03 | J18: 33.87 | K18: 0.1 | L18: 3.99 | M18: 4.86 | N18: 4.58 | O18: 2016
A19: 3 | B19: I | C19: 40 | D19: 1 | F19: P | G19: 1 | H19: 2 | I19: 31.7 | J19: 25.12 | K19: 0.1 | L19: 4.2 | M19: 4.9 | N19: 4.68 | O19: 2016
A20: 3 | B20: I | C20: 40 | D20: 1 | F20: P | G20: 2 | H20: 3 | I20: 33 | J20: 27.21 | K20: 0.11 | L20: 4.17 | M20: 4.89 | N20: 4.66 | O20: 2016
... A64: 3 | B64: SR | C64: 69 | D64: 1 | F64: P | G64: 24 | H64: 24.21 | I64: 66.42 | J64: 48.11 | K64: 0.07 | L64: 3.47 | M64: 4.6 | N64: 4.23 | O64: 2016
A65: 3 | B65: SR | C65: 69 | D65: 1 | E65: ALT | F65: P | G65: 0 | H65: 1 | I65: 131.94 | J65: 120.45 | K65: 0.09 | L65: 2.42 | M65: 2.68 | N65: 2.6 | O65: 2015
A66: 3 | B66: SR | C66: 69 | D66: 1 | E66: ALT | F66: P | G66: 1 | H66: 2 | I66: 64.85 | J66: 55.76 | K66: 0.05 | L66: 3.5 | M66: 3.75 | N66: 3.67 | O66: 2015
A67: 3 | B67: SR | C67: 69 | D67: 1 | E67: ALT | F67: P | G67: 2 | H67: 3 | I67: 64.33 | J67: 54.58 | K67: 0.05 | L67: 3.51 | M67: 3.89 | N67: 3.77 | O67: 2015
A68: 3 | B68: SR | C68: 69 | D68: 1 | E68: ALT | F68: P | G68: 3 | H68: 4 | I68: 61.76 | J68: 51.6 | K68: 0.05 | L68: 3.56 | M68: 3.64 | N68: 3.62 | O68: 2015
A69: 3 | B69: SR | C69: 69 | D69: 1 | E69: ALT | F69: P | G69: 4 | H69: 5 | I69: 69.05 | J69: 57.52 | K69: 0.05 | L69: 3.42 | M69: 3.14 | N69: 3.22 | O69: 2015
A70: 3 | B70: SR | C70: 69 | D70: 1 | E70: ALT | F70: P | G70: 5 | H70: 6 | I70: 60.23 | J70: 49.38 | K70: 0.04 | L70: 3.59 | M70: 3.22 | N70: 3.33 | O70: 2015
A71: 3 | B71: SR | C71: 69 | D71: 1 | E71: ALT | F71: P | G71: 6 | H71: 7 | I71: 70.66 | J71: 61.57 | K71: 0.05 | L71: 3.39 | M71: 3.52 | N71: 3.48 | O71: 2015
A72: 3 | B72: SR | C72: 69 | D72: 1 | E72: ALT | F72: P | G72: 7 | H72: 8 | I72: 68.52 | J72: 59.07 | K72: 0.04 | L72: 3.43 | M72: 4.09 | N72: 3.88 | O72: 2015
A73: 3 | B73: SR | C73: 69 | D73: 1 | E73: ALT | F73: P | G73: 8 | H73: 9 | I73: 60.23 | J73: 50.65 | K73: 0.04 | L73: 3.59 | M73: 4.1 | N73: 3.94 | O73: 2015
A74: 3 | B74: SR | C74: 69 | D74: 1 | E74: ALT | F74: P | G74: 9 | H74: 10 | I74: 61.76 | J74: 53.11 | K74: 0.03 | L74: 3.56 | M74: 4.37 | N74: 4.11 | O74: 2015
A75: 3 | B75: SR | C75: 69 | D75: 1 | E75: ALT | F75: P | G75: 10 | H75: 11 | I75: 67.47 | J75: 59.92 | K75: 0.03 | L75: 3.45 | M75: 4.2 | N75: 3.96 | O75: 2015
A76: 3 | B76: SR | C76: 69 | D76: 1 | E76: ALT | F76: P | G76: 11 | H76: 12 | I76: 77.77 | J76: 72.27 | K76: 0.04 | L76: 3.26 | M76: 4.49 | N76: 4.08 | O76: 2015
... A79: 3 | B79: SR | C79: 69 | D79: 1 | E79: ALT | F79: P | G79: 14 | H79: 14.5 | I79: 47.05 | J79: 40.24 | K79: 0.03 | L79: 3.86 | M79: 4.55 | N79: 4.33 | O79: 2015
A80: 3 | B80: SR | C80: 147 | D80: 1 | F80: P | G80: 0 | H80: 1 | I80: 154.3 | J80: 139.68 | K80: 0.07 | L80: 2.14 | M80: 3.53 | N80: 3.04 | O80: 2015
A81: 3 | B81: SR | C81: 147 | D81: 1 | F81: P | G81: 1 | H81: 2 | I81: 112.71 | J81: 98.66 | K81: 0.04 | L81: 2.69 | M81: 3.87 | N81: 3.47 | O81: 2015
A82: 3 | B82: SR | C82: 147 | D82: 1 | F82: P | G82: 2 | H82: 3 | I82: 87.5 | J82: 76.92 | K82: 0.04 | L82: 3.09 | M82: 4.09 | N82: 3.76 | O82: 2015
A83: 3 | B83: SR | C83: 147 | D83: 1 | F83: P | G83: 3 | H83: 4 | I83: 91.67 | J83: 80.9 | K83: 0.04 | L83: 3.02 | M83: 4.15 | N83: 3.77 | O83: 2015
A84: 3 | B84: SR | C84: 147 | D84: 1 | F84: P | G84: 4 | H84: 5 | I84: 112.03 | J84: 98.16 | K84: 0.05 | L84: 2.7 | M84: 3.89 | N84: 3.49 | O84: 2015
A85: 3 | B85: SR | C85: 147 | D85: 1 | F85: P | G85: 5 | H85: 6 | I85: 120.3 | J85: 106.08 | K85: 0.04 | L85: 2.58 | M85: 4.05 | N85: 3.54 | O85: 2015
A86: 3 | B86: SR | C86: 147 | D86: 1 | F86: P | G86: 6 | H86: 7 | I86: 97.17 | J86: 85.67 | K86: 0.05 | L86: 2.93 | M86: 3.99 | N86: 3.64 | O86: 2015
A87: 3 | B87: SR | C87: 147 | D87: 1 | F87: P | G87: 7 | H87: 8 | I87: 110.02 | J87: 96.52 | K87: 0.06 | L87: 2.73 | M87: 3.5 | N87: 3.25 | O87: 2015
A88: 3 | B88: SR | C88: 147 | D88: 1 | F88: P | G88: 8 | H88: 9 | I88: 102.2 | J88: 87.4 | K88: 0.06 | L88: 2.85 | M88: 3.84 | N88: 3.51 | O88: 2015
A89: 3 | B89: SR | C89: 147 | D89: 1 | F89: P | G89: 9 | H89: 10 | I89: 105.42 | J89: 89.79 | K89: 0.05 | L89: 2.8 | M89: 3.85 | N89: 3.5 | O89: 2015
...

Sheet Carroll
I5: Region 4
A6: Pavement Management System | I6: Carroll County
I7: (1.0 mile sections)
A8: County | B8: Route | C8: Route # | D8: County Sequence | E8: Special Case | F8: Direction | G8: From Log Mile | H8: To Log Mile | I8: IRI | J8: HC IRI | K8: Rut Depth | L8: PSI | M8: PDI | N8: PQI | O8: Year
A9: 9 | B9: I | C9: 40 | D9: 1 | F9: M | G9: 0 | H9: 0.66 | I9: 41.94 | J9: 33.08 | K9: 0.11 | L9: 3.97 | M9: 3.36 | N9: 3.53 | O9: 2016
A10: 9 | B10: I | C10: 40 | D10: 1 | F10: P | G10: 0 | H10: 0.66 | I10: 35.2 | J10: 26.36 | K10: 0.11 | L10: 4.12 | M10: 4.15 | N10: 4.14 | O10: 2016
A11: 9 | B11: SR | C11: 1 | D11: 1 | F11: P | G11: 0 | H11: 1 | I11: 59.73 | J11: 52.47 | K11: 0.07 | L11: 3.6 | M11: 4.31 | N11: 4.08 | O11: 2015
A12: 9 | B12: SR | C12: 1 | D12: 1 | F12: P | G12: 1 | H12: 2 | I12: 81.71 | J12: 73.43 | K12: 0.07 | L12: 3.19 | M12: 4.33 | N12: 3.95 | O12: 2015
A13: 9 | B13: SR | C13: 1 | D13: 1 | F13: P | G13: 2 | H13: 3 | I13: 79.45 | J13: 69.6 | K13: 0.07 | L13: 3.23 | M13: 4.41 | N13: 4.02 | O13: 2015
A14: 9 | B14: SR | C14: 1 | D14: 1 | F14: P | G14: 3 | H14: 4 | I14: 61.76 | J14: 53.19 | K14: 0.06 | L14: 3.56 | M14: 4.24 | N14: 4.02 | O14: 2015
A15: 9 | B15: SR | C15: 1 | D15: 1 | F15: P | G15: 4 | H15: 5 | I15: 52.79 | J15: 44.39 | K15: 0.05 | L15: 3.74 | M15: 4.19 | N15: 4.05 | O15: 2015
A16: 9 | B16: SR | C16: 1 | D16: 1 | F16: P | G16: 5 | H16: 6 | I16: 57.72 | J16: 49.77 | K16: 0.06 | L16: 3.64 | M16: 4.27 | N16: 4.07 | O16: 2015
A17: 9 | B17: SR | C17: 1 | D17: 1 | F17: P | G17: 6 | H17: 7 | I17: 69.59 | J17: 58.73 | K17: 0.07 | L17: 3.41 | M17: 4.4 | N17: 4.08 | O17: 2015
A18: 9 | B18: SR | C18: 1 | D18: 1 | F18: P | G18: 7 | H18: 8 | I18: 70.12 | J18: 61.1 | K18: 0.05 | L18: 3.4 | M18: 4.42 | N18: 4.09 | O18: 2015
A19: 9 | B19: SR | C19: 1 | D19: 1 | F19: P | G19: 8 | H19: 9 | I19: 76.65 | J19: 64.05 | K19: 0.06 | L19: 3.28 | M19: 4.16 | N19: 3.87 | O19: 2015
A20: 9 | B20: SR | C20: 1 | D20: 1 | F20: P | G20: 9 | H20: 10 | I20: 95.93 | J20: 82.74 | K20: 0.1 | L20: 2.95 | M20: 2.72 | N20: 2.79 | O20: 2015
... A43: 9 | B43: SR | C43: 1 | D43: 1 | F43: P | G43: 32 | H43: 32.37 | I43: 118.2 | J43: 103.78 | K43: 0.24 | L43: 2.61 | M43: 0.96 | N43: 1.3 | O43: 2015
A44: 9 | B44: SR | C44: 1 | D44: 1 | E44: WB | F44: P | G44: 0 | H44: 0.08 | I44: 276.96 | J44: 225 | K44: 0.11 | L44: 1.09 | M44: 2.66 | N44: 2.04 | O44: 2015
A45: 9 | B45: SR | C45: 22 | D45: 1 | F45: P | G45: 0 | H45: 1 | I45: 70.12 | J45: 61.06 | K45: 0.09 | L45: 3.4 | M45: 4.51 | N45: 4.14 | O45: 2016
A46: 9 | B46: SR | C46: 22 | D46: 1 | F46: P | G46: 1 | H46: 2 | I46: 63.3 | J46: 53.61 | K46: 0.1 | L46: 3.53 | M46: 4.8 | N46: 4.38 | O46: 2016
A47: 9 | B47: SR | C47: 22 | D47: 1 | F47: P | G47: 2 | H47: 3 | I47: 62.78 | J47: 54.4 | K47: 0.08 | L47: 3.54 | M47: 4.53 | N47: 4.21 | O47: 2016
A48: 9 | B48: SR | C48: 22 | D48: 1 | F48: P | G48: 3 | H48: 4 | I48: 49.9 | J48: 43.78 | K48: 0.09 | L48: 3.8 | M48: 4.66 | N48: 4.38 | O48: 2016
A49: 9 | B49: SR | C49: 22 | D49: 1 | F49: P | G49: 4 | H49: 5 | I49: 112.71 | J49: 93.07 | K49: 0.1 | L49: 2.69 | M49: 3.66 | N49: 3.34 | O49: 2016
A50: 9 | B50: SR | C50: 22 | D50: 1 | F50: P | G50: 5 | H50: 6 | I50: 166.6 | J50: 136.19 | K50: 0.13 | L50: 2 | M50: 2.08 | N50: 2.06 | O50: 2016
A51: 9 | B51: SR | C51: 22 | D51: 1 | F51: P | G51: 6 | H51: 7 | I51: 143.57 | J51: 115.94 | K51: 0.1 | L51: 2.27 | M51: 2.25 | N51: 2.26 | O51: 2016
A52: 9 | B52: SR | C52: 22 | D52: 1 | F52: P | G52: 7 | H52: 8 | I52: 134.97 | J52: 110.19 | K52: 0.1 | L52: 2.38 | M52: 2.6 | N52: 2.53 | O52: 2016
A53: 9 | B53: SR | C53: 22 | D53: 1 | F53: P | G53: 8 | H53: 9 | I53: 148.44 | J53: 117.67 | K53: 0.12 | L53: 2.21 | M53: 2.3 | N53: 2.27 | O53: 2016
A54: 9 | B54: SR | C54: 22 | D54: 1 | F54: P | G54: 9 | H54: 10 | I54: 79.45 | J54: 67.31 | K54: 0.09 | L54: 3.23 | M54: 4.37 | N54: 3.99 | O54: 2016
A55: 9 | B55: SR | C55: 22 | D55: 1 | F55: P | G55: 10 | H55: 11 | I55: 55.73 | J55: 49.42 | K55: 0.06 | L55: 3.68 | M55: 4.95 | N55: 4.53 | O55: 2016
A56: 9 | B56: SR | C56: 22 | D56: 1 | F56: P | G56: 11 | H56: 12 | I56: 106.72 | J56: 87.95 | K56: 0.07 | L56: 2.78 | M56: 4.8 | N56: 4.07 | O56: 2016
... A70: 9 | B70: SR | C70: 22 | D70: 1 | F70: P | G70: 25 | H70: 25.09 | I70: 100.93 | J70: 83.2 | K70: 0.16 | L70: 2.87 | M70: 1.28 | N70: 1.63 | O70: 2016
A71: 9 | B71: SR | C71: 22 | D71: 1 | E71: BYP | F71: P | G71: 0 | H71: 1 | I71: 105.42 | J71: 82.21 | K71: 0.15 | L71: 2.8 | M71: 1.35 | N71: 1.68 | O71: 2016
A72: 9 | B72: SR | C72: 22 | D72: 1 | E72: BYP | F72: P | G72: 1 | H72: 2 | I72: 118.2 | J72: 94.35 | K72: 0.16 | L72: 2.61 | M72: 1.71 | N72: 1.94 | O72: 2016
A73: 9 | B73: SR | C73: 22 | D73: 1 | E73: BYP | F73: P | G73: 2 | H73: 3 | I73: 126.03 | J73: 100.26 | K73: 0.11 | L73: 2.5 | M73: 2.15 | N73: 2.25 | O73: 2016
A74: 9 | B74: SR | C74: 22 | D74: 1 | E74: BYP | F74: P | G74: 3 | H74: 3.59 | I74: 111.36 | J74: 88.18 | K74: 0.11 | L74: 2.71 | M74: 1.98 | N74: 2.18 | O74: 2016
A75: 9 | B75: SR | C75: 22 | D75: 1 | E75: SB | F75: P | G75: 0 | H75: 0.53 | I75: 154.3 | J75: 168.24 | K75: 0.06 | L75: 2.14 | M75: 3.59 | N75: 3.07 | O75: 2015
A76: 9 | B76: SR | C76: 76 | D76: 1 | F76: P | G76: 0 | H76: 1 | I76: 120.3 | J76: 108.58 | K76: 0.29 | L76: 2.58 | M76: 3.54 | N76: 3.22 | O76: 2016
A77: 9 | B77: SR | C77: 76 | D77: 1 | F77: P | G77: 1 | H77: 2 | I77: 116.12 | J77: 103.69 | K77: 0.31 | L77: 2.64 | M77: 3.48 | N77: 3.2 | O77: 2016
A78: 9 | B78: SR | C78: 76 | D78: 1 | F78: P | G78: 2 | H78: 3 | I78: 128.96 | J78: 109.09 | K78: 0.26 | L78: 2.46 | M78: 3.43 | N78: 3.1 | O78: 2016
A79: 9 | B79: SR | C79: 76 | D79: 1 | F79: P | G79: 3 | H79: 4 | I79: 124.58 | J79: 107.75 | K79: 0.22 | L79: 2.52 | M79: 3.34 | N79: 3.07 | O79: 2016
...

Sheet Chester
I5: Region 4
A6: Pavement Management System | I6: Chester County
I7: (1.0 mile sections)
A8: County | B8: Route | C8: Route # | D8: County Sequence | E8: Special Case | F8: Direction | G8: From Log Mile | H8: To Log Mile | I8: IRI | J8: HC IRI | K8: Rut Depth | L8: PSI | M8: PDI | N8: PQI | O8: Year
A9: 12 | B9: SR | C9: 5 | D9: 1 | F9: P | G9: 0 | H9: 0.11 | I9: 38.31 | J9: 30.52 | K9: 0.06 | L9: 4.05 | M9: 4.69 | N9: 4.49 | O9: 2016
A10: 12 | B10: SR | C10: 5 | D10: 2 | F10: P | G10: 0 | H10: 1 | I10: 33.44 | J10: 27.42 | K10: 0.05 | L10: 4.16 | M10: 4.73 | N10: 4.55 | O10: 2016
A11: 12 | B11: SR | C11: 5 | D11: 2 | F11: P | G11: 1 | H11: 2 | I11: 36.53 | J11: 29.97 | K11: 0.05 | L11: 4.09 | M11: 4.81 | N11: 4.58 | O11: 2016
A12: 12 | B12: SR | C12: 5 | D12: 2 | F12: P | G12: 2 | H12: 3 | I12: 39.21 | J12: 33.46 | K12: 0.04 | L12: 4.03 | M12: 4.8 | N12: 4.55 | O12: 2016
A13: 12 | B13: SR | C13: 5 | D13: 2 | F13: P | G13: 3 | H13: 4 | I13: 38.76 | J13: 33.41 | K13: 0.05 | L13: 4.04 | M13: 4.8 | N13: 4.56 | O13: 2016
A14: 12 | B14: SR | C14: 5 | D14: 2 | F14: P | G14: 4 | H14: 5 | I14: 57.72 | J14: 51.21 | K14: 0.06 | L14: 3.64 | M14: 4.68 | N14: 4.34 | O14: 2016
A15: 12 | B15: SR | C15: 5 | D15: 2 | F15: P | G15: 5 | H15: 6 | I15: 41.94 | J15: 34.72 | K15: 0.07 | L15: 3.97 | M15: 4.76 | N15: 4.51 | O15: 2016
A16: 12 | B16: SR | C16: 5 | D16: 2 | F16: P | G16: 6 | H16: 7 | I16: 33 | J16: 26.76 | K16: 0.06 | L16: 4.17 | M16: 4.77 | N16: 4.58 | O16: 2016
A17: 12 | B17: SR | C17: 5 | D17: 2 | F17: P | G17: 7 | H17: 8 | I17: 36.97 | J17: 30.26 | K17: 0.05 | L17: 4.08 | M17: 4.83 | N17: 4.59 | O17: 2016
A18: 12 | B18: SR | C18: 5 | D18: 2 | F18: P | G18: 8 | H18: 9 | I18: 37.42 | J18: 31.63 | K18: 0.05 | L18: 4.07 | M18: 4.79 | N18: 4.56 | O18: 2016
A19: 12 | B19: SR | C19: 5 | D19: 2 | F19: P | G19: 9 | H19: 9.63 | I19: 44.71 | J19: 39.74 | K19: 0.05 | L19: 3.91 | M19: 4.81 | N19: 4.52 | O19: 2016
A20: 12 | B20: SR | C20: 22 | D20: 1 | F20: P | G20: 0 | H20: 1 | I20: 82.86 | J20: 66.15 | K20: 0.14 | L20: 3.17 | M20: 1.9 | N20: 2.22 | O20: 2015
... A27: 12 | B27: SR | C27: 22 | D27: 1 | F27: P | G27: 7 | H27: 7.81 | I27: 73.36 | J27: 58.29 | K27: 0.15 | L27: 3.34 | M27: 1.7 | N27: 2.08 | O27: 2015
A28: 12 | B28: SR | C28: 22 | D28: 1 | E28: ALT | F28: P | G28: 0 | H28: 1 | I28: 130.44 | J28: 102.61 | K28: 0.14 | L28: 2.44 | M28: 2.07 | N28: 2.17 | O28: 2015
A29: 12 | B29: SR | C29: 22 | D29: 1 | E29: ALT | F29: P | G29: 1 | H29: 2 | I29: 141.19 | J29: 119.29 | K29: 0.14 | L29: 2.3 | M29: 2.17 | N29: 2.21 | O29: 2015
A30: 12 | B30: SR | C30: 22 | D30: 1 | E30: ALT | F30: P | G30: 2 | H30: 3 | I30: 136.5 | J30: 110.46 | K30: 0.13 | L30: 2.36 | M30: 2.21 | N30: 2.25 | O30: 2015
A31: 12 | B31: SR | C31: 22 | D31: 1 | E31: ALT | F31: P | G31: 3 | H31: 4 | I31: 141.19 | J31: 113.77 | K31: 0.13 | L31: 2.3 | M31: 1.87 | N31: 1.99 | O31: 2015
A32: 12 | B32: SR | C32: 22 | D32: 1 | E32: ALT | F32: P | G32: 4 | H32: 5 | I32: 128.96 | J32: 100.61 | K32: 0.13 | L32: 2.46 | M32: 1.81 | N32: 1.98 | O32: 2015
A33: 12 | B33: SR | C33: 22 | D33: 1 | E33: ALT | F33: P | G33: 5 | H33: 6 | I33: 108.04 | J33: 88.3 | K33: 0.12 | L33: 2.76 | M33: 1.63 | N33: 1.91 | O33: 2015
A34: 12 | B34: SR | C34: 22 | D34: 1 | E34: ALT | F34: P | G34: 6 | H34: 7 | I34: 112.03 | J34: 90.59 | K34: 0.11 | L34: 2.7 | M34: 1.77 | N34: 2.01 | O34: 2015
A35: 12 | B35: SR | C35: 22 | D35: 1 | E35: ALT | F35: P | G35: 7 | H35: 8 | I35: 102.2 | J35: 80.45 | K35: 0.13 | L35: 2.85 | M35: 2.15 | N35: 2.34 | O35: 2015
A36: 12 | B36: SR | C36: 22 | D36: 1 | E36: ALT | F36: P | G36: 8 | H36: 9 | I36: 108.7 | J36: 95.57 | K36: 0.1 | L36: 2.75 | M36: 2.75 | N36: 2.75 | O36: 2015
A37: 12 | B37: SR | C37: 22 | D37: 1 | E37: ALT | F37: P | G37: 9 | H37: 10 | I37: 104.13 | J37: 85.09 | K37: 0.13 | L37: 2.82 | M37: 2.29 | N37: 2.44 | O37: 2015
A38: 12 | B38: SR | C38: 22 | D38: 1 | E38: ALT | F38: P | G38: 10 | H38: 11 | I38: 115.43 | J38: 98.74 | K38: 0.13 | L38: 2.65 | M38: 2.29 | N38: 2.39 | O38: 2015
A39: 12 | B39: SR | C39: 22 | D39: 1 | E39: ALT | F39: P | G39: 11 | H39: 12 | I39: 134.97 | J39: 119.25 | K39: 0.15 | L39: 2.38 | M39: 3.17 | N39: 2.91 | O39: 2015
... A42: 12 | B42: SR | C42: 22 | D42: 1 | E42: ALT | F42: P | G42: 14 | H42: 14.95 | I42: 121.01 | J42: 96.97 | K42: 0.11 | L42: 2.57 | M42: 1.11 | N42: 1.43 | O42: 2015
A43: 12 | B43: SR | C43: 100 | D43: 1 | F43: P | G43: 0 | H43: 1 | I43: 65.37 | J43: 54.97 | K43: 0.21 | L43: 3.49 | M43: 3.65 | N43: 3.6 | O43: 2015
A44: 12 | B44: SR | C44: 100 | D44: 1 | F44: P | G44: 1 | H44: 2 | I44: 60.23 | J44: 49.48 | K44: 0.19 | L44: 3.59 | M44: 2.46 | N44: 2.76 | O44: 2015
A45: 12 | B45: SR | C45: 100 | D45: 1 | F45: P | G45: 2 | H45: 3 | I45: 75.55 | J45: 67.37 | K45: 0.2 | L45: 3.3 | M45: 2.83 | N45: 2.96 | O45: 2015
A46: 12 | B46: SR | C46: 100 | D46: 1 | F46: P | G46: 3 | H46: 4 | I46: 81.71 | J46: 73.64 | K46: 0.2 | L46: 3.19 | M46: 2.84 | N46: 2.94 | O46: 2015
A47: 12 | B47: SR | C47: 100 | D47: 1 | F47: P | G47: 4 | H47: 5 | I47: 68.52 | J47: 61.16 | K47: 0.16 | L47: 3.43 | M47: 2.72 | N47: 2.92 | O47: 2015
A48: 12 | B48: SR | C48: 100 | D48: 1 | F48: P | G48: 5 | H48: 6 | I48: 106.72 | J48: 91.52 | K48: 0.2 | L48: 2.78 | M48: 3.44 | N48: 3.23 | O48: 2015
A49: 12 | B49: SR | C49: 100 | D49: 1 | F49: P | G49: 6 | H49: 7 | I49: 158.6 | J49: 133.79 | K49: 0.22 | L49: 2.09 | M49: 0.95 | N49: 1.2 | O49: 2015
A50: 12 | B50: SR | C50: 100 | D50: 1 | F50: P | G50: 7 | H50: 8 | I50: 131.19 | J50: 117.22 | K50: 0.17 | L50: 2.43 | M50: 1.47 | N50: 1.71 | O50: 2015
A51: 12 | B51: SR | C51: 100 | D51: 1 | F51: P | G51: 8 | H51: 9 | I51: 73.9 | J51: 65.02 | K51: 0.05 | L51: 3.33 | M51: 4.75 | N51: 4.27 | O51: 2015
A52: 12 | B52: SR | C52: 100 | D52: 1 | F52: P | G52: 9 | H52: 10 | I52: 59.22 | J52: 50.87 | K52: 0.04 | L52: 3.61 | M52: 4.77 | N52: 4.39 | O52: 2015
...

Sheet Crockett
I5: Region 4
A6: Pavement Management System | I6: Crockett County
I7: (1.0 mile sections)
A8: County | B8: Route | C8: Route # | D8: County Sequence | E8: Special Case | F8: Direction | G8: From Log Mile | H8: To Log Mile | I8: IRI | J8: HC IRI | K8: Rut Depth | L8: PSI | M8: PDI | N8: PQI | O8: Year
A9: 17 | B9: SR | C9: 20 | D9: 1 | F9: P | G9: 0 | H9: 1 | I9: 50.38 | J9: 42.55 | K9: 0.16 | L9: 3.79 | M9: 4.84 | N9: 4.5 | O9: 2016
A10: 17 | B10: SR | C10: 20 | D10: 1 | F10: P | G10: 1 | H10: 2 | I10: 56.23 | J10: 46.66 | K10: 0.12 | L10: 3.67 | M10: 4.87 | N10: 4.47 | O10: 2016
A11: 17 | B11: SR | C11: 20 | D11: 1 | F11: P | G11: 2 | H11: 3 | I11: 53.77 | J11: 43.31 | K11: 0.16 | L11: 3.72 | M11: 4.84 | N11: 4.47 | O11: 2016
A12: 17 | B12: SR | C12: 20 | D12: 1 | F12: P | G12: 3 | H12: 4 | I12: 41.48 | J12: 34.28 | K12: 0.13 | L12: 3.98 | M12: 4.76 | N12: 4.51 | O12: 2016
A13: 17 | B13: SR | C13: 20 | D13: 1 | F13: P | G13: 4 | H13: 5 | I13: 38.31 | J13: 30.43 | K13: 0.12 | L13: 4.05 | M13: 4.78 | N13: 4.55 | O13: 2016
A14: 17 | B14: SR | C14: 20 | D14: 1 | F14: P | G14: 5 | H14: 6 | I14: 43.32 | J14: 36.65 | K14: 0.13 | L14: 3.94 | M14: 4.88 | N14: 4.58 | O14: 2016
A15: 17 | B15: SR | C15: 20 | D15: 1 | F15: P | G15: 6 | H15: 7 | I15: 49.9 | J15: 42.46 | K15: 0.14 | L15: 3.8 | M15: 4.89 | N15: 4.53 | O15: 2016
A16: 17 | B16: SR | C16: 20 | D16: 1 | F16: P | G16: 7 | H16: 8 | I16: 46.58 | J16: 40.87 | K16: 0.08 | L16: 3.87 | M16: 4.83 | N16: 4.52 | O16: 2016
A17: 17 | B17: SR | C17: 20 | D17: 1 | F17: P | G17: 8 | H17: 9 | I17: 75 | J17: 65.96 | K17: 0.14 | L17: 3.31 | M17: 3.45 | N17: 3.41 | O17: 2016
A18: 17 | B18: SR | C18: 20 | D18: 1 | F18: P | G18: 9 | H18: 10 | I18: 60.23 | J18: 47.41 | K18: 0.13 | L18: 3.59 | M18: 2.59 | N18: 2.86 | O18: 2016
A19: 17 | B19: SR | C19: 20 | D19: 1 | F19: P | G19: 10 | H19: 11 | I19: 69.05 | J19: 54.61 | K19: 0.12 | L19: 3.42 | M19: 2.9 | N19: 3.05 | O19: 2016
A20: 17 | B20: SR | C20: 20 | D20: 1 | F20: P | G20: 11 | H20: 12 | I20: 57.72 | J20: 43.86 | K20: 0.13 | L20: 3.64 | M20: 3.09 | N20: 3.25 | O20: 2016
... A117: 17 | B117: SR | C117: 221 | D117: 1 | F117: P | G117: 7 | H117: 7.43 | I117: 106.07 | J117: 91.61 | K117: 0.12 | L117: 2.79 | M117: 3.05 | N117: 2.97 | O117: 2015

Sheet Decatur
I5: Region 4
A6: Pavement Management System | I6: Decatur County
I7: (1.0 mile sections)
A8: County | B8: Route | C8: Route # | D8: County Sequence | E8: Special Case | F8: Direction | G8: From Log Mile | H8: To Log Mile | I8: IRI | J8: HC IRI | K8: Rut Depth | L8: PSI | M8: PDI | N8: PQI | O8: Year
A9: 20 | B9: I | C9: 40 | D9: 1 | F9: M | G9: 0 | H9: 1 | I9: 41.94 | J9: 34.2 | K9: 0.17 | L9: 3.97 | M9: 3.37 | N9: 3.54 | O9: 2016
A10: 20 | B10: I | C10: 40 | D10: 1 | F10: M | G10: 1 | H10: 2 | I10: 39.21 | J10: 31 | K10: 0.13 | L10: 4.03 | M10: 3.22 | N10: 3.44 | O10: 2016
A11: 20 | B11: I | C11: 40 | D11: 1 | F11: M | G11: 2 | H11: 3 | I11: 38.76 | J11: 30.98 | K11: 0.15 | L11: 4.04 | M11: 3.51 | N11: 3.66 | O11: 2016
A12: 20 | B12: I | C12: 40 | D12: 1 | F12: M | G12: 3 | H12: 4 | I12: 41.48 | J12: 33.2 | K12: 0.17 | L12: 3.98 | M12: 2.46 | N12: 2.84 | O12: 2016
A13: 20 | B13: I | C13: 40 | D13: 1 | F13: M | G13: 4 | H13: 5 | I13: 39.66 | J13: 30.97 | K13: 0.17 | L13: 4.02 | M13: 2.48 | N13: 2.87 | O13: 2016
A14: 20 | B14: I | C14: 40 | D14: 1 | F14: M | G14: 5 | H14: 5.67 | I14: 41.94 | J14: 32.53 | K14: 0.17 | L14: 3.97 | M14: 2.81 | N14: 3.12 | O14: 2016
A15: 20 | B15: I | C15: 40 | D15: 1 | F15: P | G15: 0 | H15: 1 | I15: 44.71 | J15: 36.46 | K15: 0.12 | L15: 3.91 | M15: 3.03 | N15: 3.27 | O15: 2016
A16: 20 | B16: I | C16: 40 | D16: 1 | F16: P | G16: 1 | H16: 2 | I16: 39.21 | J16: 30.63 | K16: 0.14 | L16: 4.03 | M16: 3.77 | N16: 3.85 | O16: 2016
A17: 20 | B17: I | C17: 40 | D17: 1 | F17: P | G17: 2 | H17: 3 | I17: 34.76 | J17: 27.33 | K17: 0.1 | L17: 4.13 | M17: 3.85 | N17: 3.93 | O17: 2016
A18: 20 | B18: I | C18: 40 | D18: 1 | F18: P | G18: 3 | H18: 4 | I18: 33.44 | J18: 27.45 | K18: 0.12 | L18: 4.16 | M18: 4.13 | N18: 4.14 | O18: 2016
A19: 20 | B19: I | C19: 40 | D19: 1 | F19: P | G19: 4 | H19: 5 | I19: 33.88 | J19: 27.17 | K19: 0.13 | L19: 4.15 | M19: 3.88 | N19: 3.96 | O19: 2016
A20: 20 | B20: I | C20: 40 | D20: 1 | F20: P | G20: 5 | H20: 5.67 | I20: 33.88 | J20: 28.11 | K20: 0.12 | L20: 4.15 | M20: 4.27 | N20: 4.23 | O20: 2016
... A120: 20 | B120: SR | C120: 202 | D120: 1 | F120: P | G120: 16 | H120: 16.48 | I120: 175.92 | J120: 164.09 | K120: 0.13 | L120: 1.9 | M120: 4.22 | N120: 3.32 | O120: 2015

Sheet Dyer
I5: Region 4
A6: Pavement Management System | I6: Dyer County
I7: (1.0 mile sections)
A8: County | B8: Route | C8: Route # | D8: County Sequence | E8: Special Case | F8: Direction | G8: From Log Mile | H8: To Log Mile | I8: IRI | J8: HC IRI | K8: Rut Depth | L8: PSI | M8: PDI | N8: PQI | O8: Year
A9: 23 | B9: I | C9: 155 | D9: 1 | F9: M | G9: 0 | H9: 1 | I9: 145.18 | J9: 130.84 | K9: 0.07 | L9: 2.25 | M9: 4.45 | N9: 3.63 | O9: 2016
A10: 23 | B10: I | C10: 155 | D10: 1 | F10: M | G10: 1 | H10: 2 | I10: 48.94 | J10: 38.98 | K10: 0.09 | L10: 3.82 | M10: 3.34 | N10: 3.48 | O10: 2016
A11: 23 | B11: I | C11: 155 | D11: 1 | F11: M | G11: 2 | H11: 3 | I11: 33.44 | J11: 27.52 | K11: 0.11 | L11: 4.16 | M11: 3.91 | N11: 3.98 | O11: 2016
A12: 23 | B12: I | C12: 155 | D12: 1 | F12: M | G12: 3 | H12: 4 | I12: 41.94 | J12: 35.91 | K12: 0.14 | L12: 3.97 | M12: 3.11 | N12: 3.35 | O12: 2016
A13: 23 | B13: I | C13: 155 | D13: 1 | F13: M | G13: 4 | H13: 5 | I13: 40.57 | J13: 34.87 | K13: 0.14 | L13: 4 | M13: 2.94 | N13: 3.22 | O13: 2016
A14: 23 | B14: I | C14: 155 | D14: 1 | F14: M | G14: 5 | H14: 6 | I14: 48.94 | J14: 42.76 | K14: 0.14 | L14: 3.82 | M14: 3.25 | N14: 3.41 | O14: 2016
A15: 23 | B15: I | C15: 155 | D15: 1 | F15: M | G15: 6 | H15: 7 | I15: 41.94 | J15: 35.62 | K15: 0.14 | L15: 3.97 | M15: 3.78 | N15: 3.84 | O15: 2016
A16: 23 | B16: I | C16: 155 | D16: 1 | F16: M | G16: 7 | H16: 8 | I16: 46.11 | J16: 39.29 | K16: 0.13 | L16: 3.88 | M16: 3.86 | N16: 3.87 | O16: 2016
A17: 23 | B17: I | C17: 155 | D17: 1 | F17: M | G17: 8 | H17: 9 | I17: 38.31 | J17: 31.94 | K17: 0.09 | L17: 4.05 | M17: 3.83 | N17: 3.89 | O17: 2016
A18: 23 | B18: I | C18: 155 | D18: 1 | F18: M | G18: 9 | H18: 10 | I18: 38.76 | J18: 31.97 | K18: 0.13 | L18: 4.04 | M18: 4.18 | N18: 4.14 | O18: 2016
A19: 23 | B19: I | C19: 155 | D19: 1 | F19: M | G19: 10 | H19: 11 | I19: 36.53 | J19: 28.25 | K19: 0.19 | L19: 4.09 | M19: 4.39 | N19: 4.3 | O19: 2016
A20: 23 | B20: I | C20: 155 | D20: 1 | F20: M | G20: 11 | H20: 12 | I20: 33.44 | J20: 27.55 | K20: 0.16 | L20: 4.16 | M20: 4.43 | N20: 4.35 | O20: 2016
... A204: 23 | B204: SR | C204: 211 | D204: 1 | F204: P | G204: 17 | H204: 17.07 | I204: 51.34 | J204: 39 | K204: 0.04 | L204: 3.77 | M204: 4.59 | N204: 4.33 | O204: 2015

Sheet Fayette
I5: Region 4
A6: Pavement Management System | I6: Fayette County
I7: (1.0 mile sections)
A8: County | B8: Route | C8: Route # | D8: County Sequence | E8: Special Case | F8: Direction | G8: From Log Mile | H8: To Log Mile | I8: IRI | J8: HC IRI | K8: Rut Depth | L8: PSI | M8: PDI | N8: PQI | O8: Year
A9: 24 | B9: I | C9: 40 | D9: 1 | F9: M | G9: 0 | H9: 1 | I9: 41.03 | J9: 36.46 | K9: 0.06 | L9: 3.99 | M9: 4.18 | N9: 4.12 | O9: 2016
A10: 24 | B10: I | C10: 40 | D10: 1 | F10: M | G10: 1 | H10: 2 | I10: 47.05 | J10: 43.12 | K10: 0.08 | L10: 3.86 | M10: 3.97 | N10: 3.94 | O10: 2016
A11: 24 | B11: I | C11: 40 | D11: 1 | F11: M | G11: 2 | H11: 3 | I11: 81.14 | J11: 71.41 | K11: 0.11 | L11: 3.2 | M11: 3.65 | N11: 3.51 | O11: 2016
A12: 24 | B12: I | C12: 40 | D12: 1 | F12: M | G12: 3 | H12: 4 | I12: 76.65 | J12: 68.88 | K12: 0.1 | L12: 3.28 | M12: 3.88 | N12: 3.69 | O12: 2016
A13: 24 | B13: I | C13: 40 | D13: 1 | F13: M | G13: 4 | H13: 5 | I13: 54.26 | J13: 48.78 | K13: 0.06 | L13: 3.71 | M13: 3.87 | N13: 3.82 | O13: 2016
A14: 24 | B14: I | C14: 40 | D14: 1 | F14: M | G14: 5 | H14: 6 | I14: 49.42 | J14: 44.37 | K14: 0.07 | L14: 3.81 | M14: 3.97 | N14: 3.92 | O14: 2016
A15: 24 | B15: I | C15: 40 | D15: 1 | F15: M | G15: 6 | H15: 7 | I15: 51.34 | J15: 44.76 | K15: 0.09 | L15: 3.77 | M15: 3.96 | N15: 3.9 | O15: 2016
A16: 24 | B16: I | C16: 40 | D16: 1 | F16: M | G16: 7 | H16: 8 | I16: 59.73 | J16: 54.18 | K16: 0.1 | L16: 3.6 | M16: 3.7 | N16: 3.67 | O16: 2016
A17: 24 | B17: I | C17: 40 | D17: 1 | F17: M | G17: 8 | H17: 9 | I17: 41.48 | J17: 33.93 | K17: 0.06 | L17: 3.98 | M17: 4.41 | N17: 4.28 | O17: 2016
A18: 24 | B18: I | C18: 40 | D18: 1 | F18: M | G18: 9 | H18: 10 | I18: 40.12 | J18: 32.14 | K18: 0.06 | L18: 4.01 | M18: 3.99 | N18: 4 | O18: 2016
A19: 24 | B19: I | C19: 40 | D19: 1 | F19: M | G19: 10 | H19: 11 | I19: 45.64 | J19: 35.48 | K19: 0.07 | L19: 3.89 | M19: 3.36 | N19: 3.51 | O19: 2016
A20: 24 | B20: I | C20: 40 | D20: 1 | F20: M | G20: 11 | H20: 12 | I20: 46.58 | J20: 36.6 | K20: 0.07 | L20: 3.87 | M20: 2.85 | N20: 3.12 | O20: 2016
... A243: 24 | B243: SR | C243: 385 | D243: 3 | F243: P | G243: 1 | H243: 1.28 | I243: 42.86 | J243: 36.53 | K243: 0.06 | L243: 3.95 | M243: 4.39 | N243: 4.25 | O243: 2016

Sheet Gibson
I5: Region 4
A6: Pavement Management System | I6: Gibson County
I7: (1.0 mile sections)
A8: County | B8: Route | C8: Route # | D8: County Sequence | E8: Special Case | F8: Direction | G8: From Log Mile | H8: To Log Mile | I8: IRI | J8: HC IRI | K8: Rut Depth | L8: PSI | M8: PDI | N8: PQI | O8: Year
A9: 27 | B9: SR | C9: 5 | D9: 1 | F9: P | G9: 0 | H9: 1 | I9: 165.69 | J9: 143.29 | K9: 0.21 | L9: 2.01 | M9: 2.39 | N9: 2.27 | O9: 2016
A10: 27 | B10: SR | C10: 5 | D10: 1 | F10: P | G10: 1 | H10: 2 | I10: 77.77 | J10: 79.61 | K10: 0.06 | L10: 3.26 | M10: 3.94 | N10: 3.72 | O10: 2015
A11: 27 | B11: SR | C11: 5 | D11: 1 | F11: P | G11: 2 | H11: 3 | I11: 94.7 | J11: 84.61 | K11: 0.07 | L11: 2.97 | M11: 3.8 | N11: 3.53 | O11: 2015
A12: 27 | B12: SR | C12: 5 | D12: 1 | F12: P | G12: 3 | H12: 4 | I12: 152.61 | J12: 137.4 | K12: 0.1 | L12: 2.16 | M12: 3.71 | N12: 3.15 | O12: 2015
A13: 27 | B13: SR | C13: 5 | D13: 1 | F13: P | G13: 4 | H13: 5 | I13: 124.58 | J13: 105.03 | K13: 0.21 | L13: 2.52 | M13: 2.91 | N13: 2.79 | O13: 2016
A14: 27 | B14: SR | C14: 5 | D14: 1 | F14: P | G14: 5 | H14: 6 | I14: 82.86 | J14: 69.39 | K14: 0.23 | L14: 3.17 | M14: 3.3 | N14: 3.26 | O14: 2016
A15: 27 | B15: SR | C15: 5 | D15: 1 | F15: P | G15: 6 | H15: 7 | I15: 74.45 | J15: 65.4 | K15: 0.12 | L15: 3.32 | M15: 3.49 | N15: 3.44 | O15: 2016
A16: 27 | B16: SR | C16: 5 | D16: 1 | F16: P | G16: 7 | H16: 8 | I16: 85.75 | J16: 75.02 | K16: 0.16 | L16: 3.12 | M16: 3.29 | N16: 3.24 | O16: 2016
A17: 27 | B17: SR | C17: 5 | D17: 1 | F17: P | G17: 8 | H17: 9 | I17: 93.48 | J17: 81.92 | K17: 0.14 | L17: 2.99 | M17: 2.8 | N17: 2.86 | O17: 2016
A18: 27 | B18: SR | C18: 5 | D18: 1 | F18: P | G18: 9 | H18: 10 | I18: 92.88 | J18: 81.1 | K18: 0.18 | L18: 3 | M18: 2.47 | N18: 2.62 | O18: 2016
A19: 27 | B19: SR | C19: 5 | D19: 1 | F19: P | G19: 10 | H19: 11 | I19: 103.48 | J19: 88.39 | K19: 0.35 | L19: 2.83 | M19: 2.5 | N19: 2.59 | O19: 2016
A20: 27 | B20: SR | C20: 5 | D20: 1 | F20: P | G20: 11 | H20: 12 | I20: 127.49 | J20: 107.34 | K20: 0.26 | L20: 2.48 | M20: 2.53 | N20: 2.51 | O20: 2016
... A147: 27 | B147: SR | C147: 104 | D147: 1 | F147: P | G147: 17 | H147: 17.92 | I147: 110.02 | J147: 98.92 | K147: 0.22 | L147: 2.73 | M147: 3.47 | N147: 3.23 | O147: 2016
A148: 27 | B148: SR | C148: 104 | D148: 1 | E148: WB | F148: P | G148: 0 | H148: 0.17 | I148: 217.7 | J148: 184.34 | K148: 0.1 | L148: 1.51 | M148: 2.1 | N148: 1.9 | O148: 2015
A149: 27 | B149: SR | C149: 105 | D149: 1 | F149: P | G149: 0 | H149: 1 | I149: 86.33 | J149: 73.02 | K149: 0.09 | L149: 3.11 | M149: 3.52 | N149: 3.39 | O149: 2015
A150: 27 | B150: SR | C150: 105 | D150: 1 | F150: P | G150: 1 | H150: 2 | I150: 95.93 | J150: 81.41 | K150: 0.1 | L150: 2.95 | M150: 3.08 | N150: 3.04 | O150: 2015
A151: 27 | B151: SR | C151: 105 | D151: 1 | F151: P | G151: 2 | H151: 3 | I151: 121.01 | J151: 106.13 | K151: 0.09 | L151: 2.57 | M151: 3.32 | N151: 3.07 | O151: 2015
A152: 27 | B152: SR | C152: 105 | D152: 1 | F152: P | G152: 3 | H152: 4 | I152: 100.3 | J152: 88.43 | K152: 0.07 | L152: 2.88 | M152: 3.72 | N152: 3.45 | O152: 2015
A153: 27 | B153: SR | C153: 105 | D153: 1 | F153: P | G153: 4 | H153: 5 | I153: 99.04 | J153: 84.19 | K153: 0.09 | L153: 2.9 | M153: 3.39 | N153: 3.23 | O153: 2015
A154: 27 | B154: SR | C154: 105 | D154: 1 | F154: P | G154: 5 | H154: 6 | I154: 121.71 | J154: 103.14 | K154: 0.09 | L154: 2.56 | M154: 2.99 | N154: 2.85 | O154: 2015
A155: 27 | B155: SR | C155: 105 | D155: 1 | F155: P | G155: 6 | H155: 7 | I155: 113.39 | J155: 95.56 | K155: 0.11 | L155: 2.68 | M155: 3.32 | N155: 3.11 | O155: 2015
A156: 27 | B156: SR | C156: 105 | D156: 1 | F156: P | G156: 7 | H156: 8 | I156: 115.43 | J156: 97.91 | K156: 0.09 | L156: 2.65 | M156: 2.99 | N156: 2.88 | O156: 2015
A157: 27 | B157: SR | C157: 105 | D157: 1 | F157: P | G157: 8 | H157: 9 | I157: 131.94 | J157: 107.1 | K157: 0.1 | L157: 2.42 | M157: 2.49 | N157: 2.47 | O157: 2015
A158: 27 | B158: SR | C158: 105 | D158: 1 | F158: P | G158: 9 | H158: 10 | I158: 109.36 | J158: 91.22 | K158: 0.07 | L158: 2.74 | M158: 3.76 | N158: 3.42 | O158: 2015
A159: 27 | B159: SR | C159: 105 | D159: 1 | F159: P | G159: 10 | H159: 11 | I159: 150.93 | J159: 135.73 | K159: 0.12 | L159: 2.18 | M159: 2.95 | N159: 2.69 | O159: 2015
A160: 27 | B160: SR | C160: 105 | D160: 1 | F160: P | G160: 11 | H160: 12 | I160: 117.5 | J160: 100.23 | K160: 0.1 | L160: 2.62 | M160: 2.6 | N160: 2.61 | O160: 2015
... A271: 27 | B271: SR | C271: 457 | D271: 1 | F271: P | G271: 4 | H271: 4.02 | I271: 143.57 | J271: 129.7 | K271: 0.14 | L271: 2.27 | M271: 3.57 | N271: 3.12 | O271: 2016

Sheet Hardeman
I5: Region 4
A6: Pavement Management System | I6: Hardeman County
I7: (1.0 mile sections)
A8: County | B8: Route | C8: Route # | D8: County Sequence | E8: Special Case | F8: Direction | G8: From Log Mile | H8: To Log Mile | I8: IRI | J8: HC IRI | K8: Rut Depth | L8: PSI | M8: PDI | N8: PQI | O8: Year
A9: 35 | B9: SR | C9: 15 | D9: 1 | F9: P | G9: 0 | H9: 1 | I9: 43.78 | J9: 35.4 | K9: 0.05 | L9: 3.93 | M9: 4.6 | N9: 4.39 | O9: 2016
A10: 35 | B10: SR | C10: 15 | D10: 1 | F10: P | G10: 1 | H10: 2 | I10: 53.77 | J10: 48.65 | K10: 0.04 | L10: 3.72 | M10: 4.46 | N10: 4.22 | O10: 2015
A11: 35 | B11: SR | C11: 15 | D11: 1 | F11: P | G11: 2 | H11: 3 | I11: 67.47 | J11: 59.69 | K11: 0.04 | L11: 3.45 | M11: 4.41 | N11: 4.1 | O11: 2015
A12: 35 | B12: SR | C12: 15 | D12: 1 | F12: P | G12: 3 | H12: 4 | I12: 56.23 | J12: 49.67 | K12: 0.04 | L12: 3.67 | M12: 4.47 | N12: 4.21 | O12: 2015
A13: 35 | B13: SR | C13: 15 | D13: 1 | F13: P | G13: 4 | H13: 5 | I13: 51.34 | J13: 43.73 | K13: 0.06 | L13: 3.77 | M13: 4.18 | N13: 4.05 | O13: 2016
A14: 35 | B14: SR | C14: 15 | D14: 1 | F14: P | G14: 5 | H14: 6 | I14: 34.76 | J14: 28.41 | K14: 0.08 | L14: 4.13 | M14: 4.86 | N14: 4.63 | O14: 2016
A15: 35 | B15: SR | C15: 15 | D15: 1 | F15: P | G15: 6 | H15: 7 | I15: 32.57 | J15: 26.2 | K15: 0.07 | L15: 4.18 | M15: 4.84 | N15: 4.63 | O15: 2016
A16: 35 | B16: SR | C16: 15 | D16: 1 | F16: P | G16: 7 | H16: 8 | I16: 32.57 | J16: 27.02 | K16: 0.07 | L16: 4.18 | M16: 4.96 | N16: 4.71 | O16: 2016
A17: 35 | B17: SR | C17: 15 | D17: 1 | F17: P | G17: 8 | H17: 9 | I17: 37.42 | J17: 30.75 | K17: 0.06 | L17: 4.07 | M17: 4.83 | N17: 4.59 | O17: 2016
A18: 35 | B18: SR | C18: 15 | D18: 1 | F18: P | G18: 9 | H18: 10 | I18: 49.9 | J18: 41.3 | K18: 0.09 | L18: 3.8 | M18: 4.12 | N18: 4.02 | O18: 2016
A19: 35 | B19: SR | C19: 15 | D19: 1 | F19: P | G19: 10 | H19: 11 | I19: 58.72 | J19: 49.88 | K19: 0.1 | L19: 3.62 | M19: 3.63 | N19: 3.63 | O19: 2016
A20: 35 | B20: SR | C20: 15 | D20: 1 | F20: P | G20: 11 | H20: 12 | I20: 78.32 | J20: 64.22 | K20: 0.09 | L20: 3.25 | M20: 2.92 | N20: 3.02 | O20: 2016
... A161: 35 | B161: SR | C161: 368 | D161: 1 | F161: P | G161: 1 | H161: 1.72 | I161: 94.7 | J161: 79.08 | K161: 0.07 | L161: 2.97 | M161: 3.69 | N161: 3.46 | O161: 2015

Sheet Hardin
I5: Region 4
A6: Pavement Management System | I6: Hardin County
I7: (1.0 mile sections)
A8: County | B8: Route | C8: Route # | D8: County Sequence | E8: Special Case | F8: Direction | G8: From Log Mile | H8: To Log Mile | I8: IRI | J8: HC IRI | K8: Rut Depth | L8: PSI | M8: PDI | N8: PQI | O8: Year
A9: 36 | B9: SR | C9: 15 | D9: 1 | F9: P | G9: 0 | H9: 1 | I9: 78.88 | J9: 61.26 | K9: 0.18 | L9: 3.24 | M9: 2.3 | N9: 2.55 | O9: 2016
A10: 36 | B10: SR | C10: 15 | D10: 1 | F10: P | G10: 1 | H10: 2 | I10: 64.85 | J10: 50.66 | K10: 0.19 | L10: 3.5 | M10: 1.31 | N10: 1.76 | O10: 2016
A11: 36 | B11: SR | C11: 15 | D11: 1 | F11: P | G11: 2 | H11: 3 | I11: 78.88 | J11: 64.23 | K11: 0.18 | L11: 3.24 | M11: 1.81 | N11: 2.16 | O11: 2016
A12: 36 | B12: SR | C12: 15 | D12: 1 | F12: P | G12: 3 | H12: 4 | I12: 82.28 | J12: 71.76 | K12: 0.14 | L12: 3.18 | M12: 4.31 | N12: 3.93 | O12: 2016
A13: 36 | B13: SR | C13: 15 | D13: 1 | F13: P | G13: 4 | H13: 5 | I13: 160.34 | J13: 135.86 | K13: 0.23 | L13: 2.07 | M13: 2.58 | N13: 2.42 | O13: 2016
A14: 36 | B14: SR | C14: 15 | D14: 1 | F14: P | G14: 5 | H14: 6 | I14: 121.71 | J14: 101.91 | K14: 0.18 | L14: 2.56 | M14: 1.78 | N14: 1.99 | O14: 2016
A15: 36 | B15: SR | C15: 15 | D15: 1 | F15: P | G15: 6 | H15: 7 | I15: 127.49 | J15: 105.98 | K15: 0.15 | L15: 2.48 | M15: 2.18 | N15: 2.27 | O15: 2016
A16: 36 | B16: SR | C16: 15 | D16: 1 | F16: P | G16: 7 | H16: 8 | I16: 141.98 | J16: 116.9 | K16: 0.18 | L16: 2.29 | M16: 2.86 | N16: 2.68 | O16: 2016
A17: 36 | B17: SR | C17: 15 | D17: 1 | F17: P | G17: 8 | H17: 9 | I17: 125.3 | J17: 105.87 | K17: 0.23 | L17: 2.51 | M17: 3.05 | N17: 2.88 | O17: 2016
A18: 36 | B18: SR | C18: 15 | D18: 1 | F18: P | G18: 9 | H18: 10 | I18: 77.77 | J18: 69.27 | K18: 0.12 | L18: 3.26 | M18: 2.38 | N18: 2.62 | O18: 2016
A19: 36 | B19: SR | C19: 15 | D19: 1 | F19: P | G19: 10 | H19: 11 | I19: 64.85 | J19: 58.21 | K19: 0.1 | L19: 3.5 | M19: 2.33 | N19: 2.63 | O19: 2016
A20: 36 | B20: SR | C20: 15 | D20: 1 | F20: P | G20: 11 | H20: 12 | I20: 53.77 | J20: 47.54 | K20: 0.11 | L20: 3.72 | M20: 3.71 | N20: 3.71 | O20: 2016
... A173: 36 | B173: SR | C173: 421 | D173: 1 | F173: P | G173: 3 | H173: 3.43 | I173: 105.42 | J173: 89.77 | K173: 0.05 | L173: 2.8 | M173: 4.06 | N173: 3.63 | O173: 2015

Sheet Haywood
I5: Region 4
A6: Pavement Management System | I6: Haywood County
I7: (1.0 mile sections)
A8: County | B8: Route | C8: Route # | D8: County Sequence | E8: Special Case | F8: Direction | G8: From Log Mile | H8: To Log Mile | I8: IRI | J8: HC IRI | K8: Rut Depth | L8: PSI | M8: PDI | N8: PQI | O8: Year
A9: 38 | B9: I | C9: 40 | D9: 1 | F9: M | G9: 0 | H9: 1 | I9: 47.52 | J9: 41.42 | K9: 0.07 | L9: 3.85 | M9: 4.84 | N9: 4.52 | O9: 2016
A10: 38 | B10: I | C10: 40 | D10: 1 | F10: M | G10: 1 | H10: 2 | I10: 39.21 | J10: 33.25 | K10: 0.09 | L10: 4.03 | M10: 4.35 | N10: 4.25 | O10: 2016
A11: 38 | B11: I | C11: 40 | D11: 1 | F11: M | G11: 2 | H11: 3 | I11: 53.28 | J11: 47.26 | K11: 0.09 | L11: 3.73 | M11: 4 | N11: 3.92 | O11: 2016
A12: 38 | B12: I | C12: 40 | D12: 1 | F12: M | G12: 3 | H12: 4 | I12: 55.24 | J12: 47.05 | K12: 0.1 | L12: 3.69 | M12: 3.62 | N12: 3.64 | O12: 2016
A13: 38 | B13: I | C13: 40 | D13: 1 | F13: M | G13: 4 | H13: 5 | I13: 58.72 | J13: 49.38 | K13: 0.1 | L13: 3.62 | M13: 2.85 | N13: 3.06 | O13: 2016
A14: 38 | B14: I | C14: 40 | D14: 1 | F14: M | G14: 5 | H14: 6 | I14: 75 | J14: 61.67 | K14: 0.11 | L14: 3.31 | M14: 2.97 | N14: 3.07 | O14: 2016
A15: 38 | B15: I | C15: 40 | D15: 1 | F15: M | G15: 6 | H15: 7 | I15: 74.45 | J15: 63.92 | K15: 0.07 | L15: 3.32 | M15: 3.94 | N15: 3.74 | O15: 2016
A16: 38 | B16: I | C16: 40 | D16: 1 | F16: M | G16: 7 | H16: 8 | I16: 78.88 | J16: 66.4 | K16: 0.09 | L16: 3.24 | M16: 3.64 | N16: 3.52 | O16: 2016
A17: 38 | B17: I | C17: 40 | D17: 1 | F17: M | G17: 8 | H17: 9 | I17: 62.27 | J17: 52.44 | K17: 0.1 | L17: 3.55 | M17: 3.16 | N17: 3.27 | O17: 2016
A18: 38 | B18: I | C18: 40 | D18: 1 | F18: M | G18: 9 | H18: 10 | I18: 46.11 | J18: 37.85 | K18: 0.11 | L18: 3.88 | M18: 2.42 | N18: 2.79 | O18: 2016
A19: 38 | B19: I | C19: 40 | D19: 1 | F19: M | G19: 10 | H19: 11 | I19: 72.27 | J19: 64.16 | K19: 0.09 | L19: 3.36 | M19: 2.89 | N19: 3.02 | O19: 2016
A20: 38 | B20: I | C20: 40 | D20: 1 | F20: M | G20: 11 | H20: 12 | I20: 60.74 | J20: 53.81 | K20: 0.1 | L20: 3.58 | M20: 2.78 | N20: 3 | O20: 2016
... A127: 38 | B127: SR | C127: 54 | D127: 1 | F127: P | G127: 24 | H127: 24.6 | I127: 109.36 | J127: 91.93 | K127: 0.09 | L127: 2.74 | M127: 4.16 | N127: 3.67 | O127: 2015
A128: 38 | B128: SR | C128: 54 | D128: 1 | E128: SB | F128: P | G128: 0 | H128: 0.06 | I128: 330.94 | J128: 291 | K128: 0.12 | L128: 0.81 | M128: 1.6 | N128: 1.3 | O128: 2015
A129: 38 | B129: SR | C129: 76 | D129: 1 | F129: P | G129: 0 | H129: 1 | I129: 78.88 | J129: 61.01 | K129: 0.13 | L129: 3.24 | M129: 2.06 | N129: 2.36 | O129: 2015
A130: 38 | B130: SR | C130: 76 | D130: 1 | F130: P | G130: 1 | H130: 2 | I130: 67.99 | J130: 53.18 | K130: 0.13 | L130: 3.44 | M130: 2.83 | N130: 3 | O130: 2015
A131: 38 | B131: SR | C131: 76 | D131: 1 | F131: P | G131: 2 | H131: 3 | I131: 71.19 | J131: 55.74 | K131: 0.13 | L131: 3.38 | M131: 3.33 | N131: 3.34 | O131: 2015
A132: 38 | B132: SR | C132: 76 | D132: 1 | F132: P | G132: 3 | H132: 4 | I132: 86.92 | J132: 66.25 | K132: 0.13 | L132: 3.1 | M132: 3.25 | N132: 3.2 | O132: 2015
A133: 38 | B133: SR | C133: 76 | D133: 1 | F133: P | G133: 4 | H133: 5 | I133: 94.7 | J133: 70.64 | K133: 0.12 | L133: 2.97 | M133: 2.84 | N133: 2.88 | O133: 2015
A134: 38 | B134: SR | C134: 76 | D134: 1 | F134: P | G134: 5 | H134: 6 | I134: 65.37 | J134: 53.8 | K134: 0.09 | L134: 3.49 | M134: 3.12 | N134: 3.23 | O134: 2015
A135: 38 | B135: SR | C135: 76 | D135: 1 | F135: P | G135: 6 | H135: 7 | I135: 58.72 | J135: 51.96 | K135: 0.07 | L135: 3.62 | M135: 4.47 | N135: 4.2 | O135: 2015
A136: 38 | B136: SR | C136: 76 | D136: 1 | F136: P | G136: 7 | H136: 8 | I136: 72.27 | J136: 65.2 | K136: 0.07 | L136: 3.36 | M136: 4.39 | N136: 4.05 | O136: 2015
A137: 38 | B137: SR | C137: 76 | D137: 1 | F137: P | G137: 8 | H137: 9 | I137: 84.58 | J137: 76.51 | K137: 0.07 | L137: 3.14 | M137: 4.43 | N137: 4 | O137: 2015
A138: 38 | B138: SR | C138: 76 | D138: 1 | F138: P | G138: 9 | H138: 10 | I138: 88.68 | J138: 80.15 | K138: 0.1 | L138: 3.07 | M138: 3.66 | N138: 3.47 | O138: 2015
A139: 38 | B139: SR | C139: 76 | D139: 1 | F139: P | G139: 10 | H139: 11 | I139: 131.94 | J139: 113.31 | K139: 0.23 | L139: 2.42 | M139: 1.87 | N139: 2.02 | O139: 2016
A140: 38 | B140: SR | C140: 76 | D140: 1 | F140: P | G140: 11 | H140: 12 | I140: 158.6 | J140: 134.61 | K140: 0.24 | L140: 2.09 | M140: 1.81 | N140: 1.89 | O140: 2016
... A203: 38 | B203: SR | C203: 369 | D203: 1 | F203: P | G203: 1 | H203: 1.1 | I203: 125.3 | J203: 107.2 | K203: 0.16 | L203: 2.51 | M203: 2.85 | N203: 2.74 | O203: 2015

Sheet Henderson
I5: Region 4
A6: Pavement Management System | I6: Henderson County
I7: (1.0 mile sections)
A8: County | B8: Route | C8: Route # | D8: County Sequence | E8: Special Case | F8: Direction | G8: From Log Mile | H8: To Log Mile | I8: IRI | J8: HC IRI | K8: Rut Depth | L8: PSI | M8: PDI | N8: PQI | O8: Year
A9: 39 | B9: I | C9: 40 | D9: 1 | F9: M | G9: 0 | H9: 1 | I9: 39.21 | J9: 31.08 | K9: 0.09 | L9: 4.03 | M9: 3.39 | N9: 3.57 | O9: 2016
A10: 39 | B10: I | C10: 40 | D10: 1 | F10: M | G10: 1 | H10: 2 | I10: 35.64 | J10: 28.25 | K10: 0.09 | L10: 4.11 | M10: 3.12 | N10: 3.39 | O10: 2016
A11: 39 | B11: I | C11: 40 | D11: 1 | F11: M | G11: 2 | H11: 3 | I11: 40.12 | J11: 32.31 | K11: 0.08 | L11: 4.01 | M11: 2.87 | N11: 3.17 | O11: 2016
A12: 39 | B12: I | C12: 40 | D12: 1 | F12: M | G12: 3 | H12: 4 | I12: 51.82 | J12: 43.22 | K12: 0.08 | L12: 3.76 | M12: 2.64 | N12: 2.94 | O12: 2016
A13: 39 | B13: I | C13: 40 | D13: 1 | F13: M | G13: 4 | H13: 5 | I13: 46.58 | J13: 36.86 | K13: 0.08 | L13: 3.87 | M13: 2.05 | N13: 2.48 | O13: 2016
A14: 39 | B14: I | C14: 40 | D14: 1 | F14: M | G14: 5 | H14: 6 | I14: 43.32 | J14: 34.43 | K14: 0.09 | L14: 3.94 | M14: 2.58 | N14: 2.93 | O14: 2016
A15: 39 | B15: I | C15: 40 | D15: 1 | F15: M | G15: 6 | H15: 7 | I15: 45.17 | J15: 37.94 | K15: 0.11 | L15: 3.9 | M15: 4.73 | N15: 4.46 | O15: 2016
A16: 39 | B16: I | C16: 40 | D16: 1 | F16: M | G16: 7 | H16: 8 | I16: 44.24 | J16: 37.64 | K16: 0.11 | L16: 3.92 | M16: 4.85 | N16: 4.55 | O16: 2016
A17: 39 | B17: I | C17: 40 | D17: 1 | F17: M | G17: 8 | H17: 9 | I17: 36.53 | J17: 30.8 | K17: 0.11 | L17: 4.09 | M17: 4.84 | N17: 4.6 | O17: 2016
A18: 39 | B18: I | C18: 40 | D18: 1 | F18: M | G18: 9 | H18: 10 | I18: 35.2 | J18: 29.68 | K18: 0.11 | L18: 4.12 | M18: 4.68 | N18: 4.5 | O18: 2016
A19: 39 | B19: I | C19: 40 | D19: 1 | F19: M | G19: 10 | H19: 11 | I19: 34.32 | J19: 28.53 | K19: 0.11 | L19: 4.14 | M19: 4.92 | N19: 4.67 | O19: 2016
A20: 39 | B20: I | C20: 40 | D20: 1 | F20: M | G20: 11 | H20: 12 | I20: 31.7 | J20: 26.2 | K20: 0.11 | L20: 4.2 | M20: 4.99 | N20: 4.74 | O20: 2016
... A107: 39 | B107: SR | C107: 22 | D107: 1 | F107: P | G107: 23 | H107: 23.343 | I107: 39.66 | J107: 33.7 | K107: 0.04 | L107: 4.02 | M107: 4.76 | N107: 4.52 | O107: 2016
A108: 39 | B108: SR | C108: 22 | D108: 1 | E108: ALT | F108: P | G108: 0 | H108: 1 | I108: 78.32 | J108: 65.87 | K108: 0.05 | L108: 3.25 | M108: 3.5 | N108: 3.42 | O108: 2015
A109: 39 | B109: SR | C109: 22 | D109: 1 | E109: ALT | F109: P | G109: 1 | H109: 2 | I109: 79.45 | J109: 65.6 | K109: 0.05 | L109: 3.23 | M109: 3.49 | N109: 3.41 | O109: 2015
A110: 39 | B110: SR | C110: 22 | D110: 1 | E110: ALT | F110: P | G110: 2 | H110: 3 | I110: 72.27 | J110: 61.49 | K110: 0.05 | L110: 3.36 | M110: 3.94 | N110: 3.76 | O110: 2015
A111: 39 | B111: SR | C111: 22 | D111: 1 | E111: ALT | F111: P | G111: 3 | H111: 4 | I111: 83.43 | J111: 73.48 | K111: 0.05 | L111: 3.16 | M111: 3.8 | N111: 3.6 | O111: 2015
A112: 39 | B112: SR | C112: 22 | D112: 1 | E112: ALT | F112: P | G112: 4 | H112: 5 | I112: 79.45 | J112: 68.12 | K112: 0.05 | L112: 3.23 | M112: 3.87 | N112: 3.67 | O112: 2015
A113: 39 | B113: SR | C113: 22 | D113: 1 | E113: ALT | F113: P | G113: 5 | H113: 6 | I113: 82.86 | J113: 71.78 | K113: 0.05 | L113: 3.17 | M113: 3.57 | N113: 3.44 | O113: 2015
A114: 39 | B114: SR | C114: 22 | D114: 1 | E114: ALT | F114: P | G114: 6 | H114: 7 | I114: 88.09 | J114: 78.85 | K114: 0.06 | L114: 3.08 | M114: 3.94 | N114: 3.66 | O114: 2015
A115: 39 | B115: SR | C115: 22 | D115: 1 | E115: ALT | F115: P | G115: 7 | H115: 8 | I115: 75.55 | J115: 62.42 | K115: 0.06 | L115: 3.3 | M115: 3.95 | N115: 3.74 | O115: 2015
A116: 39 | B116: SR | C116: 22 | D116: 1 | E116: ALT | F116: P | G116: 8 | H116: 9 | I116: 77.77 | J116: 66.87 | K116: 0.06 | L116: 3.26 | M116: 3.48 | N116: 3.41 | O116: 2015
A117: 39 | B117: SR | C117: 22 | D117: 1 | E117: ALT | F117: P | G117: 9 | H117: 10 | I117: 80.58 | J117: 70.15 | K117: 0.06 | L117: 3.21 | M117: 3.53 | N117: 3.43 | O117: 2015
A118: 39 | B118: SR | C118: 22 | D118: 1 | E118: ALT | F118: P | G118: 10 | H118: 10.55 | I118: 85.16 | J118: 75.55 | K118: 0.08 | L118: 3.13 | M118: 3.36 | N118: 3.29 | O118: 2015
A119: 39 | B119: SR | C119: 100 | D119: 1 | F119: P | G119: 0 | H119: 1 | I119: 80.01 | J119: 62.37 | K119: 0.1 | L119: 3.22 | M119: 2.91 | N119: 3 | O119: 2015
A120: 39 | B120: SR | C120: 100 | D120: 1 | F120: P | G120: 1 | H120: 2 | I120: 88.68 | J120: 69.25 | K120: 0.1 | L120: 3.07 | M120: 3.25 | N120: 3.19 | O120: 2015
A121: 39 | B121: SR | C121: 100 | D121: 1 | F121: P | G121: 2 | H121: 3 | I121: 91.67 | J121: 74.1 | K121: 0.15 | L121: 3.02 | M121: 2.78 | N121: 2.85 | O121: 2015
A122: 39 | B122: SR | C122: 100 | D122: 1 | F122: P | G122: 3 | H122: 4 | I122: 70.66 | J122: 57.82 | K122: 0.15 | L122: 3.39 | M122: 3.16 | N122: 3.23 | O122: 2015
A123: 39 | B123: SR | C123: 100 | D123: 1 | F123: P | G123: 4 | H123: 5 | I123: 57.22 | J123: 46.5 | K123: 0.11 | L123: 3.65 | M123: 3.11 | N123: 3.26 | O123: 2015
A124: 39 | B124: SR | C124: 100 | D124: 1 | F124: P | G124: 5 | H124: 6 | I124: 69.05 | J124: 57.26 | K124: 0.15 | L124: 3.42 | M124: 3.22 | N124: 3.28 | O124: 2015
A125: 39 | B125: SR | C125: 100 | D125: 1 | F125: P | G125: 6 | H125: 7 | I125: 78.88 | J125: 65.12 | K125: 0.18 | L125: 3.24 | M125: 3.19 | N125: 3.2 | O125: 2015
A126: 39 | B126: SR | C126: 100 | D126: 1 | F126: P | G126: 7 | H126: 8 | I126: 112.03 | J126: 95.13 | K126: 0.19 | L126: 2.7 | M126: 3.11 | N126: 2.98 | O126: 2015
A127: 39 | B127: SR | C127: 100 | D127: 1 | F127: P | G127: 8 | H127: 9 | I127: 85.75 | J127: 70.86 | K127: 0.21 | L127: 3.12 | M127: 3.3 | N127: 3.24 | O127: 2015
A128: 39 | B128: SR | C128: 100 | D128: 1 | F128: P | G128: 9 | H128: 10 | I128: 86.92 | J128: 72.73 | K128: 0.22 | L128: 3.1 | M128: 3.3 | N128: 3.24 | O128: 2015
A129: 39 | B129: SR | C129: 100 | D129: 1 | F129: P | G129: 10 | H129: 10.58 | I129: 107.38 | J129: 93.32 | K129: 0.2 | L129: 2.77 | M129: 3.38 | N129: 3.18 | O129: 2015
A130: 39 | B130: SR | C130: 104 | D130: 1 | F130: P | G130: 0 | H130: 1 | I130: 132.69 | J130: 115.32 | K130: 0.08 | L130: 2.41 | M130: 3.07 | N130: 2.85 | O130: 2015
...

Sheet Henry
I5: Region 4
A6: Pavement Management System | I6: Henry County
I7: (1.0 mile sections)
A8: County | B8: Route | C8: Route # | D8: County Sequence | E8: Special Case | F8: Direction | G8: From Log Mile | H8: To Log Mile | I8: IRI | J8: HC IRI | K8: Rut Depth | L8: PSI | M8: PDI | N8: PQI | O8: Year
A9: 40 | B9: SR | C9: 22 | D9: 1 | F9: P | G9: 0 | H9: 1 | I9: 69.05 | J9: 57.21 | K9: 0.11 | L9: 3.42 | M9: 1.9 | N9: 2.27 | O9: 2016
A10: 40 | B10: SR | C10: 22 | D10: 1 | F10: P | G10: 1 | H10: 1.81 | I10: 58.72 | J10: 47.49 | K10: 0.09 | L10: 3.62 | M10: 2.43 | N10: 2.74 | O10: 2016
A11: 40 | B11: SR | C11: 54 | D11: 1 | F11: P | G11: 0 | H11: 1 | I11: 93.48 | J11: 81.42 | K11: 0.09 | L11: 2.99 | M11: 1.73 | N11: 2.04 | O11: 2015
A12: 40 | B12: SR | C12: 54 | D12: 1 | F12: P | G12: 1 | H12: 2 | I12: 104.77 | J12: 93.52 | K12: 0.1 | L12: 2.81 | M12: 2.1 | N12: 2.29 | O12: 2015
A13: 40 | B13: SR | C13: 54 | D13: 1 | F13: P | G13: 2 | H13: 3 | I13: 103.48 | J13: 93.68 | K13: 0.09 | L13: 2.83 | M13: 1.81 | N13: 2.07 | O13: 2015
A14: 40 | B14: SR | C14: 54 | D14: 1 | F14: P | G14: 3 | H14: 4 | I14: 116.81 | J14: 105.57 | K14: 0.09 | L14: 2.63 | M14: 2.01 | N14: 2.18 | O14: 2015
A15: 40 | B15: SR | C15: 54 | D15: 1 | F15: P | G15: 4 | H15: 5 | I15: 114.75 | J15: 103.44 | K15: 0.09 | L15: 2.66 | M15: 2.38 | N15: 2.46 | O15: 2015
A16: 40 | B16: SR | C16: 54 | D16: 1 | F16: P | G16: 5 | H16: 6 | I16: 94.09 | J16: 83.25 | K16: 0.09 | L16: 2.98 | M16: 1.98 | N16: 2.24 | O16: 2015
A17: 40 | B17: SR | C17: 54 | D17: 1 | F17: P | G17: 6 | H17: 7 | I17: 99.67 | J17: 87.27 | K17: 0.08 | L17: 2.89 | M17: 2.24 | N17: 2.42 | O17: 2015
A18: 40 | B18: SR | C18: 54 | D18: 1 | F18: P | G18: 7 | H18: 8 | I18: 112.71 | J18: 99.47 | K18: 0.1 | L18: 2.69 | M18: 2.35 | N18: 2.45 | O18: 2015
A19: 40 | B19: SR | C19: 54 | D19: 1 | F19: P | G19: 8 | H19: 9 | I19: 92.27 | J19: 78.98 | K19: 0.09 | L19: 3.01 | M19: 3.19 | N19: 3.13 | O19: 2015
A20: 40 | B20: SR | C20: 54 | D20: 1 | F20: P | G20: 9 | H20: 10 | I20: 86.33 | J20: 71.67 | K20: 0.12 | L20: 3.11 | M20: 2.96 | N20: 3 | O20: 2016
... A67: 40 | B67: SR | C67: 69 | D67: 1 | F67: P | G67: 31 | H67: 31.37 | I67: 173.08 | J67: 154.18 | K67: 0.1 | L67: 1.93 | M67: 3.58 | N67: 2.97 | O67: 2015
A68: 40 | B68: SR | C68: 69 | D68: 1 | E68: ALT | F68: P | G68: 0 | H68: 1 | I68: 157.73 | J68: 126.02 | K68: 0.16 | L68: 2.1 | M68: 1.35 | N68: 1.54 | O68: 2015
A69: 40 | B69: SR | C69: 69 | D69: 1 | E69: ALT | F69: P | G69: 1 | H69: 2 | I69: 180.77 | J69: 136.08 | K69: 0.19 | L69: 1.85 | M69: 0.86 | N69: 1.08 | O69: 2015
A70: 40 | B70: SR | C70: 69 | D70: 1 | E70: ALT | F70: P | G70: 2 | H70: 3 | I70: 141.19 | J70: 108.09 | K70: 0.14 | L70: 2.3 | M70: 0.79 | N70: 1.09 | O70: 2015
A71: 40 | B71: SR | C71: 69 | D71: 1 | E71: ALT | F71: P | G71: 3 | H71: 4 | I71: 192.97 | J71: 153.82 | K71: 0.21 | L71: 1.73 | M71: 0.92 | N71: 1.11 | O71: 2015
A72: 40 | B72: SR | C72: 69 | D72: 1 | E72: ALT | F72: P | G72: 4 | H72: 5 | I72: 149.27 | J72: 119.21 | K72: 0.16 | L72: 2.2 | M72: 1.13 | N72: 1.38 | O72: 2015
A73: 40 | B73: SR | C73: 69 | D73: 1 | E73: ALT | F73: P | G73: 5 | H73: 6 | I73: 150.1 | J73: 116.22 | K73: 0.21 | L73: 2.19 | M73: 0.81 | N73: 1.09 | O73: 2015
A74: 40 | B74: SR | C74: 69 | D74: 1 | E74: ALT | F74: P | G74: 6 | H74: 7 | I74: 108.7 | J74: 91.08 | K74: 0.14 | L74: 2.75 | M74: 2.35 | N74: 2.46 | O74: 2015
A75: 40 | B75: SR | C75: 69 | D75: 1 | E75: ALT | F75: P | G75: 7 | H75: 8 | I75: 94.7 | J75: 73.87 | K75: 0.1 | L75: 2.97 | M75: 2.17 | N75: 2.38 | O75: 2015
A76: 40 | B76: SR | C76: 69 | D76: 1 | E76: ALT | F76: P | G76: 8 | H76: 9 | I76: 87.5 | J76: 69.89 | K76: 0.1 | L76: 3.09 | M76: 1.79 | N76: 2.11 | O76: 2015
A77: 40 | B77: SR | C77: 69 | D77: 1 | E77: ALT | F77: P | G77: 9 | H77: 10 | I77: 82.28 | J77: 66.84 | K77: 0.09 | L77: 3.18 | M77: 1.59 | N77: 1.96 | O77: 2015
A78: 40 | B78: SR | C78: 69 | D78: 1 | E78: ALT | F78: P | G78: 10 | H78: 11 | I78: 96.55 | J78: 79.48 | K78: 0.09 | L78: 2.94 | M78: 2.56 | N78: 2.67 | O78: 2015
A79: 40 | B79: SR | C79: 69 | D79: 1 | E79: ALT | F79: P | G79: 11 | H79: 12 | I79: 93.48 | J79: 75.59 | K79: 0.1 | L79: 2.99 | M79: 2.62 | N79: 2.73 | O79: 2015
A80: 40 | B80: SR | C80: 69 | D80: 1 | E80: ALT | F80: P | G80: 12 | H80: 12.54 | I80: 91.07 | J80: 77.9 | K80: 0.09 | L80: 3.03 | M80: 2.78 | N80: 2.85 | O80: 2015
A81: 40 | B81: SR | C81: 76 | D81: 1 | F81: P | G81: 0 | H81: 1 | I81: 65.89 | J81: 53.37 | K81: 0.1 | L81: 3.48 | M81: 2 | N81: 2.36 | O81: 2016
A82: 40 | B82: SR | C82: 76 | D82: 1 | F82: P | G82: 1 | H82: 2 | I82: 53.77 | J82: 43.61 | K82: 0.12 | L82: 3.72 | M82: 1.52 | N82: 1.99 | O82: 2016
A83: 40 | B83: SR | C83: 76 | D83: 1 | F83: P | G83: 2 | H83: 3 | I83: 48.94 | J83: 41.32 | K83: 0.11 | L83: 3.82 | M83: 1.95 | N83: 2.39 | O83: 2016
A84: 40 | B84: SR | C84: 76 | D84: 1 | F84: P | G84: 3 | H84: 4 | I84: 51.34 | J84: 42.61 | K84: 0.11 | L84: 3.77 | M84: 1.54 | N84: 2.01 | O84: 2016
A85: 40 | B85: SR | C85: 76 | D85: 1 | F85: P | G85: 4 | H85: 5 | I85: 53.28 | J85: 42.61 | K85: 0.09 | L85: 3.73 | M85: 2.39 | N85: 2.73 | O85: 2016
A86: 40 | B86: SR | C86: 76 | D86: 1 | F86: P | G86: 5 | H86: 6 | I86: 68.52 | J86: 56.77 | K86: 0.09 | L86: 3.43 | M86: 2.34 | N86: 2.62 | O86: 2016
A87: 40 | B87: SR | C87: 76 | D87: 1 | F87: P | G87: 6 | H87: 7 | I87: 51.34 | J87: 41.28 | K87: 0.1 | L87: 3.77 | M87: 2.12 | N87: 2.52 | O87: 2016
A88: 40 | B88: SR | C88: 76 | D88: 1 | F88: P | G88: 7 | H88: 8 | I88: 72.27 | J88: 58.18 | K88: 0.09 | L88: 3.36 | M88: 2.19 | N88: 2.49 | O88: 2016
A89: 40 | B89: SR | C89: 76 | D89: 1 | F89: P | G89: 8 | H89: 9 | I89: 84.58 | J89: 70.51 | K89: 0.1 | L89: 3.14 | M89: 1.8 | N89: 2.13 | O89: 2016
A90: 40 | B90: SR | C90: 76 | D90: 1 | F90: P | G90: 9 | H90: 10 | I90: 64.33 | J90: 54.68 | K90: 0.08 | L90: 3.51 | M90: 1.97 | N90: 2.34 | O90: 2016
...

Sheet Lake
I5: Region 4
A6: Pavement Management System | I6: Lake County
I7: (1.0 mile sections)
A8: County | B8: Route | C8: Route # | D8: County Sequence | E8: Special Case | F8: Direction | G8: From Log Mile | H8: To Log Mile | I8: IRI | J8: HC IRI | K8: Rut Depth | L8: PSI | M8: PDI | N8: PQI | O8: Year
A9: 48 | B9: SR | C9: 21 | D9: 1 | F9: P | G9: 0 | H9: 1 | I9: 86.92 | J9: 79.44 | K9: 0.05 | L9: 3.1 | M9: 4.08 | N9: 3.76 | O9: 2015
A10: 48 | B10: SR | C10: 21 | D10: 1 | F10: P | G10: 1 | H10: 2 | I10: 96.55 | J10: 82.8 | K10: 0.07 | L10: 2.94 | M10: 3.68 | N10: 3.44 | O10: 2015
A11: 48 | B11: SR | C11: 21 | D11: 1 | F11: P | G11: 2 | H11: 3 | I11: 148.44 | J11: 131.46 | K11: 0.15 | L11: 2.21 | M11: 2.84 | N11: 2.63 | O11: 2015
A12: 48 | B12: SR | C12: 21 | D12: 1 | F12: P | G12: 3 | H12: 4 | I12: 130.44 | J12: 112.17 | K12: 0.13 | L12: 2.44 | M12: 3.13 | N12: 2.9 | O12: 2015
A13: 48 | B13: SR | C13: 21 | D13: 1 | F13: P | G13: 4 | H13: 5 | I13: 120.3 | J13: 98.9 | K13: 0.09 | L13: 2.58 | M13: 3.23 | N13: 3.02 | O13: 2015
A14: 48 | B14: SR | C14: 21 | D14: 1 | F14: P | G14: 5 | H14: 6 | I14: 123.86 | J14: 103.15 | K14: 0.1 | L14: 2.53 | M14: 2.97 | N14: 2.83 | O14: 2015
A15: 48 | B15: SR | C15: 21 | D15: 1 | F15: P | G15: 6 | H15: 7 | I15: 144.38 | J15: 123.55 | K15: 0.11 | L15: 2.26 | M15: 2.82 | N15: 2.64 | O15: 2015
A16: 48 | B16: SR | C16: 21 | D16: 1 | F16: P | G16: 7 | H16: 7.63 | I16: 124.58 | J16: 104.02 | K16: 0.07 | L16: 2.52 | M16: 3.76 | N16: 3.33 | O16: 2015
A17: 48 | B17: SR | C17: 22 | D17: 1 | F17: P | G17: 0 | H17: 1 | I17: 150.93 | J17: 130.7 | K17: 0.13 | L17: 2.18 | M17: 3.23 | N17: 2.87 | O17: 2015
A18: 48 | B18: SR | C18: 22 | D18: 1 | F18: P | G18: 1 | H18: 2 | I18: 140.4 | J18: 119.92 | K18: 0.09 | L18: 2.31 | M18: 3.06 | N18: 2.81 | O18: 2015
A19: 48 | B19: SR | C19: 22 | D19: 1 | F19: P | G19: 2 | H19: 3 | I19: 54.75 | J19: 50.66 | K19: 0.03 | L19: 3.7 | M19: 4.97 | N19: 4.55 | O19: 2015
A20: 48 | B20: SR | C20: 22 | D20: 1 | F20: P | G20: 3 | H20: 4 | I20: 42.4 | J20: 37.96 | K20: 0.03 | L20: 3.96 | M20: 5 | N20: 4.66 | O20: 2015
... A70: 48 | B70: SR | C70: 213 | D70: 1 | F70: P | G70: 3 | H70: 3.23 | I70: 116.12 | J70: 104.77 | K70: 0.06 | L70: 2.64 | M70: 3.25 | N70: 3.05 | O70: 2015

Sheet Lauderdale
I5: Region 4
A6: Pavement Management System | I6: Lauderdale County
I7: (1.0 mile sections)
A8: County | B8: Route | C8: Route # | D8: County Sequence | E8: Special Case | F8: Direction | G8: From Log Mile | H8: To Log Mile | I8: IRI | J8: HC IRI | K8: Rut Depth | L8: PSI | M8: PDI | N8: PQI | O8: Year
A9: 49 | B9: SR | C9: 3 | D9: 1 | F9: P | G9: 0 | H9: 1 | I9: 79.45 | J9: 70.43 | K9: 0.13 | L9: 3.23 | M9: 3.04 | N9: 3.1 | O9: 2016
A10: 49 | B10: SR | C10: 3 | D10: 1 | F10: P | G10: 1 | H10: 2 | I10: 55.24 | J10: 44.96 | K10: 0.14 | L10: 3.69 | M10: 2.72 | N10: 2.98 | O10: 2016
A11: 49 | B11: SR | C11: 3 | D11: 1 | F11: P | G11: 2 | H11: 3 | I11: 50.38 | J11: 40.56 | K11: 0.17 | L11: 3.79 | M11: 2.63 | N11: 2.93 | O11: 2016
A12: 49 | B12: SR | C12: 3 | D12: 1 | F12: P | G12: 3 | H12: 4 | I12: 53.28 | J12: 43.41 | K12: 0.17 | L12: 3.73 | M12: 2.76 | N12: 3.02 | O12: 2016
A13: 49 | B13: SR | C13: 3 | D13: 1 | F13: P | G13: 4 | H13: 5 | I13: 49.42 | J13: 40.48 | K13: 0.15 | L13: 3.81 | M13: 2.68 | N13: 2.98 | O13: 2016
A14: 49 | B14: SR | C14: 3 | D14: 1 | F14: P | G14: 5 | H14: 6 | I14: 54.75 | J14: 44.66 | K14: 0.22 | L14: 3.7 | M14: 3.09 | N14: 3.26 | O14: 2016
A15: 49 | B15: SR | C15: 3 | D15: 1 | F15: P | G15: 6 | H15: 7 | I15: 50.38 | J15: 40.42 | K15: 0.21 | L15: 3.79 | M15: 2.94 | N15: 3.17 | O15: 2016
A16: 49 | B16: SR | C16: 3 | D16: 1 | F16: P | G16: 7 | H16: 8 | I16: 62.27 | J16: 52.4 | K16: 0.25 | L16: 3.55 | M16: 2.51 | N16: 2.79 | O16: 2016
A17: 49 | B17: SR | C17: 3 | D17: 1 | F17: P | G17: 8 | H17: 9 | I17: 64.33 | J17: 52.74 | K17: 0.28 | L17: 3.51 | M17: 2.73 | N17: 2.94 | O17: 2016
A18: 49 | B18: SR | C18: 3 | D18: 1 | F18: P | G18: 9 | H18: 10 | I18: 92.88 | J18: 77.93 | K18: 0.34 | L18: 3 | M18: 2.35 | N18: 2.53 | O18: 2016
A19: 49 | B19: SR | C19: 3 | D19: 1 | F19: P | G19: 10 | H19: 11 | I19: 91.67 | J19: 70.64 | K19: 0.48 | L19: 3.02 | M19: 1.23 | N19: 1.61 | O19: 2016
A20: 49 | B20: SR | C20: 3 | D20: 1 | F20: P | G20: 11 | H20: 12 | I20: 71.73 | J20: 54.78 | K20: 0.48 | L20: 3.37 | M20: 1.27 | N20: 1.7 | O20: 2016
... A69: 49 | B69: SR | C69: 87 | D69: 1 | F69: P | G69: 8 | H69: 9 | I69: 149.27 | J69: 124.72 | K69: 0.16 | L69: 2.2 | M69: 1.8 | N69: 1.91 | O69: 2015
A70: 49 | B70: SR | C70: 87 | D70: 1 | F70: P | G70: 9 | H70: 10 | I70: 86.33 | J70: 72.87 | K70: 0.13 | L70: 3.11 | M70: 4.36 | N70: 3.94 | O70: 2016 | P70: 2015 PSI
A71: 49 | B71: SR | C71: 87 | D71: 1 | F71: P | G71: 10 | H71: 11 | I71: 74.45 | J71: 59.36 | K71: 0.16 | L71: 3.32 | M71: 4.27 | N71: 3.96 | O71: 2016 | P71: 2015 PSI
A72: 49 | B72: SR | C72: 87 | D72: 1 | F72: P | G72: 11 | H72: 12 | I72: 69.59 | J72: 56.04 | K72: 0.15 | L72: 3.41 | M72: 4.47 | N72: 4.12 | O72: 2016 | P72: 2015 PSI
A73: 49 | B73: SR | C73: 87 | D73: 1 | F73: P | G73: 12 | H73: 13 | I73: 81.14 | J73: 68.04 | K73: 0.15 | L73: 3.2 | M73: 4.26 | N73: 3.91 | O73: 2016 | P73: 2015 PSI
A74: 49 | B74: SR | C74: 87 | D74: 1 | F74: P | G74: 13 | H74: 14 | I74: 77.21 | J74: 62.57 | K74: 0.15 | L74: 3.27 | M74: 4.24 | N74: 3.92 | O74: 2016 | P74: 2015 PSI
A75: 49 | B75: SR | C75: 87 | D75: 1 | F75: P | G75: 14 | H75: 15 | I75: 75.55 | J75: 63.01 | K75: 0.17 | L75: 3.3 | M75: 4.59 | N75: 4.16 | O75: 2016 | P75: 2015 PSI
A76: 49 | B76: SR | C76: 87 | D76: 1 | F76: P | G76: 15 | H76: 16 | I76: 95.32 | J76: 82.13 | K76: 0.17 | L76: 2.96 | M76: 4.6 | N76: 4.03 | O76: 2016 | P76: 2015 PSI
A77: 49 | B77: SR | C77: 87 | D77: 1 | F77: P | G77: 16 | H77: 17 | I77: 88.09 | J77: 74.92 | K77: 0.14 | L77: 3.08 | M77: 4.14 | N77: 3.79 | O77: 2016 | P77: 2015 PSI
A78: 49 | B78: SR | C78: 87 | D78: 1 | F78: P | G78: 17 | H78: 18 | I78: 77.21 | J78: 66.41 | K78: 0.15 | L78: 3.27 | M78: 4.48 | N78: 4.08 | O78: 2016 | P78: 2015 PSI
A79: 49 | B79: SR | C79: 87 | D79: 1 | F79: P | G79: 18 | H79: 19 | I79: 74.45 | J79: 65.29 | K79: 0.18 | L79: 3.32 | M79: 4.51 | N79: 4.11 | O79: 2016 | P79: 2015 PSI
A80: 49 | B80: SR | C80: 87 | D80: 1 | F80: P | G80: 19 | H80: 20 | I80: 116.81 | J80: 101.85 | K80: 0.17 | L80: 2.63 | M80: 3.82 | N80: 3.42 | O80: 2016 | P80: 2015 PSI
A81: 49 | B81: SR | C81: 87 | D81: 1 | F81: P | G81: 20 | H81: 21 | I81: 155.15 | J81: 140.4 | K81: 0.1 | L81: 2.13 | M81: 3.55 | N81: 3.05 | O81: 2015
A82: 49 | B82: SR | C82: 87 | D82: 1 | F82: P | G82: 21 | H82: 22 | I82: 105.42 | J82: 92.56 | K82: 0.09 | L82: 2.8 | M82: 3.79 | N82: 3.46 | O82: 2015
A83: 49 | B83: SR | C83: 87 | D83: 1 | F83: P | G83: 22 | H83: 23 | I83: 102.84 | J83: 87.86 | K83: 0.11 | L83: 2.84 | M83: 3.64 | N83: 3.38 | O83: 2015
A84: 49 | B84: SR | C84: 87 | D84: 1 | F84: P | G84: 23 | H84: 24 | I84: 100.93 | J84: 89.3 | K84: 0.1 | L84: 2.87 | M84: 3.79 | N84: 3.49 | O84: 2015
A85: 49 | B85: SR | C85: 87 | D85: 1 | F85: P | G85: 24 | H85: 25 | I85: 114.75 | J85: 104.07 | K85: 0.1 | L85: 2.66 | M85: 3.69 | N85: 3.34 | O85: 2015
A86: 49 | B86: SR | C86: 87 | D86: 1 | F86: P | G86: 25 | H86: 26 | I86: 95.32 | J86: 83.65 | K86: 0.12 | L86: 2.96 | M86: 3.69 | N86: 3.45 | O86: 2015
A87: 49 | B87: SR | C87: 87 | D87: 1 | F87: P | G87: 26 | H87: 27 | I87: 93.48 | J87: 81.05 | K87: 0.11 | L87: 2.99 | M87: 3.46 | N87: 3.31 | O87: 2015
