Workbook

Sheet Note
B11: Note:
B12: 1 | D12: Rows with year in red (2016) are data collected in 2016 and are part of the National Highway System.
B16: 2 | D16: Rows with year in black (2015) are data collected in 2015 and are not part of the National Highway System.

Sheet Benton
I5: Region 4
A6: Pavement Management System | I6: Benton County
I7: (1.0 mile sections)
A8: County | B8: Route | C8: Route # | D8: County Sequence | E8: Special Case | F8: Direction | G8: From Log Mile | H8: To Log Mile | I8: IRI | J8: HC IRI | K8: Rut Depth | L8: PSI | M8: PDI | N8: PQI | O8: Year
A9: 3 | B9: I | C9: 40 | D9: 1 | F9: M | G9: 0 | H9: 1 | I9: 33 | J9: 27.13 | K9: 0.1 | L9: 4.17 | M9: 4.94 | N9: 4.7 | O9: 2016
A10: 3 | B10: I | C10: 40 | D10: 1 | F10: M | G10: 1 | H10: 2 | I10: 34.76 | J10: 28.49 | K10: 0.1 | L10: 4.13 | M10: 4.92 | N10: 4.67 | O10: 2016
A11: 3 | B11: I | C11: 40 | D11: 1 | F11: M | G11: 2 | H11: 3 | I11: 34.32 | J11: 28.01 | K11: 0.1 | L11: 4.14 | M11: 4.96 | N11: 4.7 | O11: 2016
A12: 3 | B12: I | C12: 40 | D12: 1 | F12: M | G12: 3 | H12: 4 | I12: 33 | J12: 26.71 | K12: 0.1 | L12: 4.17 | M12: 4.92 | N12: 4.68 | O12: 2016
A13: 3 | B13: I | C13: 40 | D13: 1 | F13: M | G13: 4 | H13: 5 | I13: 31.7 | J13: 25.43 | K13: 0.1 | L13: 4.2 | M13: 4.88 | N13: 4.67 | O13: 2016
A14: 3 | B14: I | C14: 40 | D14: 1 | F14: M | G14: 5 | H14: 6 | I14: 35.64 | J14: 29.85 | K14: 0.1 | L14: 4.11 | M14: 4.89 | N14: 4.64 | O14: 2016
A15: 3 | B15: I | C15: 40 | D15: 1 | F15: M | G15: 6 | H15: 7 | I15: 34.32 | J15: 28.42 | K15: 0.09 | L15: 4.14 | M15: 4.98 | N15: 4.71 | O15: 2016
A16: 3 | B16: I | C16: 40 | D16: 1 | F16: M | G16: 7 | H16: 8 | I16: 32.13 | J16: 26.14 | K16: 0.07 | L16: 4.19 | M16: 4.97 | N16: 4.72 | O16: 2016
A17: 3 | B17: I | C17: 40 | D17: 1 | F17: M | G17: 8 | H17: 8.78 | I17: 77.21 | J17: 70.76 | K17: 0.09 | L17: 3.27 | M17: 4.54 | N17: 4.11 | O17: 2016
A18: 3 | B18: I | C18: 40 | D18: 1 | F18: P | G18: 0 | H18: 1 | I18: 41.03 | J18: 33.87 | K18: 0.1 | L18: 3.99 | M18: 4.86 | N18: 4.58 | O18: 2016
A19: 3 | B19: I | C19: 40 | D19: 1 | F19: P | G19: 1 | H19: 2 | I19: 31.7 | J19: 25.12 | K19: 0.1 | L19: 4.2 | M19: 4.9 | N19: 4.68 | O19: 2016
A20: 3 | B20: I | C20: 40 | D20: 1 | F20: P | G20: 2 | H20: 3 | I20: 33 | J20: 27.21 | K20: 0.11 | L20: 4.17 | M20: 4.89 | N20: 4.66 | O20: 2016
... A64: 3 | B64: SR | C64: 69 | D64: 1 | F64: P | G64: 24 | H64: 24.21 | I64: 66.42 | J64: 48.11 | K64: 0.07 | L64: 3.47 | M64: 4.6 | N64: 4.23 | O64: 2016
A65: 3 | B65: SR | C65: 69 | D65: 1 | E65: ALT | F65: P | G65: 0 | H65: 1 | I65: 131.94 | J65: 120.45 | K65: 0.09 | L65: 2.42 | M65: 2.68 | N65: 2.6 | O65: 2015
A66: 3 | B66: SR | C66: 69 | D66: 1 | E66: ALT | F66: P | G66: 1 | H66: 2 | I66: 64.85 | J66: 55.76 | K66: 0.05 | L66: 3.5 | M66: 3.75 | N66: 3.67 | O66: 2015
A67: 3 | B67: SR | C67: 69 | D67: 1 | E67: ALT | F67: P | G67: 2 | H67: 3 | I67: 64.33 | J67: 54.58 | K67: 0.05 | L67: 3.51 | M67: 3.89 | N67: 3.77 | O67: 2015
A68: 3 | B68: SR | C68: 69 | D68: 1 | E68: ALT | F68: P | G68: 3 | H68: 4 | I68: 61.76 | J68: 51.6 | K68: 0.05 | L68: 3.56 | M68: 3.64 | N68: 3.62 | O68: 2015
A69: 3 | B69: SR | C69: 69 | D69: 1 | E69: ALT | F69: P | G69: 4 | H69: 5 | I69: 69.05 | J69: 57.52 | K69: 0.05 | L69: 3.42 | M69: 3.14 | N69: 3.22 | O69: 2015
A70: 3 | B70: SR | C70: 69 | D70: 1 | E70: ALT | F70: P | G70: 5 | H70: 6 | I70: 60.23 | J70: 49.38 | K70: 0.04 | L70: 3.59 | M70: 3.22 | N70: 3.33 | O70: 2015
A71: 3 | B71: SR | C71: 69 | D71: 1 | E71: ALT | F71: P | G71: 6 | H71: 7 | I71: 70.66 | J71: 61.57 | K71: 0.05 | L71: 3.39 | M71: 3.52 | N71: 3.48 | O71: 2015
A72: 3 | B72: SR | C72: 69 | D72: 1 | E72: ALT | F72: P | G72: 7 | H72: 8 | I72: 68.52 | J72: 59.07 | K72: 0.04 | L72: 3.43 | M72: 4.09 | N72: 3.88 | O72: 2015
A73: 3 | B73: SR | C73: 69 | D73: 1 | E73: ALT | F73: P | G73: 8 | H73: 9 | I73: 60.23 | J73: 50.65 | K73: 0.04 | L73: 3.59 | M73: 4.1 | N73: 3.94 | O73: 2015
A74: 3 | B74: SR | C74: 69 | D74: 1 | E74: ALT | F74: P | G74: 9 | H74: 10 | I74: 61.76 | J74: 53.11 | K74: 0.03 | L74: 3.56 | M74: 4.37 | N74: 4.11 | O74: 2015
A75: 3 | B75: SR | C75: 69 | D75: 1 | E75: ALT | F75: P | G75: 10 | H75: 11 | I75: 67.47 | J75: 59.92 | K75: 0.03 | L75: 3.45 | M75: 4.2 | N75: 3.96 | O75: 2015
A76: 3 | B76: SR | C76: 69 | D76: 1 | E76: ALT | F76: P | G76: 11 | H76: 12 | I76: 77.77 | J76: 72.27 | K76: 0.04 | L76: 3.26 | M76: 4.49 | N76: 4.08 | O76: 2015
... A79: 3 | B79: SR | C79: 69 | D79: 1 | E79: ALT | F79: P | G79: 14 | H79: 14.5 | I79: 47.05 | J79: 40.24 | K79: 0.03 | L79: 3.86 | M79: 4.55 | N79: 4.33 | O79: 2015
A80: 3 | B80: SR | C80: 147 | D80: 1 | F80: P | G80: 0 | H80: 1 | I80: 154.3 | J80: 139.68 | K80: 0.07 | L80: 2.14 | M80: 3.53 | N80: 3.04 | O80: 2015
A81: 3 | B81: SR | C81: 147 | D81: 1 | F81: P | G81: 1 | H81: 2 | I81: 112.71 | J81: 98.66 | K81: 0.04 | L81: 2.69 | M81: 3.87 | N81: 3.47 | O81: 2015
A82: 3 | B82: SR | C82: 147 | D82: 1 | F82: P | G82: 2 | H82: 3 | I82: 87.5 | J82: 76.92 | K82: 0.04 | L82: 3.09 | M82: 4.09 | N82: 3.76 | O82: 2015
A83: 3 | B83: SR | C83: 147 | D83: 1 | F83: P | G83: 3 | H83: 4 | I83: 91.67 | J83: 80.9 | K83: 0.04 | L83: 3.02 | M83: 4.15 | N83: 3.77 | O83: 2015
A84: 3 | B84: SR | C84: 147 | D84: 1 | F84: P | G84: 4 | H84: 5 | I84: 112.03 | J84: 98.16 | K84: 0.05 | L84: 2.7 | M84: 3.89 | N84: 3.49 | O84: 2015
A85: 3 | B85: SR | C85: 147 | D85: 1 | F85: P | G85: 5 | H85: 6 | I85: 120.3 | J85: 106.08 | K85: 0.04 | L85: 2.58 | M85: 4.05 | N85: 3.54 | O85: 2015
A86: 3 | B86: SR | C86: 147 | D86: 1 | F86: P | G86: 6 | H86: 7 | I86: 97.17 | J86: 85.67 | K86: 0.05 | L86: 2.93 | M86: 3.99 | N86: 3.64 | O86: 2015
A87: 3 | B87: SR | C87: 147 | D87: 1 | F87: P | G87: 7 | H87: 8 | I87: 110.02 | J87: 96.52 | K87: 0.06 | L87: 2.73 | M87: 3.5 | N87: 3.25 | O87: 2015
A88: 3 | B88: SR | C88: 147 | D88: 1 | F88: P | G88: 8 | H88: 9 | I88: 102.2 | J88: 87.4 | K88: 0.06 | L88: 2.85 | M88: 3.84 | N88: 3.51 | O88: 2015
A89: 3 | B89: SR | C89: 147 | D89: 1 | F89: P | G89: 9 | H89: 10 | I89: 105.42 | J89: 89.79 | K89: 0.05 | L89: 2.8 | M89: 3.85 | N89: 3.5 | O89: 2015
A90: 3 | B90: SR | C90: 147 | D90: 1 | F90: P | G90: 10 | H90: 10.57 | I90: 99.67 | J90: 86.45 | K90: 0.04 | L90: 2.89 | M90: 4.3 | N90: 3.82 | O90: 2015
A91: 3 | B91: SR | C91: 191 | D91: 1 | F91: P | G91: 0 | H91: 1 | I91: 143.57 | J91: 121.87 | K91: 0.12 | L91: 2.27 | M91: 2.89 | N91: 2.69 | O91: 2015
... A115: 3 | B115: SR | C115: 191 | D115: 1 | F115: P | G115: 24 | H115: 24.02 | I115: 221.34 | J115: 261.8 | K115: 0.13 | L115: 1.48 | M115: 4.44 | N115: 3.19 | O115: 2015
A116: 3 | B116: SR | C116: 191 | D116: 1 | E116: SB | F116: P | G116: 0 | H116: 0.06 | I116: 265.64 | J116: 228.1 | K116: 0.2 | L116: 1.16 | M116: 2.19 | N116: 1.81 | O116: 2015
A117: 3 | B117: SR | C117: 192 | D117: 1 | F117: P | G117: 0 | H117: 1 | I117: 116.12 | J117: 102.23 | K117: 0.09 | L117: 2.64 | M117: 2.03 | N117: 2.2 | O117: 2015
A118: 3 | B118: SR | C118: 192 | D118: 1 | F118: P | G118: 1 | H118: 2 | I118: 96.55 | J118: 78.3 | K118: 0.07 | L118: 2.94 | M118: 3.04 | N118: 3.01 | O118: 2015
A119: 3 | B119: SR | C119: 192 | D119: 1 | F119: P | G119: 2 | H119: 3 | I119: 104.13 | J119: 89 | K119: 0.08 | L119: 2.82 | M119: 3.51 | N119: 3.29 | O119: 2015
A120: 3 | B120: SR | C120: 192 | D120: 1 | F120: P | G120: 3 | H120: 4 | I120: 121.01 | J120: 106.84 | K120: 0.09 | L120: 2.57 | M120: 3.33 | N120: 3.08 | O120: 2015
A121: 3 | B121: SR | C121: 192 | D121: 1 | F121: P | G121: 4 | H121: 5 | I121: 141.98 | J121: 127.38 | K121: 0.1 | L121: 2.29 | M121: 2.62 | N121: 2.52 | O121: 2015
A122: 3 | B122: SR | C122: 192 | D122: 1 | F122: P | G122: 5 | H122: 6 | I122: 87.5 | J122: 74.3 | K122: 0.06 | L122: 3.09 | M122: 4.15 | N122: 3.8 | O122: 2015
A123: 3 | B123: SR | C123: 192 | D123: 1 | F123: P | G123: 6 | H123: 7 | I123: 78.32 | J123: 66 | K123: 0.06 | L123: 3.25 | M123: 4.28 | N123: 3.94 | O123: 2015
A124: 3 | B124: SR | C124: 192 | D124: 1 | F124: P | G124: 7 | H124: 8 | I124: 82.86 | J124: 71.28 | K124: 0.06 | L124: 3.17 | M124: 3.94 | N124: 3.69 | O124: 2015
A125: 3 | B125: SR | C125: 192 | D125: 1 | F125: P | G125: 8 | H125: 9 | I125: 99.67 | J125: 94.27 | K125: 0.07 | L125: 2.89 | M125: 3.84 | N125: 3.53 | O125: 2015
A126: 3 | B126: SR | C126: 192 | D126: 1 | F126: P | G126: 9 | H126: 10 | I126: 112.03 | J126: 98.9 | K126: 0.08 | L126: 2.7 | M126: 3.87 | N126: 3.47 | O126: 2015
A127: 3 | B127: SR | C127: 192 | D127: 1 | F127: P | G127: 10 | H127: 10.81 | I127: 108.7 | J127: 92.67 | K127: 0.08 | L127: 2.75 | M127: 4.01 | N127: 3.58 | O127: 2015
A128: 3 | B128: SR | C128: 391 | D128: 1 | F128: P | G128: 0 | H128: 1 | I128: 88.09 | J128: 74.26 | K128: 0.12 | L128: 3.08 | M128: 2.39 | N128: 2.58 | O128: 2015
... A133: 3 | B133: SR | C133: 391 | D133: 1 | F133: P | G133: 5 | H133: 5.31 | I133: 87.5 | J133: 70.13 | K133: 0.1 | L133: 3.09 | M133: 2.89 | N133: 2.95 | O133: 2015

Sheet Carroll
I5: Region 4
A6: Pavement Management System | I6: Carroll County
I7: (1.0 mile sections)
A8: County | B8: Route | C8: Route # | D8: County Sequence | E8: Special Case | F8: Direction | G8: From Log Mile | H8: To Log Mile | I8: IRI | J8: HC IRI | K8: Rut Depth | L8: PSI | M8: PDI | N8: PQI | O8: Year
A9: 9 | B9: I | C9: 40 | D9: 1 | F9: M | G9: 0 | H9: 0.66 | I9: 41.94 | J9: 33.08 | K9: 0.11 | L9: 3.97 | M9: 3.36 | N9: 3.53 | O9: 2016
A10: 9 | B10: I | C10: 40 | D10: 1 | F10: P | G10: 0 | H10: 0.66 | I10: 35.2 | J10: 26.36 | K10: 0.11 | L10: 4.12 | M10: 4.15 | N10: 4.14 | O10: 2016
A11: 9 | B11: SR | C11: 1 | D11: 1 | F11: P | G11: 0 | H11: 1 | I11: 59.73 | J11: 52.47 | K11: 0.07 | L11: 3.6 | M11: 4.31 | N11: 4.08 | O11: 2015
A12: 9 | B12: SR | C12: 1 | D12: 1 | F12: P | G12: 1 | H12: 2 | I12: 81.71 | J12: 73.43 | K12: 0.07 | L12: 3.19 | M12: 4.33 | N12: 3.95 | O12: 2015
A13: 9 | B13: SR | C13: 1 | D13: 1 | F13: P | G13: 2 | H13: 3 | I13: 79.45 | J13: 69.6 | K13: 0.07 | L13: 3.23 | M13: 4.41 | N13: 4.02 | O13: 2015
A14: 9 | B14: SR | C14: 1 | D14: 1 | F14: P | G14: 3 | H14: 4 | I14: 61.76 | J14: 53.19 | K14: 0.06 | L14: 3.56 | M14: 4.24 | N14: 4.02 | O14: 2015
A15: 9 | B15: SR | C15: 1 | D15: 1 | F15: P | G15: 4 | H15: 5 | I15: 52.79 | J15: 44.39 | K15: 0.05 | L15: 3.74 | M15: 4.19 | N15: 4.05 | O15: 2015
A16: 9 | B16: SR | C16: 1 | D16: 1 | F16: P | G16: 5 | H16: 6 | I16: 57.72 | J16: 49.77 | K16: 0.06 | L16: 3.64 | M16: 4.27 | N16: 4.07 | O16: 2015
A17: 9 | B17: SR | C17: 1 | D17: 1 | F17: P | G17: 6 | H17: 7 | I17: 69.59 | J17: 58.73 | K17: 0.07 | L17: 3.41 | M17: 4.4 | N17: 4.08 | O17: 2015
A18: 9 | B18: SR | C18: 1 | D18: 1 | F18: P | G18: 7 | H18: 8 | I18: 70.12 | J18: 61.1 | K18: 0.05 | L18: 3.4 | M18: 4.42 | N18: 4.09 | O18: 2015
A19: 9 | B19: SR | C19: 1 | D19: 1 | F19: P | G19: 8 | H19: 9 | I19: 76.65 | J19: 64.05 | K19: 0.06 | L19: 3.28 | M19: 4.16 | N19: 3.87 | O19: 2015
A20: 9 | B20: SR | C20: 1 | D20: 1 | F20: P | G20: 9 | H20: 10 | I20: 95.93 | J20: 82.74 | K20: 0.1 | L20: 2.95 | M20: 2.72 | N20: 2.79 | O20: 2015
... A43: 9 | B43: SR | C43: 1 | D43: 1 | F43: P | G43: 32 | H43: 32.37 | I43: 118.2 | J43: 103.78 | K43: 0.24 | L43: 2.61 | M43: 0.96 | N43: 1.3 | O43: 2015
A44: 9 | B44: SR | C44: 1 | D44: 1 | E44: WB | F44: P | G44: 0 | H44: 0.08 | I44: 276.96 | J44: 225 | K44: 0.11 | L44: 1.09 | M44: 2.66 | N44: 2.04 | O44: 2015
A45: 9 | B45: SR | C45: 22 | D45: 1 | F45: P | G45: 0 | H45: 1 | I45: 70.12 | J45: 61.06 | K45: 0.09 | L45: 3.4 | M45: 4.51 | N45: 4.14 | O45: 2016
A46: 9 | B46: SR | C46: 22 | D46: 1 | F46: P | G46: 1 | H46: 2 | I46: 63.3 | J46: 53.61 | K46: 0.1 | L46: 3.53 | M46: 4.8 | N46: 4.38 | O46: 2016
A47: 9 | B47: SR | C47: 22 | D47: 1 | F47: P | G47: 2 | H47: 3 | I47: 62.78 | J47: 54.4 | K47: 0.08 | L47: 3.54 | M47: 4.53 | N47: 4.21 | O47: 2016
A48: 9 | B48: SR | C48: 22 | D48: 1 | F48: P | G48: 3 | H48: 4 | I48: 49.9 | J48: 43.78 | K48: 0.09 | L48: 3.8 | M48: 4.66 | N48: 4.38 | O48: 2016
A49: 9 | B49: SR | C49: 22 | D49: 1 | F49: P | G49: 4 | H49: 5 | I49: 112.71 | J49: 93.07 | K49: 0.1 | L49: 2.69 | M49: 3.66 | N49: 3.34 | O49: 2016
A50: 9 | B50: SR | C50: 22 | D50: 1 | F50: P | G50: 5 | H50: 6 | I50: 166.6 | J50: 136.19 | K50: 0.13 | L50: 2 | M50: 2.08 | N50: 2.06 | O50: 2016
A51: 9 | B51: SR | C51: 22 | D51: 1 | F51: P | G51: 6 | H51: 7 | I51: 143.57 | J51: 115.94 | K51: 0.1 | L51: 2.27 | M51: 2.25 | N51: 2.26 | O51: 2016
A52: 9 | B52: SR | C52: 22 | D52: 1 | F52: P | G52: 7 | H52: 8 | I52: 134.97 | J52: 110.19 | K52: 0.1 | L52: 2.38 | M52: 2.6 | N52: 2.53 | O52: 2016
A53: 9 | B53: SR | C53: 22 | D53: 1 | F53: P | G53: 8 | H53: 9 | I53: 148.44 | J53: 117.67 | K53: 0.12 | L53: 2.21 | M53: 2.3 | N53: 2.27 | O53: 2016
A54: 9 | B54: SR | C54: 22 | D54: 1 | F54: P | G54: 9 | H54: 10 | I54: 79.45 | J54: 67.31 | K54: 0.09 | L54: 3.23 | M54: 4.37 | N54: 3.99 | O54: 2016
A55: 9 | B55: SR | C55: 22 | D55: 1 | F55: P | G55: 10 | H55: 11 | I55: 55.73 | J55: 49.42 | K55: 0.06 | L55: 3.68 | M55: 4.95 | N55: 4.53 | O55: 2016
A56: 9 | B56: SR | C56: 22 | D56: 1 | F56: P | G56: 11 | H56: 12 | I56: 106.72 | J56: 87.95 | K56: 0.07 | L56: 2.78 | M56: 4.8 | N56: 4.07 | O56: 2016
... A70: 9 | B70: SR | C70: 22 | D70: 1 | F70: P | G70: 25 | H70: 25.09 | I70: 100.93 | J70: 83.2 | K70: 0.16 | L70: 2.87 | M70: 1.28 | N70: 1.63 | O70: 2016
A71: 9 | B71: SR | C71: 22 | D71: 1 | E71: BYP | F71: P | G71: 0 | H71: 1 | I71: 105.42 | J71: 82.21 | K71: 0.15 | L71: 2.8 | M71: 1.35 | N71: 1.68 | O71: 2016
A72: 9 | B72: SR | C72: 22 | D72: 1 | E72: BYP | F72: P | G72: 1 | H72: 2 | I72: 118.2 | J72: 94.35 | K72: 0.16 | L72: 2.61 | M72: 1.71 | N72: 1.94 | O72: 2016
A73: 9 | B73: SR | C73: 22 | D73: 1 | E73: BYP | F73: P | G73: 2 | H73: 3 | I73: 126.03 | J73: 100.26 | K73: 0.11 | L73: 2.5 | M73: 2.15 | N73: 2.25 | O73: 2016
A74: 9 | B74: SR | C74: 22 | D74: 1 | E74: BYP | F74: P | G74: 3 | H74: 3.59 | I74: 111.36 | J74: 88.18 | K74: 0.11 | L74: 2.71 | M74: 1.98 | N74: 2.18 | O74: 2016
A75: 9 | B75: SR | C75: 22 | D75: 1 | E75: SB | F75: P | G75: 0 | H75: 0.53 | I75: 154.3 | J75: 168.24 | K75: 0.06 | L75: 2.14 | M75: 3.59 | N75: 3.07 | O75: 2015
A76: 9 | B76: SR | C76: 76 | D76: 1 | F76: P | G76: 0 | H76: 1 | I76: 120.3 | J76: 108.58 | K76: 0.29 | L76: 2.58 | M76: 3.54 | N76: 3.22 | O76: 2016
A77: 9 | B77: SR | C77: 76 | D77: 1 | F77: P | G77: 1 | H77: 2 | I77: 116.12 | J77: 103.69 | K77: 0.31 | L77: 2.64 | M77: 3.48 | N77: 3.2 | O77: 2016
A78: 9 | B78: SR | C78: 76 | D78: 1 | F78: P | G78: 2 | H78: 3 | I78: 128.96 | J78: 109.09 | K78: 0.26 | L78: 2.46 | M78: 3.43 | N78: 3.1 | O78: 2016
A79: 9 | B79: SR | C79: 76 | D79: 1 | F79: P | G79: 3 | H79: 4 | I79: 124.58 | J79: 107.75 | K79: 0.22 | L79: 2.52 | M79: 3.34 | N79: 3.07 | O79: 2016
A80: 9 | B80: SR | C80: 76 | D80: 1 | F80: P | G80: 4 | H80: 5 | I80: 121.71 | J80: 99.03 | K80: 0.24 | L80: 2.56 | M80: 3.42 | N80: 3.14 | O80: 2016
A81: 9 | B81: SR | C81: 76 | D81: 1 | F81: P | G81: 5 | H81: 6 | I81: 118.2 | J81: 102.86 | K81: 0.18 | L81: 2.61 | M81: 4.09 | N81: 3.57 | O81: 2016
A82: 9 | B82: SR | C82: 76 | D82: 1 | F82: P | G82: 6 | H82: 7 | I82: 73.36 | J82: 62.22 | K82: 0.04 | L82: 3.34 | M82: 4.75 | N82: 4.27 | O82: 2016
A83: 9 | B83: SR | C83: 76 | D83: 1 | F83: P | G83: 7 | H83: 8 | I83: 59.22 | J83: 49.13 | K83: 0.04 | L83: 3.61 | M83: 4.82 | N83: 4.42 | O83: 2016
A84: 9 | B84: SR | C84: 76 | D84: 1 | F84: P | G84: 8 | H84: 9 | I84: 79.45 | J84: 67.69 | K84: 0.04 | L84: 3.23 | M84: 4.73 | N84: 4.22 | O84: 2016
A85: 9 | B85: SR | C85: 76 | D85: 1 | F85: P | G85: 9 | H85: 10 | I85: 97.17 | J85: 85.69 | K85: 0.06 | L85: 2.93 | M85: 4.59 | N85: 4.01 | O85: 2016
A86: 9 | B86: SR | C86: 76 | D86: 1 | F86: P | G86: 10 | H86: 11 | I86: 109.36 | J86: 93.23 | K86: 0.06 | L86: 2.74 | M86: 4.51 | N86: 3.88 | O86: 2016
A87: 9 | B87: SR | C87: 76 | D87: 1 | F87: P | G87: 11 | H87: 12 | I87: 114.07 | J87: 101.09 | K87: 0.06 | L87: 2.67 | M87: 4.36 | N87: 3.76 | O87: 2016
... A205: 9 | B205: SR | C205: 220 | D205: 1 | F205: P | G205: 14 | H205: 14.07 | I205: 150.93 | J205: 136.2 | K205: 0.12 | L205: 2.18 | M205: 3.24 | N205: 2.88 | O205: 2015
A206: 9 | B206: SR | C206: 220 | D206: 1 | E206: ALT | F206: P | G206: 0 | H206: 1 | I206: 116.81 | J206: 104.53 | K206: 0.07 | L206: 2.63 | M206: 3.45 | N206: 3.18 | O206: 2015
A207: 9 | B207: SR | C207: 220 | D207: 1 | E207: ALT | F207: P | G207: 1 | H207: 1.51 | I207: 89.87 | J207: 78.56 | K207: 0.08 | L207: 3.05 | M207: 3.23 | N207: 3.17 | O207: 2015
A208: 9 | B208: SR | C208: 364 | D208: 1 | F208: P | G208: 0 | H208: 1 | I208: 77.77 | J208: 67.38 | K208: 0.09 | L208: 3.26 | M208: 3.64 | N208: 3.52 | O208: 2015
A209: 9 | B209: SR | C209: 364 | D209: 1 | F209: P | G209: 1 | H209: 2 | I209: 89.28 | J209: 76.81 | K209: 0.1 | L209: 3.06 | M209: 3.4 | N209: 3.29 | O209: 2015
A210: 9 | B210: SR | C210: 364 | D210: 1 | F210: P | G210: 2 | H210: 3 | I210: 81.71 | J210: 65.66 | K210: 0.09 | L210: 3.19 | M210: 2.79 | N210: 2.9 | O210: 2015
A211: 9 | B211: SR | C211: 364 | D211: 1 | F211: P | G211: 3 | H211: 3.28 | I211: 89.28 | J211: 70.57 | K211: 0.1 | L211: 3.06 | M211: 2.64 | N211: 2.76 | O211: 2015
A212: 9 | B212: SR | C212: 423 | D212: 1 | F212: P | G212: 0 | H212: 1 | I212: 167.51 | J212: 149.05 | K212: 0.09 | L212: 1.99 | M212: 2.37 | N212: 2.25 | O212: 2015
A213: 9 | B213: SR | C213: 423 | D213: 1 | F213: P | G213: 1 | H213: 2 | I213: 163 | J213: 155.17 | K213: 0.09 | L213: 2.04 | M213: 3.13 | N213: 2.75 | O213: 2015
A214: 9 | B214: SR | C214: 423 | D214: 1 | F214: P | G214: 2 | H214: 3 | I214: 132.69 | J214: 115.96 | K214: 0.07 | L214: 2.41 | M214: 3.38 | N214: 3.05 | O214: 2015
A215: 9 | B215: SR | C215: 423 | D215: 1 | F215: P | G215: 3 | H215: 4 | I215: 126.76 | J215: 113.61 | K215: 0.06 | L215: 2.49 | M215: 3.23 | N215: 2.99 | O215: 2015
A216: 9 | B216: SR | C216: 423 | D216: 1 | F216: P | G216: 4 | H216: 5 | I216: 118.2 | J216: 102.88 | K216: 0.07 | L216: 2.61 | M216: 3.25 | N216: 3.04 | O216: 2015
A217: 9 | B217: SR | C217: 423 | D217: 1 | F217: P | G217: 5 | H217: 6 | I217: 90.47 | J217: 78.79 | K217: 0.06 | L217: 3.04 | M217: 3.43 | N217: 3.31 | O217: 2015
A218: 9 | B218: SR | C218: 423 | D218: 1 | F218: P | G218: 6 | H218: 7 | I218: 94.7 | J218: 81.67 | K218: 0.05 | L218: 2.97 | M218: 3.28 | N218: 3.18 | O218: 2015
A219: 9 | B219: SR | C219: 423 | D219: 1 | F219: P | G219: 7 | H219: 8 | I219: 102.2 | J219: 92.81 | K219: 0.05 | L219: 2.85 | M219: 3.98 | N219: 3.6 | O219: 2015
... A250: 9 | B250: SR | C250: 436 | D250: 1 | F250: P | G250: 9 | H250: 9.75 | I250: 171.2 | J250: 150.26 | K250: 0.12 | L250: 1.95 | M250: 1.59 | N250: 1.69 | O250: 2015

Sheet Chester
I5: Region 4
A6: Pavement Management System | I6: Chester County
I7: (1.0 mile sections)
A8: County | B8: Route | C8: Route # | D8: County Sequence | E8: Special Case | F8: Direction | G8: From Log Mile | H8: To Log Mile | I8: IRI | J8: HC IRI | K8: Rut Depth | L8: PSI | M8: PDI | N8: PQI | O8: Year
A9: 12 | B9: SR | C9: 5 | D9: 1 | F9: P | G9: 0 | H9: 0.11 | I9: 38.31 | J9: 30.52 | K9: 0.06 | L9: 4.05 | M9: 4.69 | N9: 4.49 | O9: 2016
A10: 12 | B10: SR | C10: 5 | D10: 2 | F10: P | G10: 0 | H10: 1 | I10: 33.44 | J10: 27.42 | K10: 0.05 | L10: 4.16 | M10: 4.73 | N10: 4.55 | O10: 2016
A11: 12 | B11: SR | C11: 5 | D11: 2 | F11: P | G11: 1 | H11: 2 | I11: 36.53 | J11: 29.97 | K11: 0.05 | L11: 4.09 | M11: 4.81 | N11: 4.58 | O11: 2016
A12: 12 | B12: SR | C12: 5 | D12: 2 | F12: P | G12: 2 | H12: 3 | I12: 39.21 | J12: 33.46 | K12: 0.04 | L12: 4.03 | M12: 4.8 | N12: 4.55 | O12: 2016
A13: 12 | B13: SR | C13: 5 | D13: 2 | F13: P | G13: 3 | H13: 4 | I13: 38.76 | J13: 33.41 | K13: 0.05 | L13: 4.04 | M13: 4.8 | N13: 4.56 | O13: 2016
A14: 12 | B14: SR | C14: 5 | D14: 2 | F14: P | G14: 4 | H14: 5 | I14: 57.72 | J14: 51.21 | K14: 0.06 | L14: 3.64 | M14: 4.68 | N14: 4.34 | O14: 2016
A15: 12 | B15: SR | C15: 5 | D15: 2 | F15: P | G15: 5 | H15: 6 | I15: 41.94 | J15: 34.72 | K15: 0.07 | L15: 3.97 | M15: 4.76 | N15: 4.51 | O15: 2016
A16: 12 | B16: SR | C16: 5 | D16: 2 | F16: P | G16: 6 | H16: 7 | I16: 33 | J16: 26.76 | K16: 0.06 | L16: 4.17 | M16: 4.77 | N16: 4.58 | O16: 2016
A17: 12 | B17: SR | C17: 5 | D17: 2 | F17: P | G17: 7 | H17: 8 | I17: 36.97 | J17: 30.26 | K17: 0.05 | L17: 4.08 | M17: 4.83 | N17: 4.59 | O17: 2016
A18: 12 | B18: SR | C18: 5 | D18: 2 | F18: P | G18: 8 | H18: 9 | I18: 37.42 | J18: 31.63 | K18: 0.05 | L18: 4.07 | M18: 4.79 | N18: 4.56 | O18: 2016
A19: 12 | B19: SR | C19: 5 | D19: 2 | F19: P | G19: 9 | H19: 9.63 | I19: 44.71 | J19: 39.74 | K19: 0.05 | L19: 3.91 | M19: 4.81 | N19: 4.52 | O19: 2016
A20: 12 | B20: SR | C20: 22 | D20: 1 | F20: P | G20: 0 | H20: 1 | I20: 82.86 | J20: 66.15 | K20: 0.14 | L20: 3.17 | M20: 1.9 | N20: 2.22 | O20: 2015
... A27: 12 | B27: SR | C27: 22 | D27: 1 | F27: P | G27: 7 | H27: 7.81 | I27: 73.36 | J27: 58.29 | K27: 0.15 | L27: 3.34 | M27: 1.7 | N27: 2.08 | O27: 2015
A28: 12 | B28: SR | C28: 22 | D28: 1 | E28: ALT | F28: P | G28: 0 | H28: 1 | I28: 130.44 | J28: 102.61 | K28: 0.14 | L28: 2.44 | M28: 2.07 | N28: 2.17 | O28: 2015
A29: 12 | B29: SR | C29: 22 | D29: 1 | E29: ALT | F29: P | G29: 1 | H29: 2 | I29: 141.19 | J29: 119.29 | K29: 0.14 | L29: 2.3 | M29: 2.17 | N29: 2.21 | O29: 2015
A30: 12 | B30: SR | C30: 22 | D30: 1 | E30: ALT | F30: P | G30: 2 | H30: 3 | I30: 136.5 | J30: 110.46 | K30: 0.13 | L30: 2.36 | M30: 2.21 | N30: 2.25 | O30: 2015
A31: 12 | B31: SR | C31: 22 | D31: 1 | E31: ALT | F31: P | G31: 3 | H31: 4 | I31: 141.19 | J31: 113.77 | K31: 0.13 | L31: 2.3 | M31: 1.87 | N31: 1.99 | O31: 2015
A32: 12 | B32: SR | C32: 22 | D32: 1 | E32: ALT | F32: P | G32: 4 | H32: 5 | I32: 128.96 | J32: 100.61 | K32: 0.13 | L32: 2.46 | M32: 1.81 | N32: 1.98 | O32: 2015
A33: 12 | B33: SR | C33: 22 | D33: 1 | E33: ALT | F33: P | G33: 5 | H33: 6 | I33: 108.04 | J33: 88.3 | K33: 0.12 | L33: 2.76 | M33: 1.63 | N33: 1.91 | O33: 2015
A34: 12 | B34: SR | C34: 22 | D34: 1 | E34: ALT | F34: P | G34: 6 | H34: 7 | I34: 112.03 | J34: 90.59 | K34: 0.11 | L34: 2.7 | M34: 1.77 | N34: 2.01 | O34: 2015
A35: 12 | B35: SR | C35: 22 | D35: 1 | E35: ALT | F35: P | G35: 7 | H35: 8 | I35: 102.2 | J35: 80.45 | K35: 0.13 | L35: 2.85 | M35: 2.15 | N35: 2.34 | O35: 2015
A36: 12 | B36: SR | C36: 22 | D36: 1 | E36: ALT | F36: P | G36: 8 | H36: 9 | I36: 108.7 | J36: 95.57 | K36: 0.1 | L36: 2.75 | M36: 2.75 | N36: 2.75 | O36: 2015
A37: 12 | B37: SR | C37: 22 | D37: 1 | E37: ALT | F37: P | G37: 9 | H37: 10 | I37: 104.13 | J37: 85.09 | K37: 0.13 | L37: 2.82 | M37: 2.29 | N37: 2.44 | O37: 2015
A38: 12 | B38: SR | C38: 22 | D38: 1 | E38: ALT | F38: P | G38: 10 | H38: 11 | I38: 115.43 | J38: 98.74 | K38: 0.13 | L38: 2.65 | M38: 2.29 | N38: 2.39 | O38: 2015
A39: 12 | B39: SR | C39: 22 | D39: 1 | E39: ALT | F39: P | G39: 11 | H39: 12 | I39: 134.97 | J39: 119.25 | K39: 0.15 | L39: 2.38 | M39: 3.17 | N39: 2.91 | O39: 2015
... A42: 12 | B42: SR | C42: 22 | D42: 1 | E42: ALT | F42: P | G42: 14 | H42: 14.95 | I42: 121.01 | J42: 96.97 | K42: 0.11 | L42: 2.57 | M42: 1.11 | N42: 1.43 | O42: 2015
A43: 12 | B43: SR | C43: 100 | D43: 1 | F43: P | G43: 0 | H43: 1 | I43: 65.37 | J43: 54.97 | K43: 0.21 | L43: 3.49 | M43: 3.65 | N43: 3.6 | O43: 2015
A44: 12 | B44: SR | C44: 100 | D44: 1 | F44: P | G44: 1 | H44: 2 | I44: 60.23 | J44: 49.48 | K44: 0.19 | L44: 3.59 | M44: 2.46 | N44: 2.76 | O44: 2015
A45: 12 | B45: SR | C45: 100 | D45: 1 | F45: P | G45: 2 | H45: 3 | I45: 75.55 | J45: 67.37 | K45: 0.2 | L45: 3.3 | M45: 2.83 | N45: 2.96 | O45: 2015
A46: 12 | B46: SR | C46: 100 | D46: 1 | F46: P | G46: 3 | H46: 4 | I46: 81.71 | J46: 73.64 | K46: 0.2 | L46: 3.19 | M46: 2.84 | N46: 2.94 | O46: 2015
A47: 12 | B47: SR | C47: 100 | D47: 1 | F47: P | G47: 4 | H47: 5 | I47: 68.52 | J47: 61.16 | K47: 0.16 | L47: 3.43 | M47: 2.72 | N47: 2.92 | O47: 2015
A48: 12 | B48: SR | C48: 100 | D48: 1 | F48: P | G48: 5 | H48: 6 | I48: 106.72 | J48: 91.52 | K48: 0.2 | L48: 2.78 | M48: 3.44 | N48: 3.23 | O48: 2015
A49: 12 | B49: SR | C49: 100 | D49: 1 | F49: P | G49: 6 | H49: 7 | I49: 158.6 | J49: 133.79 | K49: 0.22 | L49: 2.09 | M49: 0.95 | N49: 1.2 | O49: 2015
A50: 12 | B50: SR | C50: 100 | D50: 1 | F50: P | G50: 7 | H50: 8 | I50: 131.19 | J50: 117.22 | K50: 0.17 | L50: 2.43 | M50: 1.47 | N50: 1.71 | O50: 2015
A51: 12 | B51: SR | C51: 100 | D51: 1 | F51: P | G51: 8 | H51: 9 | I51: 73.9 | J51: 65.02 | K51: 0.05 | L51: 3.33 | M51: 4.75 | N51: 4.27 | O51: 2015
A52: 12 | B52: SR | C52: 100 | D52: 1 | F52: P | G52: 9 | H52: 10 | I52: 59.22 | J52: 50.87 | K52: 0.04 | L52: 3.61 | M52: 4.77 | N52: 4.39 | O52: 2015
A53: 12 | B53: SR | C53: 100 | D53: 1 | F53: P | G53: 10 | H53: 11 | I53: 70.66 | J53: 61.78 | K53: 0.08 | L53: 3.39 | M53: 2.78 | N53: 2.95 | O53: 2015
A54: 12 | B54: SR | C54: 100 | D54: 1 | F54: P | G54: 11 | H54: 12 | I54: 77.21 | J54: 72.41 | K54: 0.08 | L54: 3.27 | M54: 2.72 | N54: 2.87 | O54: 2015
... A106: 12 | B106: SR | C106: 365 | D106: 1 | F106: P | G106: 3 | H106: 3.58 | I106: 89.28 | J106: 74.57 | K106: 0.09 | L106: 3.06 | M106: 3.83 | N106: 3.58 | O106: 2015

Sheet Crockett
I5: Region 4
A6: Pavement Management System | I6: Crockett County
I7: (1.0 mile sections)
A8: County | B8: Route | C8: Route # | D8: County Sequence | E8: Special Case | F8: Direction | G8: From Log Mile | H8: To Log Mile | I8: IRI | J8: HC IRI | K8: Rut Depth | L8: PSI | M8: PDI | N8: PQI | O8: Year
A9: 17 | B9: SR | C9: 20 | D9: 1 | F9: P | G9: 0 | H9: 1 | I9: 50.38 | J9: 42.55 | K9: 0.16 | L9: 3.79 | M9: 4.84 | N9: 4.5 | O9: 2016
A10: 17 | B10: SR | C10: 20 | D10: 1 | F10: P | G10: 1 | H10: 2 | I10: 56.23 | J10: 46.66 | K10: 0.12 | L10: 3.67 | M10: 4.87 | N10: 4.47 | O10: 2016
A11: 17 | B11: SR | C11: 20 | D11: 1 | F11: P | G11: 2 | H11: 3 | I11: 53.77 | J11: 43.31 | K11: 0.16 | L11: 3.72 | M11: 4.84 | N11: 4.47 | O11: 2016
A12: 17 | B12: SR | C12: 20 | D12: 1 | F12: P | G12: 3 | H12: 4 | I12: 41.48 | J12: 34.28 | K12: 0.13 | L12: 3.98 | M12: 4.76 | N12: 4.51 | O12: 2016
A13: 17 | B13: SR | C13: 20 | D13: 1 | F13: P | G13: 4 | H13: 5 | I13: 38.31 | J13: 30.43 | K13: 0.12 | L13: 4.05 | M13: 4.78 | N13: 4.55 | O13: 2016
A14: 17 | B14: SR | C14: 20 | D14: 1 | F14: P | G14: 5 | H14: 6 | I14: 43.32 | J14: 36.65 | K14: 0.13 | L14: 3.94 | M14: 4.88 | N14: 4.58 | O14: 2016
A15: 17 | B15: SR | C15: 20 | D15: 1 | F15: P | G15: 6 | H15: 7 | I15: 49.9 | J15: 42.46 | K15: 0.14 | L15: 3.8 | M15: 4.89 | N15: 4.53 | O15: 2016
A16: 17 | B16: SR | C16: 20 | D16: 1 | F16: P | G16: 7 | H16: 8 | I16: 46.58 | J16: 40.87 | K16: 0.08 | L16: 3.87 | M16: 4.83 | N16: 4.52 | O16: 2016
A17: 17 | B17: SR | C17: 20 | D17: 1 | F17: P | G17: 8 | H17: 9 | I17: 75 | J17: 65.96 | K17: 0.14 | L17: 3.31 | M17: 3.45 | N17: 3.41 | O17: 2016
A18: 17 | B18: SR | C18: 20 | D18: 1 | F18: P | G18: 9 | H18: 10 | I18: 60.23 | J18: 47.41 | K18: 0.13 | L18: 3.59 | M18: 2.59 | N18: 2.86 | O18: 2016
A19: 17 | B19: SR | C19: 20 | D19: 1 | F19: P | G19: 10 | H19: 11 | I19: 69.05 | J19: 54.61 | K19: 0.12 | L19: 3.42 | M19: 2.9 | N19: 3.05 | O19: 2016
A20: 17 | B20: SR | C20: 20 | D20: 1 | F20: P | G20: 11 | H20: 12 | I20: 57.72 | J20: 43.86 | K20: 0.13 | L20: 3.64 | M20: 3.09 | N20: 3.25 | O20: 2016
... A117: 17 | B117: SR | C117: 221 | D117: 1 | F117: P | G117: 7 | H117: 7.43 | I117: 106.07 | J117: 91.61 | K117: 0.12 | L117: 2.79 | M117: 3.05 | N117: 2.97 | O117: 2015

Sheet Decatur
I5: Region 4
A6: Pavement Management System | I6: Decatur County
I7: (1.0 mile sections)
A8: County | B8: Route | C8: Route # | D8: County Sequence | E8: Special Case | F8: Direction | G8: From Log Mile | H8: To Log Mile | I8: IRI | J8: HC IRI | K8: Rut Depth | L8: PSI | M8: PDI | N8: PQI | O8: Year
A9: 20 | B9: I | C9: 40 | D9: 1 | F9: M | G9: 0 | H9: 1 | I9: 41.94 | J9: 34.2 | K9: 0.17 | L9: 3.97 | M9: 3.37 | N9: 3.54 | O9: 2016
A10: 20 | B10: I | C10: 40 | D10: 1 | F10: M | G10: 1 | H10: 2 | I10: 39.21 | J10: 31 | K10: 0.13 | L10: 4.03 | M10: 3.22 | N10: 3.44 | O10: 2016
A11: 20 | B11: I | C11: 40 | D11: 1 | F11: M | G11: 2 | H11: 3 | I11: 38.76 | J11: 30.98 | K11: 0.15 | L11: 4.04 | M11: 3.51 | N11: 3.66 | O11: 2016
A12: 20 | B12: I | C12: 40 | D12: 1 | F12: M | G12: 3 | H12: 4 | I12: 41.48 | J12: 33.2 | K12: 0.17 | L12: 3.98 | M12: 2.46 | N12: 2.84 | O12: 2016
A13: 20 | B13: I | C13: 40 | D13: 1 | F13: M | G13: 4 | H13: 5 | I13: 39.66 | J13: 30.97 | K13: 0.17 | L13: 4.02 | M13: 2.48 | N13: 2.87 | O13: 2016
A14: 20 | B14: I | C14: 40 | D14: 1 | F14: M | G14: 5 | H14: 5.67 | I14: 41.94 | J14: 32.53 | K14: 0.17 | L14: 3.97 | M14: 2.81 | N14: 3.12 | O14: 2016
A15: 20 | B15: I | C15: 40 | D15: 1 | F15: P | G15: 0 | H15: 1 | I15: 44.71 | J15: 36.46 | K15: 0.12 | L15: 3.91 | M15: 3.03 | N15: 3.27 | O15: 2016
A16: 20 | B16: I | C16: 40 | D16: 1 | F16: P | G16: 1 | H16: 2 | I16: 39.21 | J16: 30.63 | K16: 0.14 | L16: 4.03 | M16: 3.77 | N16: 3.85 | O16: 2016
A17: 20 | B17: I | C17: 40 | D17: 1 | F17: P | G17: 2 | H17: 3 | I17: 34.76 | J17: 27.33 | K17: 0.1 | L17: 4.13 | M17: 3.85 | N17: 3.93 | O17: 2016
A18: 20 | B18: I | C18: 40 | D18: 1 | F18: P | G18: 3 | H18: 4 | I18: 33.44 | J18: 27.45 | K18: 0.12 | L18: 4.16 | M18: 4.13 | N18: 4.14 | O18: 2016
A19: 20 | B19: I | C19: 40 | D19: 1 | F19: P | G19: 4 | H19: 5 | I19: 33.88 | J19: 27.17 | K19: 0.13 | L19: 4.15 | M19: 3.88 | N19: 3.96 | O19: 2016
A20: 20 | B20: I | C20: 40 | D20: 1 | F20: P | G20: 5 | H20: 5.67 | I20: 33.88 | J20: 28.11 | K20: 0.12 | L20: 4.15 | M20: 4.27 | N20: 4.23 | O20: 2016
... A120: 20 | B120: SR | C120: 202 | D120: 1 | F120: P | G120: 16 | H120: 16.48 | I120: 175.92 | J120: 164.09 | K120: 0.13 | L120: 1.9 | M120: 4.22 | N120: 3.32 | O120: 2015

Sheet Dyer
I5: Region 4
A6: Pavement Management System | I6: Dyer County
I7: (1.0 mile sections)
A8: County | B8: Route | C8: Route # | D8: County Sequence | E8: Special Case | F8: Direction | G8: From Log Mile | H8: To Log Mile | I8: IRI | J8: HC IRI | K8: Rut Depth | L8: PSI | M8: PDI | N8: PQI | O8: Year
A9: 23 | B9: I | C9: 155 | D9: 1 | F9: M | G9: 0 | H9: 1 | I9: 145.18 | J9: 130.84 | K9: 0.07 | L9: 2.25 | M9: 4.45 | N9: 3.63 | O9: 2016
A10: 23 | B10: I | C10: 155 | D10: 1 | F10: M | G10: 1 | H10: 2 | I10: 48.94 | J10: 38.98 | K10: 0.09 | L10: 3.82 | M10: 3.34 | N10: 3.48 | O10: 2016
A11: 23 | B11: I | C11: 155 | D11: 1 | F11: M | G11: 2 | H11: 3 | I11: 33.44 | J11: 27.52 | K11: 0.11 | L11: 4.16 | M11: 3.91 | N11: 3.98 | O11: 2016
A12: 23 | B12: I | C12: 155 | D12: 1 | F12: M | G12: 3 | H12: 4 | I12: 41.94 | J12: 35.91 | K12: 0.14 | L12: 3.97 | M12: 3.11 | N12: 3.35 | O12: 2016
A13: 23 | B13: I | C13: 155 | D13: 1 | F13: M | G13: 4 | H13: 5 | I13: 40.57 | J13: 34.87 | K13: 0.14 | L13: 4 | M13: 2.94 | N13: 3.22 | O13: 2016
A14: 23 | B14: I | C14: 155 | D14: 1 | F14: M | G14: 5 | H14: 6 | I14: 48.94 | J14: 42.76 | K14: 0.14 | L14: 3.82 | M14: 3.25 | N14: 3.41 | O14: 2016
A15: 23 | B15: I | C15: 155 | D15: 1 | F15: M | G15: 6 | H15: 7 | I15: 41.94 | J15: 35.62 | K15: 0.14 | L15: 3.97 | M15: 3.78 | N15: 3.84 | O15: 2016
A16: 23 | B16: I | C16: 155 | D16: 1 | F16: M | G16: 7 | H16: 8 | I16: 46.11 | J16: 39.29 | K16: 0.13 | L16: 3.88 | M16: 3.86 | N16: 3.87 | O16: 2016
A17: 23 | B17: I | C17: 155 | D17: 1 | F17: M | G17: 8 | H17: 9 | I17: 38.31 | J17: 31.94 | K17: 0.09 | L17: 4.05 | M17: 3.83 | N17: 3.89 | O17: 2016
A18: 23 | B18: I | C18: 155 | D18: 1 | F18: M | G18: 9 | H18: 10 | I18: 38.76 | J18: 31.97 | K18: 0.13 | L18: 4.04 | M18: 4.18 | N18: 4.14 | O18: 2016
A19: 23 | B19: I | C19: 155 | D19: 1 | F19: M | G19: 10 | H19: 11 | I19: 36.53 | J19: 28.25 | K19: 0.19 | L19: 4.09 | M19: 4.39 | N19: 4.3 | O19: 2016
A20: 23 | B20: I | C20: 155 | D20: 1 | F20: M | G20: 11 | H20: 12 | I20: 33.44 | J20: 27.55 | K20: 0.16 | L20: 4.16 | M20: 4.43 | N20: 4.35 | O20: 2016
... A204: 23 | B204: SR | C204: 211 | D204: 1 | F204: P | G204: 17 | H204: 17.07 | I204: 51.34 | J204: 39 | K204: 0.04 | L204: 3.77 | M204: 4.59 | N204: 4.33 | O204: 2015

Sheet Fayette
I5: Region 4
A6: Pavement Management System | I6: Fayette County
I7: (1.0 mile sections)
A8: County | B8: Route | C8: Route # | D8: County Sequence | E8: Special Case | F8: Direction | G8: From Log Mile | H8: To Log Mile | I8: IRI | J8: HC IRI | K8: Rut Depth | L8: PSI | M8: PDI | N8: PQI | O8: Year
A9: 24 | B9: I | C9: 40 | D9: 1 | F9: M | G9: 0 | H9: 1 | I9: 41.03 | J9: 36.46 | K9: 0.06 | L9: 3.99 | M9: 4.18 | N9: 4.12 | O9: 2016
A10: 24 | B10: I | C10: 40 | D10: 1 | F10: M | G10: 1 | H10: 2 | I10: 47.05 | J10: 43.12 | K10: 0.08 | L10: 3.86 | M10: 3.97 | N10: 3.94 | O10: 2016
A11: 24 | B11: I | C11: 40 | D11: 1 | F11: M | G11: 2 | H11: 3 | I11: 81.14 | J11: 71.41 | K11: 0.11 | L11: 3.2 | M11: 3.65 | N11: 3.51 | O11: 2016
A12: 24 | B12: I | C12: 40 | D12: 1 | F12: M | G12: 3 | H12: 4 | I12: 76.65 | J12: 68.88 | K12: 0.1 | L12: 3.28 | M12: 3.88 | N12: 3.69 | O12: 2016
A13: 24 | B13: I | C13: 40 | D13: 1 | F13: M | G13: 4 | H13: 5 | I13: 54.26 | J13: 48.78 | K13: 0.06 | L13: 3.71 | M13: 3.87 | N13: 3.82 | O13: 2016
A14: 24 | B14: I | C14: 40 | D14: 1 | F14: M | G14: 5 | H14: 6 | I14: 49.42 | J14: 44.37 | K14: 0.07 | L14: 3.81 | M14: 3.97 | N14: 3.92 | O14: 2016
A15: 24 | B15: I | C15: 40 | D15: 1 | F15: M | G15: 6 | H15: 7 | I15: 51.34 | J15: 44.76 | K15: 0.09 | L15: 3.77 | M15: 3.96 | N15: 3.9 | O15: 2016
A16: 24 | B16: I | C16: 40 | D16: 1 | F16: M | G16: 7 | H16: 8 | I16: 59.73 | J16: 54.18 | K16: 0.1 | L16: 3.6 | M16: 3.7 | N16: 3.67 | O16: 2016
A17: 24 | B17: I | C17: 40 | D17: 1 | F17: M | G17: 8 | H17: 9 | I17: 41.48 | J17: 33.93 | K17: 0.06 | L17: 3.98 | M17: 4.41 | N17: 4.28 | O17: 2016
A18: 24 | B18: I | C18: 40 | D18: 1 | F18: M | G18: 9 | H18: 10 | I18: 40.12 | J18: 32.14 | K18: 0.06 | L18: 4.01 | M18: 3.99 | N18: 4 | O18: 2016
A19: 24 | B19: I | C19: 40 | D19: 1 | F19: M | G19: 10 | H19: 11 | I19: 45.64 | J19: 35.48 | K19: 0.07 | L19: 3.89 | M19: 3.36 | N19: 3.51 | O19: 2016
A20: 24 | B20: I | C20: 40 | D20: 1 | F20: M | G20: 11 | H20: 12 | I20: 46.58 | J20: 36.6 | K20: 0.07 | L20: 3.87 | M20: 2.85 | N20: 3.12 | O20: 2016
... A243: 24 | B243: SR | C243: 385 | D243: 3 | F243: P | G243: 1 | H243: 1.28 | I243: 42.86 | J243: 36.53 | K243: 0.06 | L243: 3.95 | M243: 4.39 | N243: 4.25 | O243: 2016

Sheet Gibson
I5: Region 4
A6: Pavement Management System | I6: Gibson County
I7: (1.0 mile sections)
A8: County | B8: Route | C8: Route # | D8: County Sequence | E8: Special Case | F8: Direction | G8: From Log Mile | H8: To Log Mile | I8: IRI | J8: HC IRI | K8: Rut Depth | L8: PSI | M8: PDI | N8: PQI | O8: Year
A9: 27 | B9: SR | C9: 5 | D9: 1 | F9: P | G9: 0 | H9: 1 | I9: 165.69 | J9: 143.29 | K9: 0.21 | L9: 2.01 | M9: 2.39 | N9: 2.27 | O9: 2016
A10: 27 | B10: SR | C10: 5 | D10: 1 | F10: P | G10: 1 | H10: 2 | I10: 77.77 | J10: 79.61 | K10: 0.06 | L10: 3.26 | M10: 3.94 | N10: 3.72 | O10: 2015
A11: 27 | B11: SR | C11: 5 | D11: 1 | F11: P | G11: 2 | H11: 3 | I11: 94.7 | J11: 84.61 | K11: 0.07 | L11: 2.97 | M11: 3.8 | N11: 3.53 | O11: 2015
A12: 27 | B12: SR | C12: 5 | D12: 1 | F12: P | G12: 3 | H12: 4 | I12: 152.61 | J12: 137.4 | K12: 0.1 | L12: 2.16 | M12: 3.71 | N12: 3.15 | O12: 2015
A13: 27 | B13: SR | C13: 5 | D13: 1 | F13: P | G13: 4 | H13: 5 | I13: 124.58 | J13: 105.03 | K13: 0.21 | L13: 2.52 | M13: 2.91 | N13: 2.79 | O13: 2016
A14: 27 | B14: SR | C14: 5 | D14: 1 | F14: P | G14: 5 | H14: 6 | I14: 82.86 | J14: 69.39 | K14: 0.23 | L14: 3.17 | M14: 3.3 | N14: 3.26 | O14: 2016
A15: 27 | B15: SR | C15: 5 | D15: 1 | F15: P | G15: 6 | H15: 7 | I15: 74.45 | J15: 65.4 | K15: 0.12 | L15: 3.32 | M15: 3.49 | N15: 3.44 | O15: 2016
A16: 27 | B16: SR | C16: 5 | D16: 1 | F16: P | G16: 7 | H16: 8 | I16: 85.75 | J16: 75.02 | K16: 0.16 | L16: 3.12 | M16: 3.29 | N16: 3.24 | O16: 2016
A17: 27 | B17: SR | C17: 5 | D17: 1 | F17: P | G17: 8 | H17: 9 | I17: 93.48 | J17: 81.92 | K17: 0.14 | L17: 2.99 | M17: 2.8 | N17: 2.86 | O17: 2016
A18: 27 | B18: SR | C18: 5 | D18: 1 | F18: P | G18: 9 | H18: 10 | I18: 92.88 | J18: 81.1 | K18: 0.18 | L18: 3 | M18: 2.47 | N18: 2.62 | O18: 2016
A19: 27 | B19: SR | C19: 5 | D19: 1 | F19: P | G19: 10 | H19: 11 | I19: 103.48 | J19: 88.39 | K19: 0.35 | L19: 2.83 | M19: 2.5 | N19: 2.59 | O19: 2016
A20: 27 | B20: SR | C20: 5 | D20: 1 | F20: P | G20: 11 | H20: 12 | I20: 127.49 | J20: 107.34 | K20: 0.26 | L20: 2.48 | M20: 2.53 | N20: 2.51 | O20: 2016
... A147: 27 | B147: SR | C147: 104 | D147: 1 | F147: P | G147: 17 | H147: 17.92 | I147: 110.02 | J147: 98.92 | K147: 0.22 | L147: 2.73 | M147: 3.47 | N147: 3.23 | O147: 2016
A148: 27 | B148: SR | C148: 104 | D148: 1 | E148: WB | F148: P | G148: 0 | H148: 0.17 | I148: 217.7 | J148: 184.34 | K148: 0.1 | L148: 1.51 | M148: 2.1 | N148: 1.9 | O148: 2015
A149: 27 | B149: SR | C149: 105 | D149: 1 | F149: P | G149: 0 | H149: 1 | I149: 86.33 | J149: 73.02 | K149: 0.09 | L149: 3.11 | M149: 3.52 | N149: 3.39 | O149: 2015
A150: 27 | B150: SR | C150: 105 | D150: 1 | F150: P | G150: 1 | H150: 2 | I150: 95.93 | J150: 81.41 | K150: 0.1 | L150: 2.95 | M150: 3.08 | N150: 3.04 | O150: 2015
A151: 27 | B151: SR | C151: 105 | D151: 1 | F151: P | G151: 2 | H151: 3 | I151: 121.01 | J151: 106.13 | K151: 0.09 | L151: 2.57 | M151: 3.32 | N151: 3.07 | O151: 2015
A152: 27 | B152: SR | C152: 105 | D152: 1 | F152: P | G152: 3 | H152: 4 | I152: 100.3 | J152: 88.43 | K152: 0.07 | L152: 2.88 | M152: 3.72 | N152: 3.45 | O152: 2015
A153: 27 | B153: SR | C153: 105 | D153: 1 | F153: P | G153: 4 | H153: 5 | I153: 99.04 | J153: 84.19 | K153: 0.09 | L153: 2.9 | M153: 3.39 | N153: 3.23 | O153: 2015
A154: 27 | B154: SR | C154: 105 | D154: 1 | F154: P | G154: 5 | H154: 6 | I154: 121.71 | J154: 103.14 | K154: 0.09 | L154: 2.56 | M154: 2.99 | N154: 2.85 | O154: 2015
A155: 27 | B155: SR | C155: 105 | D155: 1 | F155: P | G155: 6 | H155: 7 | I155: 113.39 | J155: 95.56 | K155: 0.11 | L155: 2.68 | M155: 3.32 | N155: 3.11 | O155: 2015
A156: 27 | B156: SR | C156: 105 | D156: 1 | F156: P | G156: 7 | H156: 8 | I156: 115.43 | J156: 97.91 | K156: 0.09 | L156: 2.65 | M156: 2.99 | N156: 2.88 | O156: 2015
A157: 27 | B157: SR | C157: 105 | D157: 1 | F157: P | G157: 8 | H157: 9 | I157: 131.94 | J157: 107.1 | K157: 0.1 | L157: 2.42 | M157: 2.49 | N157: 2.47 | O157: 2015
A158: 27 | B158: SR | C158: 105 | D158: 1 | F158: P | G158: 9 | H158: 10 | I158: 109.36 | J158: 91.22 | K158: 0.07 | L158: 2.74 | M158: 3.76 | N158: 3.42 | O158: 2015
A159: 27 | B159: SR | C159: 105 | D159: 1 | F159: P | G159: 10 | H159: 11 | I159: 150.93 | J159: 135.73 | K159: 0.12 | L159: 2.18 | M159: 2.95 | N159: 2.69 | O159: 2015
A160: 27 | B160: SR | C160: 105 | D160: 1 | F160: P | G160: 11 | H160: 12 | I160: 117.5 | J160: 100.23 | K160: 0.1 | L160: 2.62 | M160: 2.6 | N160: 2.61 | O160: 2015
... A271: 27 | B271: SR | C271: 457 | D271: 1 | F271: P | G271: 4 | H271: 4.02 | I271: 143.57 | J271: 129.7 | K271: 0.14 | L271: 2.27 | M271: 3.57 | N271: 3.12 | O271: 2016

Sheet Hardeman
I5: Region 4
A6: Pavement Management System | I6: Hardeman County
I7: (1.0 mile sections)
A8: County | B8: Route | C8: Route # | D8: County Sequence | E8: Special Case | F8: Direction | G8: From Log Mile | H8: To Log Mile | I8: IRI | J8: HC IRI | K8: Rut Depth | L8: PSI | M8: PDI | N8: PQI | O8: Year
A9: 35 | B9: SR | C9: 15 | D9: 1 | F9: P | G9: 0 | H9: 1 | I9: 43.78 | J9: 35.4 | K9: 0.05 | L9: 3.93 | M9: 4.6 | N9: 4.39 | O9: 2016
A10: 35 | B10: SR | C10: 15 | D10: 1 | F10: P | G10: 1 | H10: 2 | I10: 53.77 | J10: 48.65 | K10: 0.04 | L10: 3.72 | M10: 4.46 | N10: 4.22 | O10: 2015
A11: 35 | B11: SR | C11: 15 | D11: 1 | F11: P | G11: 2 | H11: 3 | I11: 67.47 | J11: 59.69 | K11: 0.04 | L11: 3.45 | M11: 4.41 | N11: 4.1 | O11: 2015
A12: 35 | B12: SR | C12: 15 | D12: 1 | F12: P | G12: 3 | H12: 4 | I12: 56.23 | J12: 49.67 | K12: 0.04 | L12: 3.67 | M12: 4.47 | N12: 4.21 | O12: 2015
A13: 35 | B13: SR | C13: 15 | D13: 1 | F13: P | G13: 4 | H13: 5 | I13: 51.34 | J13: 43.73 | K13: 0.06 | L13: 3.77 | M13: 4.18 | N13: 4.05 | O13: 2016
A14: 35 | B14: SR | C14: 15 | D14: 1 | F14: P | G14: 5 | H14: 6 | I14: 34.76 | J14: 28.41 | K14: 0.08 | L14: 4.13 | M14: 4.86 | N14: 4.63 | O14: 2016
A15: 35 | B15: SR | C15: 15 | D15: 1 | F15: P | G15: 6 | H15: 7 | I15: 32.57 | J15: 26.2 | K15: 0.07 | L15: 4.18 | M15: 4.84 | N15: 4.63 | O15: 2016
A16: 35 | B16: SR | C16: 15 | D16: 1 | F16: P | G16: 7 | H16: 8 | I16: 32.57 | J16: 27.02 | K16: 0.07 | L16: 4.18 | M16: 4.96 | N16: 4.71 | O16: 2016
A17: 35 | B17: SR | C17: 15 | D17: 1 | F17: P | G17: 8 | H17: 9 | I17: 37.42 | J17: 30.75 | K17: 0.06 | L17: 4.07 | M17: 4.83 | N17: 4.59 | O17: 2016
A18: 35 | B18: SR | C18: 15 | D18: 1 | F18: P | G18: 9 | H18: 10 | I18: 49.9 | J18: 41.3 | K18: 0.09 | L18: 3.8 | M18: 4.12 | N18: 4.02 | O18: 2016
A19: 35 | B19: SR | C19: 15 | D19: 1 | F19: P | G19: 10 | H19: 11 | I19: 58.72 | J19: 49.88 | K19: 0.1 | L19: 3.62 | M19: 3.63 | N19: 3.63 | O19: 2016
A20: 35 | B20: SR | C20: 15 | D20: 1 | F20: P | G20: 11 | H20: 12 | I20: 78.32 | J20: 64.22 | K20: 0.09 | L20: 3.25 | M20: 2.92 | N20: 3.02 | O20: 2016
... A161: 35 | B161: SR | C161: 368 | D161: 1 | F161: P | G161: 1 | H161: 1.72 | I161: 94.7 | J161: 79.08 | K161: 0.07 | L161: 2.97 | M161: 3.69 | N161: 3.46 | O161: 2015

Sheet Hardin
I5: Region 4
A6: Pavement Management System | I6: Hardin County
I7: (1.0 mile sections)
A8: County | B8: Route | C8: Route # | D8: County Sequence | E8: Special Case | F8: Direction | G8: From Log Mile | H8: To Log Mile | I8: IRI | J8: HC IRI | K8: Rut Depth | L8: PSI | M8: PDI | N8: PQI | O8: Year
A9: 36 | B9: SR | C9: 15 | D9: 1 | F9: P | G9: 0 | H9: 1 | I9: 78.88 | J9: 61.26 | K9: 0.18 | L9: 3.24 | M9: 2.3 | N9: 2.55 | O9: 2016
A10: 36 | B10: SR | C10: 15 | D10: 1 | F10: P | G10: 1 | H10: 2 | I10: 64.85 | J10: 50.66 | K10: 0.19 | L10: 3.5 | M10: 1.31 | N10: 1.76 | O10: 2016
A11: 36 | B11: SR | C11: 15 | D11: 1 | F11: P | G11: 2 | H11: 3 | I11: 78.88 | J11: 64.23 | K11: 0.18 | L11: 3.24 | M11: 1.81 | N11: 2.16 | O11: 2016
A12: 36 | B12: SR | C12: 15 | D12: 1 | F12: P | G12: 3 | H12: 4 | I12: 82.28 | J12: 71.76 | K12: 0.14 | L12: 3.18 | M12: 4.31 | N12: 3.93 | O12: 2016
A13: 36 | B13: SR | C13: 15 | D13: 1 | F13: P | G13: 4 | H13: 5 | I13: 160.34 | J13: 135.86 | K13: 0.23 | L13: 2.07 | M13: 2.58 | N13: 2.42 | O13: 2016
A14: 36 | B14: SR | C14: 15 | D14: 1 | F14: P | G14: 5 | H14: 6 | I14: 121.71 | J14: 101.91 | K14: 0.18 | L14: 2.56 | M14: 1.78 | N14: 1.99 | O14: 2016
A15: 36 | B15: SR | C15: 15 | D15: 1 | F15: P | G15: 6 | H15: 7 | I15: 127.49 | J15: 105.98 | K15: 0.15 | L15: 2.48 | M15: 2.18 | N15: 2.27 | O15: 2016
A16: 36 | B16: SR | C16: 15 | D16: 1 | F16: P | G16: 7 | H16: 8 | I16: 141.98 | J16: 116.9 | K16: 0.18 | L16: 2.29 | M16: 2.86 | N16: 2.68 | O16: 2016
A17: 36 | B17: SR | C17: 15 | D17: 1 | F17: P | G17: 8 | H17: 9 | I17: 125.3 | J17: 105.87 | K17: 0.23 | L17: 2.51 | M17: 3.05 | N17: 2.88 | O17: 2016
A18: 36 | B18: SR | C18: 15 | D18: 1 | F18: P | G18: 9 | H18: 10 | I18: 77.77 | J18: 69.27 | K18: 0.12 | L18: 3.26 | M18: 2.38 | N18: 2.62 | O18: 2016
A19: 36 | B19: SR | C19: 15 | D19: 1 | F19: P | G19: 10 | H19: 11 | I19: 64.85 | J19: 58.21 | K19: 0.1 | L19: 3.5 | M19: 2.33 | N19: 2.63 | O19: 2016
A20: 36 | B20: SR | C20: 15 | D20: 1 | F20: P | G20: 11 | H20: 12 | I20: 53.77 | J20: 47.54 | K20: 0.11 | L20: 3.72 | M20: 3.71 | N20: 3.71 | O20: 2016
... A173: 36 | B173: SR | C173: 421 | D173: 1 | F173: P | G173: 3 | H173: 3.43 | I173: 105.42 | J173: 89.77 | K173: 0.05 | L173: 2.8 | M173: 4.06 | N173: 3.63 | O173: 2015

Sheet Haywood
I5: Region 4
A6: Pavement Management System | I6: Haywood County
I7: (1.0 mile sections)
A8: County | B8: Route | C8: Route # | D8: County Sequence | E8: Special Case | F8: Direction | G8: From Log Mile | H8: To Log Mile | I8: IRI | J8: HC IRI | K8: Rut Depth | L8: PSI | M8: PDI | N8: PQI | O8: Year
A9: 38 | B9: I | C9: 40 | D9: 1 | F9: M | G9: 0 | H9: 1 | I9: 47.52 | J9: 41.42 | K9: 0.07 | L9: 3.85 | M9: 4.84 | N9: 4.52 | O9: 2016
A10: 38 | B10: I | C10: 40 | D10: 1 | F10: M | G10: 1 | H10: 2 | I10: 39.21 | J10: 33.25 | K10: 0.09 | L10: 4.03 | M10: 4.35 | N10: 4.25 | O10: 2016
A11: 38 | B11: I | C11: 40 | D11: 1 | F11: M | G11: 2 | H11: 3 | I11: 53.28 | J11: 47.26 | K11: 0.09 | L11: 3.73 | M11: 4 | N11: 3.92 | O11: 2016
A12: 38 | B12: I | C12: 40 | D12: 1 | F12: M | G12: 3 | H12: 4 | I12: 55.24 | J12: 47.05 | K12: 0.1 | L12: 3.69 | M12: 3.62 | N12: 3.64 | O12: 2016
A13: 38 | B13: I | C13: 40 | D13: 1 | F13: M | G13: 4 | H13: 5 | I13: 58.72 | J13: 49.38 | K13: 0.1 | L13: 3.62 | M13: 2.85 | N13: 3.06 | O13: 2016
A14: 38 | B14: I | C14: 40 | D14: 1 | F14: M | G14: 5 | H14: 6 | I14: 75 | J14: 61.67 | K14: 0.11 | L14: 3.31 | M14: 2.97 | N14: 3.07 | O14: 2016
A15: 38 | B15: I | C15: 40 | D15: 1 | F15: M | G15: 6 | H15: 7 | I15: 74.45 | J15: 63.92 | K15: 0.07 | L15: 3.32 | M15: 3.94 | N15: 3.74 | O15: 2016
A16: 38 | B16: I | C16: 40 | D16: 1 | F16: M | G16: 7 | H16: 8 | I16: 78.88 | J16: 66.4 | K16: 0.09 | L16: 3.24 | M16: 3.64 | N16: 3.52 | O16: 2016
A17: 38 | B17: I | C17: 40 | D17: 1 | F17: M | G17: 8 | H17: 9 | I17: 62.27 | J17: 52.44 | K17: 0.1 | L17: 3.55 | M17: 3.16 | N17: 3.27 | O17: 2016
A18: 38 | B18: I | C18: 40 | D18: 1 | F18: M | G18: 9 | H18: 10 | I18: 46.11 | J18: 37.85 | K18: 0.11 | L18: 3.88 | M18: 2.42 | N18: 2.79 | O18: 2016
A19: 38 | B19: I | C19: 40 | D19: 1 | F19: M | G19: 10 | H19: 11 | I19: 72.27 | J19: 64.16 | K19: 0.09 | L19: 3.36 | M19: 2.89 | N19: 3.02 | O19: 2016
A20: 38 | B20: I | C20: 40 | D20: 1 | F20: M | G20: 11 | H20: 12 | I20: 60.74 | J20: 53.81 | K20: 0.1 | L20: 3.58 | M20: 2.78 | N20: 3 | O20: 2016
... A127: 38 | B127: SR | C127: 54 | D127: 1 | F127: P | G127: 24 | H127: 24.6 | I127: 109.36 | J127: 91.93 | K127: 0.09 | L127: 2.74 | M127: 4.16 | N127: 3.67 | O127: 2015
A128: 38 | B128: SR | C128: 54 | D128: 1 | E128: SB | F128: P | G128: 0 | H128: 0.06 | I128: 330.94 | J128: 291 | K128: 0.12 | L128: 0.81 | M128: 1.6 | N128: 1.3 | O128: 2015
A129: 38 | B129: SR | C129: 76 | D129: 1 | F129: P | G129: 0 | H129: 1 | I129: 78.88 | J129: 61.01 | K129: 0.13 | L129: 3.24 | M129: 2.06 | N129: 2.36 | O129: 2015
A130: 38 | B130: SR | C130: 76 | D130: 1 | F130: P | G130: 1 | H130: 2 | I130: 67.99 | J130: 53.18 | K130: 0.13 | L130: 3.44 | M130: 2.83 | N130: 3 | O130: 2015
A131: 38 | B131: SR | C131: 76 | D131: 1 | F131: P | G131: 2 | H131: 3 | I131: 71.19 | J131: 55.74 | K131: 0.13 | L131: 3.38 | M131: 3.33 | N131: 3.34 | O131: 2015
A132: 38 | B132: SR | C132: 76 | D132: 1 | F132: P | G132: 3 | H132: 4 | I132: 86.92 | J132: 66.25 | K132: 0.13 | L132: 3.1 | M132: 3.25 | N132: 3.2 | O132: 2015
A133: 38 | B133: SR | C133: 76 | D133: 1 | F133: P | G133: 4 | H133: 5 | I133: 94.7 | J133: 70.64 | K133: 0.12 | L133: 2.97 | M133: 2.84 | N133: 2.88 | O133: 2015
A134: 38 | B134: SR | C134: 76 | D134: 1 | F134: P | G134: 5 | H134: 6 | I134: 65.37 | J134: 53.8 | K134: 0.09 | L134: 3.49 | M134: 3.12 | N134: 3.23 | O134: 2015
A135: 38 | B135: SR | C135: 76 | D135: 1 | F135: P | G135: 6 | H135: 7 | I135: 58.72 | J135: 51.96 | K135: 0.07 | L135: 3.62 | M135: 4.47 | N135: 4.2 | O135: 2015
A136: 38 | B136: SR | C136: 76 | D136: 1 | F136: P | G136: 7 | H136: 8 | I136: 72.27 | J136: 65.2 | K136: 0.07 | L136: 3.36 | M136: 4.39 | N136: 4.05 | O136: 2015
A137: 38 | B137: SR | C137: 76 | D137: 1 | F137: P | G137: 8 | H137: 9 | I137: 84.58 | J137: 76.51 | K137: 0.07 | L137: 3.14 | M137: 4.43 | N137: 4 | O137: 2015
A138: 38 | B138: SR | C138: 76 | D138: 1 | F138: P | G138: 9 | H138: 10 | I138: 88.68 | J138: 80.15 | K138: 0.1 | L138: 3.07 | M138: 3.66 | N138: 3.47 | O138: 2015
A139: 38 | B139: SR | C139: 76 | D139: 1 | F139: P | G139: 10 | H139: 11 | I139: 131.94 | J139: 113.31 | K139: 0.23 | L139: 2.42 | M139: 1.87 | N139: 2.02 | O139: 2016
A140: 38 | B140: SR | C140: 76 | D140: 1 | F140: P | G140: 11 | H140: 12 | I140: 158.6 | J140: 134.61 | K140: 0.24 | L140: 2.09 | M140: 1.81 | N140: 1.89 | O140: 2016
... A203: 38 | B203: SR | C203: 369 | D203: 1 | F203: P | G203: 1 | H203: 1.1 | I203: 125.3 | J203: 107.2 | K203: 0.16 | L203: 2.51 | M203: 2.85 | N203: 2.74 | O203: 2015

Sheet Henderson
I5: Region 4
A6: Pavement Management System | I6: Henderson County
I7: (1.0 mile sections)
A8: County | B8: Route | C8: Route # | D8: County Sequence | E8: Special Case | F8: Direction | G8: From Log Mile | H8: To Log Mile | I8: IRI | J8: HC IRI | K8: Rut Depth | L8: PSI | M8: PDI | N8: PQI | O8: Year
A9: 39 | B9: I | C9: 40 | D9: 1 | F9: M | G9: 0 | H9: 1 | I9: 39.21 | J9: 31.08 | K9: 0.09 | L9: 4.03 | M9: 3.39 | N9: 3.57 | O9: 2016
A10: 39 | B10: I | C10: 40 | D10: 1 | F10: M | G10: 1 | H10: 2 | I10: 35.64 | J10: 28.25 | K10: 0.09 | L10: 4.11 | M10: 3.12 | N10: 3.39 | O10: 2016
A11: 39 | B11: I | C11: 40 | D11: 1 | F11: M | G11: 2 | H11: 3 | I11: 40.12 | J11: 32.31 | K11: 0.08 | L11: 4.01 | M11: 2.87 | N11: 3.17 | O11: 2016
A12: 39 | B12: I | C12: 40 | D12: 1 | F12: M | G12: 3 | H12: 4 | I12: 51.82 | J12: 43.22 | K12: 0.08 | L12: 3.76 | M12: 2.64 | N12: 2.94 | O12: 2016
A13: 39 | B13: I | C13: 40 | D13: 1 | F13: M | G13: 4 | H13: 5 | I13: 46.58 | J13: 36.86 | K13: 0.08 | L13: 3.87 | M13: 2.05 | N13: 2.48 | O13: 2016
A14: 39 | B14: I | C14: 40 | D14: 1 | F14: M | G14: 5 | H14: 6 | I14: 43.32 | J14: 34.43 | K14: 0.09 | L14: 3.94 | M14: 2.58 | N14: 2.93 | O14: 2016
A15: 39 | B15: I | C15: 40 | D15: 1 | F15: M | G15: 6 | H15: 7 | I15: 45.17 | J15: 37.94 | K15: 0.11 | L15: 3.9 | M15: 4.73 | N15: 4.46 | O15: 2016
A16: 39 | B16: I | C16: 40 | D16: 1 | F16: M | G16: 7 | H16: 8 | I16: 44.24 | J16: 37.64 | K16: 0.11 | L16: 3.92 | M16: 4.85 | N16: 4.55 | O16: 2016
A17: 39 | B17: I | C17: 40 | D17: 1 | F17: M | G17: 8 | H17: 9 | I17: 36.53 | J17: 30.8 | K17: 0.11 | L17: 4.09 | M17: 4.84 | N17: 4.6 | O17: 2016
A18: 39 | B18: I | C18: 40 | D18: 1 | F18: M | G18: 9 | H18: 10 | I18: 35.2 | J18: 29.68 | K18: 0.11 | L18: 4.12 | M18: 4.68 | N18: 4.5 | O18: 2016
A19: 39 | B19: I | C19: 40 | D19: 1 | F19: M | G19: 10 | H19: 11 | I19: 34.32 | J19: 28.53 | K19: 0.11 | L19: 4.14 | M19: 4.92 | N19: 4.67 | O19: 2016
A20: 39 | B20: I | C20: 40 | D20: 1 | F20: M | G20: 11 | H20: 12 | I20: 31.7 | J20: 26.2 | K20: 0.11 | L20: 4.2 | M20: 4.99 | N20: 4.74 | O20: 2016
... A107: 39 | B107: SR | C107: 22 | D107: 1 | F107: P | G107: 23 | H107: 23.343 | I107: 39.66 | J107: 33.7 | K107: 0.04 | L107: 4.02 | M107: 4.76 | N107: 4.52 | O107: 2016
A108: 39 | B108: SR | C108: 22 | D108: 1 | E108: ALT | F108: P | G108: 0 | H108: 1 | I108: 78.32 | J108: 65.87 | K108: 0.05 | L108: 3.25 | M108: 3.5 | N108: 3.42 | O108: 2015
A109: 39 | B109: SR | C109: 22 | D109: 1 | E109: ALT | F109: P | G109: 1 | H109: 2 | I109: 79.45 | J109: 65.6 | K109: 0.05 | L109: 3.23 | M109: 3.49 | N109: 3.41 | O109: 2015
A110: 39 | B110: SR | C110: 22 | D110: 1 | E110: ALT | F110: P | G110: 2 | H110: 3 | I110: 72.27 | J110: 61.49 | K110: 0.05 | L110: 3.36 | M110: 3.94 | N110: 3.76 | O110: 2015
A111: 39 | B111: SR | C111: 22 | D111: 1 | E111: ALT | F111: P | G111: 3 | H111: 4 | I111: 83.43 | J111: 73.48 | K111: 0.05 | L111: 3.16 | M111: 3.8 | N111: 3.6 | O111: 2015
A112: 39 | B112: SR | C112: 22 | D112: 1 | E112: ALT | F112: P | G112: 4 | H112: 5 | I112: 79.45 | J112: 68.12 | K112: 0.05 | L112: 3.23 | M112: 3.87 | N112: 3.67 | O112: 2015
A113: 39 | B113: SR | C113: 22 | D113: 1 | E113: ALT | F113: P | G113: 5 | H113: 6 | I113: 82.86 | J113: 71.78 | K113: 0.05 | L113: 3.17 | M113: 3.57 | N113: 3.44 | O113: 2015
A114: 39 | B114: SR | C114: 22 | D114: 1 | E114: ALT | F114: P | G114: 6 | H114: 7 | I114: 88.09 | J114: 78.85 | K114: 0.06 | L114: 3.08 | M114: 3.94 | N114: 3.66 | O114: 2015
A115: 39 | B115: SR | C115: 22 | D115: 1 | E115: ALT | F115: P | G115: 7 | H115: 8 | I115: 75.55 | J115: 62.42 | K115: 0.06 | L115: 3.3 | M115: 3.95 | N115: 3.74 | O115: 2015
A116: 39 | B116: SR | C116: 22 | D116: 1 | E116: ALT | F116: P | G116: 8 | H116: 9 | I116: 77.77 | J116: 66.87 | K116: 0.06 | L116: 3.26 | M116: 3.48 | N116: 3.41 | O116: 2015
A117: 39 | B117: SR | C117: 22 | D117: 1 | E117: ALT | F117: P | G117: 9 | H117: 10 | I117: 80.58 | J117: 70.15 | K117: 0.06 | L117: 3.21 | M117: 3.53 | N117: 3.43 | O117: 2015
A118: 39 | B118: SR | C118: 22 | D118: 1 | E118: ALT | F118: P | G118: 10 | H118: 10.55 | I118: 85.16 | J118: 75.55 | K118: 0.08 | L118: 3.13 | M118: 3.36 | N118: 3.29 | O118: 2015
A119: 39 | B119: SR | C119: 100 | D119: 1 | F119: P | G119: 0 | H119: 1 | I119: 80.01 | J119: 62.37 | K119: 0.1 | L119: 3.22 | M119: 2.91 | N119: 3 | O119: 2015
A120: 39 | B120: SR | C120: 100 | D120: 1 | F120: P | G120: 1 | H120: 2 | I120: 88.68 | J120: 69.25 | K120: 0.1 | L120: 3.07 | M120: 3.25 | N120: 3.19 | O120: 2015
A121: 39 | B121: SR | C121: 100 | D121: 1 | F121: P | G121: 2 | H121: 3 | I121: 91.67 | J121: 74.1 | K121: 0.15 | L121: 3.02 | M121: 2.78 | N121: 2.85 | O121: 2015
A122: 39 | B122: SR | C122: 100 | D122: 1 | F122: P | G122: 3 | H122: 4 | I122: 70.66 | J122: 57.82 | K122: 0.15 | L122: 3.39 | M122: 3.16 | N122: 3.23 | O122: 2015
A123: 39 | B123: SR | C123: 100 | D123: 1 | F123: P | G123: 4 | H123: 5 | I123: 57.22 | J123: 46.5 | K123: 0.11 | L123: 3.65 | M123: 3.11 | N123: 3.26 | O123: 2015
A124: 39 | B124: SR | C124: 100 | D124: 1 | F124: P | G124: 5 | H124: 6 | I124: 69.05 | J124: 57.26 | K124: 0.15 | L124: 3.42 | M124: 3.22 | N124: 3.28 | O124: 2015
A125: 39 | B125: SR | C125: 100 | D125: 1 | F125: P | G125: 6 | H125: 7 | I125: 78.88 | J125: 65.12 | K125: 0.18 | L125: 3.24 | M125: 3.19 | N125: 3.2 | O125: 2015
A126: 39 | B126: SR | C126: 100 | D126: 1 | F126: P | G126: 7 | H126: 8 | I126: 112.03 | J126: 95.13 | K126: 0.19 | L126: 2.7 | M126: 3.11 | N126: 2.98 | O126: 2015
A127: 39 | B127: SR | C127: 100 | D127: 1 | F127: P | G127: 8 | H127: 9 | I127: 85.75 | J127: 70.86 | K127: 0.21 | L127: 3.12 | M127: 3.3 | N127: 3.24 | O127: 2015
A128: 39 | B128: SR | C128: 100 | D128: 1 | F128: P | G128: 9 | H128: 10 | I128: 86.92 | J128: 72.73 | K128: 0.22 | L128: 3.1 | M128: 3.3 | N128: 3.24 | O128: 2015
A129: 39 | B129: SR | C129: 100 | D129: 1 | F129: P | G129: 10 | H129: 10.58 | I129: 107.38 | J129: 93.32 | K129: 0.2 | L129: 2.77 | M129: 3.38 | N129: 3.18 | O129: 2015
A130: 39 | B130: SR | C130: 104 | D130: 1 | F130: P | G130: 0 | H130: 1 | I130: 132.69 | J130: 115.32 | K130: 0.08 | L130: 2.41 | M130: 3.07 | N130: 2.85 | O130: 2015
... A223: 39 | B223: SR | C223: 421 | D223: 1 | F223: P | G223: 1 | H223: 2 | I223: 142.77 | J223: 124.2 | K223: 0.1 | L223: 2.28 | M223: 3.15 | N223: 2.86 | O223: 2015

Sheet Henry
I5: Region 4
A6: Pavement Management System | I6: Henry County
I7: (1.0 mile sections)
A8: County | B8: Route | C8: Route # | D8: County Sequence | E8: Special Case | F8: Direction | G8: From Log Mile | H8: To Log Mile | I8: IRI | J8: HC IRI | K8: Rut Depth | L8: PSI | M8: PDI | N8: PQI | O8: Year
A9: 40 | B9: SR | C9: 22 | D9: 1 | F9: P | G9: 0 | H9: 1 | I9: 69.05 | J9: 57.21 | K9: 0.11 | L9: 3.42 | M9: 1.9 | N9: 2.27 | O9: 2016
A10: 40 | B10: SR | C10: 22 | D10: 1 | F10: P | G10: 1 | H10: 1.81 | I10: 58.72 | J10: 47.49 | K10: 0.09 | L10: 3.62 | M10: 2.43 | N10: 2.74 | O10: 2016
A11: 40 | B11: SR | C11: 54 | D11: 1 | F11: P | G11: 0 | H11: 1 | I11: 93.48 | J11: 81.42 | K11: 0.09 | L11: 2.99 | M11: 1.73 | N11: 2.04 | O11: 2015
A12: 40 | B12: SR | C12: 54 | D12: 1 | F12: P | G12: 1 | H12: 2 | I12: 104.77 | J12: 93.52 | K12: 0.1 | L12: 2.81 | M12: 2.1 | N12: 2.29 | O12: 2015
A13: 40 | B13: SR | C13: 54 | D13: 1 | F13: P | G13: 2 | H13: 3 | I13: 103.48 | J13: 93.68 | K13: 0.09 | L13: 2.83 | M13: 1.81 | N13: 2.07 | O13: 2015
A14: 40 | B14: SR | C14: 54 | D14: 1 | F14: P | G14: 3 | H14: 4 | I14: 116.81 | J14: 105.57 | K14: 0.09 | L14: 2.63 | M14: 2.01 | N14: 2.18 | O14: 2015
A15: 40 | B15: SR | C15: 54 | D15: 1 | F15: P | G15: 4 | H15: 5 | I15: 114.75 | J15: 103.44 | K15: 0.09 | L15: 2.66 | M15: 2.38 | N15: 2.46 | O15: 2015
A16: 40 | B16: SR | C16: 54 | D16: 1 | F16: P | G16: 5 | H16: 6 | I16: 94.09 | J16: 83.25 | K16: 0.09 | L16: 2.98 | M16: 1.98 | N16: 2.24 | O16: 2015
A17: 40 | B17: SR | C17: 54 | D17: 1 | F17: P | G17: 6 | H17: 7 | I17: 99.67 | J17: 87.27 | K17: 0.08 | L17: 2.89 | M17: 2.24 | N17: 2.42 | O17: 2015
A18: 40 | B18: SR | C18: 54 | D18: 1 | F18: P | G18: 7 | H18: 8 | I18: 112.71 | J18: 99.47 | K18: 0.1 | L18: 2.69 | M18: 2.35 | N18: 2.45 | O18: 2015
A19: 40 | B19: SR | C19: 54 | D19: 1 | F19: P | G19: 8 | H19: 9 | I19: 92.27 | J19: 78.98 | K19: 0.09 | L19: 3.01 | M19: 3.19 | N19: 3.13 | O19: 2015
A20: 40 | B20: SR | C20: 54 | D20: 1 | F20: P | G20: 9 | H20: 10 | I20: 86.33 | J20: 71.67 | K20: 0.12 | L20: 3.11 | M20: 2.96 | N20: 3 | O20: 2016
... A67: 40 | B67: SR | C67: 69 | D67: 1 | F67: P | G67: 31 | H67: 31.37 | I67: 173.08 | J67: 154.18 | K67: 0.1 | L67: 1.93 | M67: 3.58 | N67: 2.97 | O67: 2015
A68: 40 | B68: SR | C68: 69 | D68: 1 | E68: ALT | F68: P | G68: 0 | H68: 1 | I68: 157.73 | J68: 126.02 | K68: 0.16 | L68: 2.1 | M68: 1.35 | N68: 1.54 | O68: 2015
A69: 40 | B69: SR | C69: 69 | D69: 1 | E69: ALT | F69: P | G69: 1 | H69: 2 | I69: 180.77 | J69: 136.08 | K69: 0.19 | L69: 1.85 | M69: 0.86 | N69: 1.08 | O69: 2015
A70: 40 | B70: SR | C70: 69 | D70: 1 | E70: ALT | F70: P | G70: 2 | H70: 3 | I70: 141.19 | J70: 108.09 | K70: 0.14 | L70: 2.3 | M70: 0.79 | N70: 1.09 | O70: 2015
A71: 40 | B71: SR | C71: 69 | D71: 1 | E71: ALT | F71: P | G71: 3 | H71: 4 | I71: 192.97 | J71: 153.82 | K71: 0.21 | L71: 1.73 | M71: 0.92 | N71: 1.11 | O71: 2015
A72: 40 | B72: SR | C72: 69 | D72: 1 | E72: ALT | F72: P | G72: 4 | H72: 5 | I72: 149.27 | J72: 119.21 | K72: 0.16 | L72: 2.2 | M72: 1.13 | N72: 1.38 | O72: 2015
A73: 40 | B73: SR | C73: 69 | D73: 1 | E73: ALT | F73: P | G73: 5 | H73: 6 | I73: 150.1 | J73: 116.22 | K73: 0.21 | L73: 2.19 | M73: 0.81 | N73: 1.09 | O73: 2015
A74: 40 | B74: SR | C74: 69 | D74: 1 | E74: ALT | F74: P | G74: 6 | H74: 7 | I74: 108.7 | J74: 91.08 | K74: 0.14 | L74: 2.75 | M74: 2.35 | N74: 2.46 | O74: 2015
A75: 40 | B75: SR | C75: 69 | D75: 1 | E75: ALT | F75: P | G75: 7 | H75: 8 | I75: 94.7 | J75: 73.87 | K75: 0.1 | L75: 2.97 | M75: 2.17 | N75: 2.38 | O75: 2015
A76: 40 | B76: SR | C76: 69 | D76: 1 | E76: ALT | F76: P | G76: 8 | H76: 9 | I76: 87.5 | J76: 69.89 | K76: 0.1 | L76: 3.09 | M76: 1.79 | N76: 2.11 | O76: 2015
A77: 40 | B77: SR | C77: 69 | D77: 1 | E77: ALT | F77: P | G77: 9 | H77: 10 | I77: 82.28 | J77: 66.84 | K77: 0.09 | L77: 3.18 | M77: 1.59 | N77: 1.96 | O77: 2015
A78: 40 | B78: SR | C78: 69 | D78: 1 | E78: ALT | F78: P | G78: 10 | H78: 11 | I78: 96.55 | J78: 79.48 | K78: 0.09 | L78: 2.94 | M78: 2.56 | N78: 2.67 | O78: 2015
A79: 40 | B79: SR | C79: 69 | D79: 1 | E79: ALT | F79: P | G79: 11 | H79: 12 | I79: 93.48 | J79: 75.59 | K79: 0.1 | L79: 2.99 | M79: 2.62 | N79: 2.73 | O79: 2015
A80: 40 | B80: SR | C80: 69 | D80: 1 | E80: ALT | F80: P | G80: 12 | H80: 12.54 | I80: 91.07 | J80: 77.9 | K80: 0.09 | L80: 3.03 | M80: 2.78 | N80: 2.85 | O80: 2015
A81: 40 | B81: SR | C81: 76 | D81: 1 | F81: P | G81: 0 | H81: 1 | I81: 65.89 | J81: 53.37 | K81: 0.1 | L81: 3.48 | M81: 2 | N81: 2.36 | O81: 2016
A82: 40 | B82: SR | C82: 76 | D82: 1 | F82: P | G82: 1 | H82: 2 | I82: 53.77 | J82: 43.61 | K82: 0.12 | L82: 3.72 | M82: 1.52 | N82: 1.99 | O82: 2016
A83: 40 | B83: SR | C83: 76 | D83: 1 | F83: P | G83: 2 | H83: 3 | I83: 48.94 | J83: 41.32 | K83: 0.11 | L83: 3.82 | M83: 1.95 | N83: 2.39 | O83: 2016
A84: 40 | B84: SR | C84: 76 | D84: 1 | F84: P | G84: 3 | H84: 4 | I84: 51.34 | J84: 42.61 | K84: 0.11 | L84: 3.77 | M84: 1.54 | N84: 2.01 | O84: 2016
A85: 40 | B85: SR | C85: 76 | D85: 1 | F85: P | G85: 4 | H85: 5 | I85: 53.28 | J85: 42.61 | K85: 0.09 | L85: 3.73 | M85: 2.39 | N85: 2.73 | O85: 2016
A86: 40 | B86: SR | C86: 76 | D86: 1 | F86: P | G86: 5 | H86: 6 | I86: 68.52 | J86: 56.77 | K86: 0.09 | L86: 3.43 | M86: 2.34 | N86: 2.62 | O86: 2016
A87: 40 | B87: SR | C87: 76 | D87: 1 | F87: P | G87: 6 | H87: 7 | I87: 51.34 | J87: 41.28 | K87: 0.1 | L87: 3.77 | M87: 2.12 | N87: 2.52 | O87: 2016
A88: 40 | B88: SR | C88: 76 | D88: 1 | F88: P | G88: 7 | H88: 8 | I88: 72.27 | J88: 58.18 | K88: 0.09 | L88: 3.36 | M88: 2.19 | N88: 2.49 | O88: 2016
A89: 40 | B89: SR | C89: 76 | D89: 1 | F89: P | G89: 8 | H89: 9 | I89: 84.58 | J89: 70.51 | K89: 0.1 | L89: 3.14 | M89: 1.8 | N89: 2.13 | O89: 2016
A90: 40 | B90: SR | C90: 76 | D90: 1 | F90: P | G90: 9 | H90: 10 | I90: 64.33 | J90: 54.68 | K90: 0.08 | L90: 3.51 | M90: 1.97 | N90: 2.34 | O90: 2016
A91: 40 | B91: SR | C91: 76 | D91: 1 | F91: P | G91: 10 | H91: 11 | I91: 69.05 | J91: 59.36 | K91: 0.1 | L91: 3.42 | M91: 1.56 | N91: 1.97 | O91: 2016
A92: 40 | B92: SR | C92: 76 | D92: 1 | F92: P | G92: 11 | H92: 12 | I92: 73.36 | J92: 61.82 | K92: 0.12 | L92: 3.34 | M92: 1.71 | N92: 2.09 | O92: 2016
... A198: 40 | B198: SR | C198: 356 | D198: 1 | F198: P | G198: 0 | H198: 0.95 | I198: 181.76 | J198: 151.27 | K198: 0.14 | L198: 1.84 | M198: 1.89 | N198: 1.87 | O198: 2016

Sheet Lake
I5: Region 4
A6: Pavement Management System | I6: Lake County
I7: (1.0 mile sections)
A8: County | B8: Route | C8: Route # | D8: County Sequence | E8: Special Case | F8: Direction | G8: From Log Mile | H8: To Log Mile | I8: IRI | J8: HC IRI | K8: Rut Depth | L8: PSI | M8: PDI | N8: PQI | O8: Year
A9: 48 | B9: SR | C9: 21 | D9: 1 | F9: P | G9: 0 | H9: 1 | I9: 86.92 | J9: 79.44 | K9: 0.05 | L9: 3.1 | M9: 4.08 | N9: 3.76 | O9: 2015
A10: 48 | B10: SR | C10: 21 | D10: 1 | F10: P | G10: 1 | H10: 2 | I10: 96.55 | J10: 82.8 | K10: 0.07 | L10: 2.94 | M10: 3.68 | N10: 3.44 | O10: 2015
A11: 48 | B11: SR | C11: 21 | D11: 1 | F11: P | G11: 2 | H11: 3 | I11: 148.44 | J11: 131.46 | K11: 0.15 | L11: 2.21 | M11: 2.84 | N11: 2.63 | O11: 2015
A12: 48 | B12: SR | C12: 21 | D12: 1 | F12: P | G12: 3 | H12: 4 | I12: 130.44 | J12: 112.17 | K12: 0.13 | L12: 2.44 | M12: 3.13 | N12: 2.9 | O12: 2015
A13: 48 | B13: SR | C13: 21 | D13: 1 | F13: P | G13: 4 | H13: 5 | I13: 120.3 | J13: 98.9 | K13: 0.09 | L13: 2.58 | M13: 3.23 | N13: 3.02 | O13: 2015
A14: 48 | B14: SR | C14: 21 | D14: 1 | F14: P | G14: 5 | H14: 6 | I14: 123.86 | J14: 103.15 | K14: 0.1 | L14: 2.53 | M14: 2.97 | N14: 2.83 | O14: 2015
A15: 48 | B15: SR | C15: 21 | D15: 1 | F15: P | G15: 6 | H15: 7 | I15: 144.38 | J15: 123.55 | K15: 0.11 | L15: 2.26 | M15: 2.82 | N15: 2.64 | O15: 2015
A16: 48 | B16: SR | C16: 21 | D16: 1 | F16: P | G16: 7 | H16: 7.63 | I16: 124.58 | J16: 104.02 | K16: 0.07 | L16: 2.52 | M16: 3.76 | N16: 3.33 | O16: 2015
A17: 48 | B17: SR | C17: 22 | D17: 1 | F17: P | G17: 0 | H17: 1 | I17: 150.93 | J17: 130.7 | K17: 0.13 | L17: 2.18 | M17: 3.23 | N17: 2.87 | O17: 2015
A18: 48 | B18: SR | C18: 22 | D18: 1 | F18: P | G18: 1 | H18: 2 | I18: 140.4 | J18: 119.92 | K18: 0.09 | L18: 2.31 | M18: 3.06 | N18: 2.81 | O18: 2015
A19: 48 | B19: SR | C19: 22 | D19: 1 | F19: P | G19: 2 | H19: 3 | I19: 54.75 | J19: 50.66 | K19: 0.03 | L19: 3.7 | M19: 4.97 | N19: 4.55 | O19: 2015
A20: 48 | B20: SR | C20: 22 | D20: 1 | F20: P | G20: 3 | H20: 4 | I20: 42.4 | J20: 37.96 | K20: 0.03 | L20: 3.96 | M20: 5 | N20: 4.66 | O20: 2015
... A70: 48 | B70: SR | C70: 213 | D70: 1 | F70: P | G70: 3 | H70: 3.23 | I70: 116.12 | J70: 104.77 | K70: 0.06 | L70: 2.64 | M70: 3.25 | N70: 3.05 | O70: 2015

Sheet Lauderdale
I5: Region 4
A6: Pavement Management System | I6: Lauderdale County
I7: (1.0 mile sections)
A8: County | B8: Route | C8: Route # | D8: County Sequence | E8: Special Case | F8: Direction | G8: From Log Mile | H8: To Log Mile | I8: IRI | J8: HC IRI | K8: Rut Depth | L8: PSI | M8: PDI | N8: PQI | O8: Year
A9: 49 | B9: SR | C9: 3 | D9: 1 | F9: P | G9: 0 | H9: 1 | I9: 79.45 | J9: 70.43 | K9: 0.13 | L9: 3.23 | M9: 3.04 | N9: 3.1 | O9: 2016
A10: 49 | B10: SR | C10: 3 | D10: 1 | F10: P | G10: 1 | H10: 2 | I10: 55.24 | J10: 44.96 | K10: 0.14 | L10: 3.69 | M10: 2.72 | N10: 2.98 | O10: 2016
A11: 49 | B11: SR | C11: 3 | D11: 1 | F11: P | G11: 2 | H11: 3 | I11: 50.38 | J11: 40.56 | K11: 0.17 | L11: 3.79 | M11: 2.63 | N11: 2.93 | O11: 2016
A12: 49 | B12: SR | C12: 3 | D12: 1 | F12: P | G12: 3 | H12: 4 | I12: 53.28 | J12: 43.41 | K12: 0.17 | L12: 3.73 | M12: 2.76 | N12: 3.02 | O12: 2016
A13: 49 | B13: SR | C13: 3 | D13: 1 | F13: P | G13: 4 | H13: 5 | I13: 49.42 | J13: 40.48 | K13: 0.15 | L13: 3.81 | M13: 2.68 | N13: 2.98 | O13: 2016
A14: 49 | B14: SR | C14: 3 | D14: 1 | F14: P | G14: 5 | H14: 6 | I14: 54.75 | J14: 44.66 | K14: 0.22 | L14: 3.7 | M14: 3.09 | N14: 3.26 | O14: 2016
A15: 49 | B15: SR | C15: 3 | D15: 1 | F15: P | G15: 6 | H15: 7 | I15: 50.38 | J15: 40.42 | K15: 0.21 | L15: 3.79 | M15: 2.94 | N15: 3.17 | O15: 2016
A16: 49 | B16: SR | C16: 3 | D16: 1 | F16: P | G16: 7 | H16: 8 | I16: 62.27 | J16: 52.4 | K16: 0.25 | L16: 3.55 | M16: 2.51 | N16: 2.79 | O16: 2016
A17: 49 | B17: SR | C17: 3 | D17: 1 | F17: P | G17: 8 | H17: 9 | I17: 64.33 | J17: 52.74 | K17: 0.28 | L17: 3.51 | M17: 2.73 | N17: 2.94 | O17: 2016
A18: 49 | B18: SR | C18: 3 | D18: 1 | F18: P | G18: 9 | H18: 10 | I18: 92.88 | J18: 77.93 | K18: 0.34 | L18: 3 | M18: 2.35 | N18: 2.53 | O18: 2016
A19: 49 | B19: SR | C19: 3 | D19: 1 | F19: P | G19: 10 | H19: 11 | I19: 91.67 | J19: 70.64 | K19: 0.48 | L19: 3.02 | M19: 1.23 | N19: 1.61 | O19: 2016
A20: 49 | B20: SR | C20: 3 | D20: 1 | F20: P | G20: 11 | H20: 12 | I20: 71.73 | J20: 54.78 | K20: 0.48 | L20: 3.37 | M20: 1.27 | N20: 1.7 | O20: 2016
... A69: 49 | B69: SR | C69: 87 | D69: 1 | F69: P | G69: 8 | H69: 9 | I69: 149.27 | J69: 124.72 | K69: 0.16 | L69: 2.2 | M69: 1.8 | N69: 1.91 | O69: 2015
A70: 49 | B70: SR | C70: 87 | D70: 1 | F70: P | G70: 9 | H70: 10 | I70: 86.33 | J70: 72.87 | K70: 0.13 | L70: 3.11 | M70: 4.36 | N70: 3.94 | O70: 2016 | P70: 2015 PSI
A71: 49 | B71: SR | C71: 87 | D71: 1 | F71: P | G71: 10 | H71: 11 | I71: 74.45 | J71: 59.36 | K71: 0.16 | L71: 3.32 | M71: 4.27 | N71: 3.96 | O71: 2016 | P71: 2015 PSI
A72: 49 | B72: SR | C72: 87 | D72: 1 | F72: P | G72: 11 | H72: 12 | I72: 69.59 | J72: 56.04 | K72: 0.15 | L72: 3.41 | M72: 4.47 | N72: 4.12 | O72: 2016 | P72: 2015 PSI
A73: 49 | B73: SR | C73: 87 | D73: 1 | F73: P | G73: 12 | H73: 13 | I73: 81.14 | J73: 68.04 | K73: 0.15 | L73: 3.2 | M73: 4.26 | N73: 3.91 | O73: 2016 | P73: 2015 PSI
A74: 49 | B74: SR | C74: 87 | D74: 1 | F74: P | G74: 13 | H74: 14 | I74: 77.21 | J74: 62.57 | K74: 0.15 | L74: 3.27 | M74: 4.24 | N74: 3.92 | O74: 2016 | P74: 2015 PSI
A75: 49 | B75: SR | C75: 87 | D75: 1 | F75: P | G75: 14 | H75: 15 | I75: 75.55 | J75: 63.01 | K75: 0.17 | L75: 3.3 | M75: 4.59 | N75: 4.16 | O75: 2016 | P75: 2015 PSI
A76: 49 | B76: SR | C76: 87 | D76: 1 | F76: P | G76: 15 | H76: 16 | I76: 95.32 | J76: 82.13 | K76: 0.17 | L76: 2.96 | M76: 4.6 | N76: 4.03 | O76: 2016 | P76: 2015 PSI
A77: 49 | B77: SR | C77: 87 | D77: 1 | F77: P | G77: 16 | H77: 17 | I77: 88.09 | J77: 74.92 | K77: 0.14 | L77: 3.08 | M77: 4.14 | N77: 3.79 | O77: 2016 | P77: 2015 PSI
A78: 49 | B78: SR | C78: 87 | D78: 1 | F78: P | G78: 17 | H78: 18 | I78: 77.21 | J78: 66.41 | K78: 0.15 | L78: 3.27 | M78: 4.48 | N78: 4.08 | O78: 2016 | P78: 2015 PSI
A79: 49 | B79: SR | C79: 87 | D79: 1 | F79: P | G79: 18 | H79: 19 | I79: 74.45 | J79: 65.29 | K79: 0.18 | L79: 3.32 | M79: 4.51 | N79: 4.11 | O79: 2016 | P79: 2015 PSI
A80: 49 | B80: SR | C80: 87 | D80: 1 | F80: P | G80: 19 | H80: 20 | I80: 116.81 | J80: 101.85 | K80: 0.17 | L80: 2.63 | M80: 3.82 | N80: 3.42 | O80: 2016 | P80: 2015 PSI
A81: 49 | B81: SR | C81: 87 | D81: 1 | F81: P | G81: 20 | H81: 21 | I81: 155.15 | J81: 140.4 | K81: 0.1 | L81: 2.13 | M81: 3.55 | N81: 3.05 | O81: 2015
A82: 49 | B82: SR | C82: 87 | D82: 1 | F82: P | G82: 21 | H82: 22 | I82: 105.42 | J82: 92.56 | K82: 0.09 | L82: 2.8 | M82: 3.79 | N82: 3.46 | O82: 2015
A83: 49 | B83: SR | C83: 87 | D83: 1 | F83: P | G83: 22 | H83: 23 | I83: 102.84 | J83: 87.86 | K83: 0.11 | L83: 2.84 | M83: 3.64 | N83: 3.38 | O83: 2015
A84: 49 | B84: SR | C84: 87 | D84: 1 | F84: P | G84: 23 | H84: 24 | I84: 100.93 | J84: 89.3 | K84: 0.1 | L84: 2.87 | M84: 3.79 | N84: 3.49 | O84: 2015
A85: 49 | B85: SR | C85: 87 | D85: 1 | F85: P | G85: 24 | H85: 25 | I85: 114.75 | J85: 104.07 | K85: 0.1 | L85: 2.66 | M85: 3.69 | N85: 3.34 | O85: 2015
A86: 49 | B86: SR | C86: 87 | D86: 1 | F86: P | G86: 25 | H86: 26 | I86: 95.32 | J86: 83.65 | K86: 0.12 | L86: 2.96 | M86: 3.69 | N86: 3.45 | O86: 2015
A87: 49 | B87: SR | C87: 87 | D87: 1 | F87: P | G87: 26 | H87: 27 | I87: 93.48 | J87: 81.05 | K87: 0.11 | L87: 2.99 | M87: 3.46 | N87: 3.31 | O87: 2015
A88: 49 | B88: SR | C88: 87 | D88: 1 | F88: P | G88: 27 | H88: 28 | I88: 97.79 | J88: 86.31 | K88: 0.11 | L88: 2.92 | M88: 3.63 | N88: 3.4 | O88: 2015
A89: 49 | B89: SR | C89: 87 | D89: 1 | F89: P | G89: 28 | H89: 28.36 | I89: 97.79 | J89: 84.98 | K89: 0.06 | L89: 2.92 | M89: 3.44 | N89: 3.27 | O89: 2015
A90: 49 | B90: SR | C90: 88 | D90: 1 | F90: P | G90: 0 | H90: 1 | I90: 144.38 | J90: 126.36 | K90: 0.07 | L90: 2.26 | M90: 3.34 | N90: 2.97 | O90: 2015
A91: 49 | B91: SR | C91: 88 | D91: 1 | F91: P | G91: 1 | H91: 2 | I91: 116.12 | J91: 97.11 | K91: 0.07 | L91: 2.64 | M91: 4.25 | N91: 3.68 | O91: 2015
A92: 49 | B92: SR | C92: 88 | D92: 1 | F92: P | G92: 2 | H92: 3 | I92: 108.7 | J92: 91.12 | K92: 0.08 | L92: 2.75 | M92: 3.13 | N92: 3.01 | O92: 2015
... A147: 49 | B147: SR | C147: 371 | D147: 1 | F147: P | G147: 4 | H147: 4.85 | I147: 152.61 | J147: 138.18 | K147: 0.09 | L147: 2.16 | M147: 3.01 | N147: 2.72 | O147: 2015

Sheet Mcnairy
I5: Region 4
A6: Pavement Management System | I6: Mcnairy County
I7: (1.0 mile sections)
A8: County | B8: Route | C8: Route # | D8: County Sequence | E8: Special Case | F8: Direction | G8: From Log Mile | H8: To Log Mile | I8: IRI | J8: HC IRI | K8: Rut Depth | L8: PSI | M8: PDI | N8: PQI | O8: Year
A9: 55 | B9: SR | C9: 5 | D9: 1 | F9: P | G9: 0 | H9: 1 | I9: 84.01 | J9: 66.64 | K9: 0.1 | L9: 3.15 | M9: 3.08 | N9: 3.1 | O9: 2016
A10: 55 | B10: SR | C10: 5 | D10: 1 | F10: P | G10: 1 | H10: 2 | I10: 76.1 | J10: 63 | K10: 0.1 | L10: 3.29 | M10: 2.99 | N10: 3.08 | O10: 2016
A11: 55 | B11: SR | C11: 5 | D11: 1 | F11: P | G11: 2 | H11: 3 | I11: 46.58 | J11: 39.08 | K11: 0.1 | L11: 3.87 | M11: 3.7 | N11: 3.75 | O11: 2016
A12: 55 | B12: SR | C12: 5 | D12: 1 | F12: P | G12: 3 | H12: 4 | I12: 97.17 | J12: 82.6 | K12: 0.1 | L12: 2.93 | M12: 3.05 | N12: 3.01 | O12: 2016
A13: 55 | B13: SR | C13: 5 | D13: 1 | F13: P | G13: 4 | H13: 5 | I13: 48.94 | J13: 41.34 | K13: 0.1 | L13: 3.82 | M13: 4.43 | N13: 4.24 | O13: 2016
A14: 55 | B14: SR | C14: 5 | D14: 1 | F14: P | G14: 5 | H14: 6 | I14: 56.23 | J14: 48.3 | K14: 0.13 | L14: 3.67 | M14: 4.71 | N14: 4.37 | O14: 2016
A15: 55 | B15: SR | C15: 5 | D15: 1 | F15: P | G15: 6 | H15: 7 | I15: 75.55 | J15: 66.13 | K15: 0.14 | L15: 3.3 | M15: 4.78 | N15: 4.28 | O15: 2016
A16: 55 | B16: SR | C16: 5 | D16: 1 | F16: P | G16: 7 | H16: 8 | I16: 56.23 | J16: 45.33 | K16: 0.11 | L16: 3.67 | M16: 4.78 | N16: 4.42 | O16: 2016
A17: 55 | B17: SR | C17: 5 | D17: 1 | F17: P | G17: 8 | H17: 9 | I17: 48.47 | J17: 39.89 | K17: 0.08 | L17: 3.83 | M17: 4.75 | N17: 4.45 | O17: 2016
A18: 55 | B18: SR | C18: 5 | D18: 1 | F18: P | G18: 9 | H18: 10 | I18: 78.32 | J18: 67.65 | K18: 0.1 | L18: 3.25 | M18: 4.5 | N18: 4.08 | O18: 2016
A19: 55 | B19: SR | C19: 5 | D19: 1 | F19: P | G19: 10 | H19: 11 | I19: 62.27 | J19: 51.91 | K19: 0.06 | L19: 3.55 | M19: 4.37 | N19: 4.11 | O19: 2016
A20: 55 | B20: SR | C20: 5 | D20: 1 | F20: P | G20: 11 | H20: 12 | I20: 81.71 | J20: 67.43 | K20: 0.12 | L20: 3.19 | M20: 4.27 | N20: 3.91 | O20: 2016
... A86: 55 | B86: SR | C86: 22 | D86: 2 | F86: P | G86: 10 | H86: 10.4 | I86: 106.07 | J86: 89.29 | K86: 0.2 | L86: 2.79 | M86: 1.25 | N86: 1.59 | O86: 2015
A87: 55 | B87: SR | C87: 22 | D87: 1 | E87: ALT | F87: P | G87: 0 | H87: 0.43 | I87: 181.76 | J87: 160.53 | K87: 0.16 | L87: 1.84 | M87: 2.27 | N87: 2.13 | O87: 2015
A88: 55 | B88: SR | C88: 57 | D88: 1 | F88: P | G88: 0 | H88: 1 | I88: 132.69 | J88: 113.28 | K88: 0.16 | L88: 2.41 | M88: 2.01 | N88: 2.12 | O88: 2015
A89: 55 | B89: SR | C89: 57 | D89: 1 | F89: P | G89: 1 | H89: 2 | I89: 121.71 | J89: 99.58 | K89: 0.17 | L89: 2.56 | M89: 1.11 | N89: 1.43 | O89: 2015
A90: 55 | B90: SR | C90: 57 | D90: 1 | F90: P | G90: 2 | H90: 3 | I90: 108.7 | J90: 90.82 | K90: 0.17 | L90: 2.75 | M90: 1.09 | N90: 1.44 | O90: 2015
A91: 55 | B91: SR | C91: 57 | D91: 1 | F91: P | G91: 3 | H91: 4 | I91: 111.36 | J91: 92.72 | K91: 0.14 | L91: 2.71 | M91: 2.21 | N91: 2.35 | O91: 2015
A92: 55 | B92: SR | C92: 57 | D92: 1 | F92: P | G92: 4 | H92: 5 | I92: 112.03 | J92: 91.21 | K92: 0.17 | L92: 2.7 | M92: 1.5 | N92: 1.79 | O92: 2015
A93: 55 | B93: SR | C93: 57 | D93: 1 | F93: P | G93: 5 | H93: 6 | I93: 117.5 | J93: 95.21 | K93: 0.17 | L93: 2.62 | M93: 1.58 | N93: 1.84 | O93: 2015
A94: 55 | B94: SR | C94: 57 | D94: 1 | F94: P | G94: 6 | H94: 7 | I94: 99.04 | J94: 80.55 | K94: 0.12 | L94: 2.9 | M94: 1.84 | N94: 2.11 | O94: 2015
A95: 55 | B95: SR | C95: 57 | D95: 1 | F95: P | G95: 7 | H95: 8 | I95: 118.9 | J95: 102.21 | K95: 0.14 | L95: 2.6 | M95: 2.34 | N95: 2.42 | O95: 2015
A96: 55 | B96: SR | C96: 57 | D96: 1 | F96: P | G96: 8 | H96: 9 | I96: 200.48 | J96: 180.11 | K96: 0.3 | L96: 1.66 | M96: 2.39 | N96: 2.14 | O96: 2015
A97: 55 | B97: SR | C97: 57 | D97: 1 | F97: P | G97: 9 | H97: 10 | I97: 106.07 | J97: 86.73 | K97: 0.22 | L97: 2.79 | M97: 1.89 | N97: 2.12 | O97: 2015
A98: 55 | B98: SR | C98: 57 | D98: 1 | F98: P | G98: 10 | H98: 11 | I98: 108.04 | J98: 94.79 | K98: 0.15 | L98: 2.76 | M98: 3.32 | N98: 3.14 | O98: 2015
A99: 55 | B99: SR | C99: 57 | D99: 1 | F99: P | G99: 11 | H99: 12 | I99: 110.02 | J99: 89.96 | K99: 0.18 | L99: 2.73 | M99: 3.03 | N99: 2.94 | O99: 2015
... A182: 55 | B182: SR | C182: 234 | D182: 1 | F182: P | G182: 6 | H182: 6.74 | I182: 165.69 | J182: 141.54 | K182: 0.12 | L182: 2.01 | M182: 4.16 | N182: 3.34 | O182: 2015

Sheet Madison
I5: Region 4
A6: Pavement Management System | I6: Madison County
I7: (1.0 mile sections)
A8: County | B8: Route | C8: Route # | D8: County Sequence | E8: Special Case | F8: Direction | G8: From Log Mile | H8: To Log Mile | I8: IRI | J8: HC IRI | K8: Rut Depth | L8: PSI | M8: PDI | N8: PQI | O8: Year
A9: 57 | B9: I | C9: 40 | D9: 1 | F9: M | G9: 0 | H9: 1 | I9: 38.31 | J9: 32.34 | K9: 0.07 | L9: 4.05 | M9: 4.73 | N9: 4.51 | O9: 2016
A10: 57 | B10: I | C10: 40 | D10: 1 | F10: M | G10: 1 | H10: 2 | I10: 33.44 | J10: 27.75 | K10: 0.07 | L10: 4.16 | M10: 4.83 | N10: 4.62 | O10: 2016
A11: 57 | B11: I | C11: 40 | D11: 1 | F11: M | G11: 2 | H11: 3 | I11: 40.12 | J11: 33.87 | K11: 0.06 | L11: 4.01 | M11: 4.78 | N11: 4.53 | O11: 2016
A12: 57 | B12: I | C12: 40 | D12: 1 | F12: M | G12: 3 | H12: 4 | I12: 38.31 | J12: 31.86 | K12: 0.06 | L12: 4.05 | M12: 4.7 | N12: 4.49 | O12: 2016
A13: 57 | B13: I | C13: 40 | D13: 1 | F13: M | G13: 4 | H13: 5 | I13: 33.44 | J13: 28.1 | K13: 0.07 | L13: 4.16 | M13: 4.75 | N13: 4.56 | O13: 2016
A14: 57 | B14: I | C14: 40 | D14: 1 | F14: M | G14: 5 | H14: 6 | I14: 33 | J14: 27.87 | K14: 0.05 | L14: 4.17 | M14: 4.85 | N14: 4.64 | O14: 2016
A15: 57 | B15: I | C15: 40 | D15: 1 | F15: M | G15: 6 | H15: 7 | I15: 45.17 | J15: 37.74 | K15: 0.06 | L15: 3.9 | M15: 4.74 | N15: 4.47 | O15: 2016
A16: 57 | B16: I | C16: 40 | D16: 1 | F16: M | G16: 7 | H16: 8 | I16: 43.32 | J16: 37.19 | K16: 0.1 | L16: 3.94 | M16: 4.95 | N16: 4.62 | O16: 2016
A17: 57 | B17: I | C17: 40 | D17: 1 | F17: M | G17: 8 | H17: 9 | I17: 48.47 | J17: 42.04 | K17: 0.1 | L17: 3.83 | M17: 4.98 | N17: 4.6 | O17: 2016
A18: 57 | B18: I | C18: 40 | D18: 1 | F18: M | G18: 9 | H18: 10 | I18: 46.11 | J18: 39.15 | K18: 0.1 | L18: 3.88 | M18: 4.98 | N18: 4.62 | O18: 2016
A19: 57 | B19: I | C19: 40 | D19: 1 | F19: M | G19: 10 | H19: 11 | I19: 53.77 | J19: 47.5 | K19: 0.1 | L19: 3.72 | M19: 4.77 | N19: 4.43 | O19: 2016
A20: 57 | B20: I | C20: 40 | D20: 1 | F20: M | G20: 11 | H20: 12 | I20: 66.94 | J20: 59.19 | K20: 0.08 | L20: 3.46 | M20: 4.72 | N20: 4.3 | O20: 2016
... A97: 57 | B97: SR | C97: 1 | D97: 1 | F97: P | G97: 32 | H97: 32.05 | I97: 130.44 | J97: 119 | K97: 0.18 | L97: 2.44 | M97: 2.89 | N97: 2.75 | O97: 2015
A98: 57 | B98: SR | C98: 1 | D98: 1 | E98: WB | F98: P | G98: 0 | H98: 0.33 | I98: 166.6 | J98: 161.45 | K98: 0.2 | L98: 2 | M98: 2.48 | N98: 2.33 | O98: 2016
A99: 57 | B99: SR | C99: 5 | D99: 1 | F99: P | G99: 0 | H99: 1 | I99: 60.23 | J99: 51.87 | K99: 0.12 | L99: 3.59 | M99: 3.55 | N99: 3.56 | O99: 2016
A100: 57 | B100: SR | C100: 5 | D100: 1 | F100: P | G100: 1 | H100: 2 | I100: 80.58 | J100: 66.4 | K100: 0.1 | L100: 3.21 | M100: 3.41 | N100: 3.35 | O100: 2016
A101: 57 | B101: SR | C101: 5 | D101: 1 | F101: P | G101: 2 | H101: 3 | I101: 67.47 | J101: 57.74 | K101: 0.1 | L101: 3.45 | M101: 3.07 | N101: 3.18 | O101: 2016
A102: 57 | B102: SR | C102: 5 | D102: 1 | F102: P | G102: 3 | H102: 4 | I102: 70.66 | J102: 61.87 | K102: 0.11 | L102: 3.39 | M102: 3.64 | N102: 3.56 | O102: 2016
A103: 57 | B103: SR | C103: 5 | D103: 1 | F103: P | G103: 4 | H103: 5 | I103: 66.94 | J103: 57.44 | K103: 0.12 | L103: 3.46 | M103: 3.52 | N103: 3.5 | O103: 2016
A104: 57 | B104: SR | C104: 5 | D104: 1 | F104: P | G104: 5 | H104: 6 | I104: 55.24 | J104: 46.85 | K104: 0.09 | L104: 3.69 | M104: 2.6 | N104: 2.89 | O104: 2016
A105: 57 | B105: SR | C105: 5 | D105: 1 | F105: P | G105: 6 | H105: 7 | I105: 58.22 | J105: 50.29 | K105: 0.1 | L105: 3.63 | M105: 2.44 | N105: 2.75 | O105: 2016
A106: 57 | B106: SR | C106: 5 | D106: 1 | F106: P | G106: 7 | H106: 8 | I106: 98.42 | J106: 84.76 | K106: 0.14 | L106: 2.91 | M106: 2.84 | N106: 2.86 | O106: 2016
A107: 57 | B107: SR | C107: 5 | D107: 1 | F107: P | G107: 8 | H107: 9 | I107: 64.33 | J107: 52.85 | K107: 0.15 | L107: 3.51 | M107: 4.03 | N107: 3.87 | O107: 2016
A108: 57 | B108: SR | C108: 5 | D108: 1 | F108: P | G108: 9 | H108: 10 | I108: 55.24 | J108: 46.57 | K108: 0.2 | L108: 3.69 | M108: 4.15 | N108: 4.01 | O108: 2016
A109: 57 | B109: SR | C109: 5 | D109: 1 | F109: P | G109: 10 | H109: 11 | I109: 58.22 | J109: 50.15 | K109: 0.12 | L109: 3.63 | M109: 4.43 | N109: 4.17 | O109: 2016
A110: 57 | B110: SR | C110: 5 | D110: 1 | F110: P | G110: 11 | H110: 12 | I110: 68.52 | J110: 59.75 | K110: 0.11 | L110: 3.43 | M110: 4.23 | N110: 3.97 | O110: 2016
... A220: 57 | B220: SR | C220: 198 | D220: 1 | F220: P | G220: 13 | H220: 13.34 | I220: 85.16 | J220: 73.95 | K220: 0.05 | L220: 3.13 | M220: 4.64 | N220: 4.12 | O220: 2015
A221: 57 | B221: SR | C221: 223 | D221: 1 | F221: P | G221: 0 | H221: 1 | I221: 87.5 | J221: 76.53 | K221: 0.1 | L221: 3.09 | M221: 3.83 | N221: 3.59 | O221: 2016 | P221: 2015 PSI
A222: 57 | B222: SR | C222: 223 | D222: 1 | F222: P | G222: 1 | H222: 2 | I222: 91.67 | J222: 81.39 | K222: 0.11 | L222: 3.02 | M222: 3.16 | N222: 3.12 | O222: 2016 | P222: 2015 PSI
A223: 57 | B223: SR | C223: 223 | D223: 1 | F223: P | G223: 2 | H223: 3 | I223: 77.77 | J223: 68.25 | K223: 0.12 | L223: 3.26 | M223: 4.24 | N223: 3.92 | O223: 2016 | P223: 2015 PSI
A224: 57 | B224: SR | C224: 223 | D224: 1 | F224: P | G224: 3 | H224: 4 | I224: 87.5 | J224: 76.51 | K224: 0.14 | L224: 3.09 | M224: 4.14 | N224: 3.79 | O224: 2016 | P224: 2015 PSI
A225: 57 | B225: SR | C225: 223 | D225: 1 | F225: P | G225: 4 | H225: 5 | I225: 87.5 | J225: 76.33 | K225: 0.14 | L225: 3.09 | M225: 4.16 | N225: 3.8 | O225: 2016 | P225: 2015 PSI
A226: 57 | B226: SR | C226: 223 | D226: 1 | F226: P | G226: 5 | H226: 6 | I226: 83.43 | J226: 74.93 | K226: 0.07 | L226: 3.16 | M226: 4.52 | N226: 4.06 | O226: 2016 | P226: 2015 PSI
A227: 57 | B227: SR | C227: 223 | D227: 1 | F227: P | G227: 6 | H227: 7 | I227: 76.1 | J227: 66.27 | K227: 0.07 | L227: 3.29 | M227: 4.46 | N227: 4.07 | O227: 2016 | P227: 2015 PSI
A228: 57 | B228: SR | C228: 223 | D228: 1 | F228: P | G228: 7 | H228: 8 | I228: 88.68 | J228: 77.97 | K228: 0.11 | L228: 3.07 | M228: 4.09 | N228: 3.75 | O228: 2016 | P228: 2015 PSI
A229: 57 | B229: SR | C229: 223 | D229: 1 | F229: P | G229: 8 | H229: 9 | I229: 74.45 | J229: 65.47 | K229: 0.11 | L229: 3.32 | M229: 4.29 | N229: 3.97 | O229: 2016 | P229: 2015 PSI
A230: 57 | B230: SR | C230: 223 | D230: 1 | F230: P | G230: 9 | H230: 10 | I230: 68.52 | J230: 58.34 | K230: 0.12 | L230: 3.43 | M230: 4.14 | N230: 3.91 | O230: 2016 | P230: 2015 PSI
A231: 57 | B231: SR | C231: 223 | D231: 1 | F231: P | G231: 10 | H231: 11 | I231: 76.65 | J231: 65.02 | K231: 0.14 | L231: 3.28 | M231: 4.17 | N231: 3.88 | O231: 2016 | P231: 2015 PSI
A232: 57 | B232: SR | C232: 223 | D232: 1 | F232: P | G232: 11 | H232: 12 | I232: 118.9 | J232: 104.8 | K232: 0.17 | L232: 2.6 | M232: 3.13 | N232: 2.96 | O232: 2015
A233: 57 | B233: SR | C233: 223 | D233: 1 | F233: P | G233: 12 | H233: 13 | I233: 95.32 | J233: 87.1 | K233: 0.17 | L233: 2.96 | M233: 2.52 | N233: 2.64 | O233: 2015
A234: 57 | B234: SR | C234: 223 | D234: 1 | F234: P | G234: 13 | H234: 14 | I234: 62.78 | J234: 50.18 | K234: 0.21 | L234: 3.54 | M234: 2.53 | N234: 2.8 | O234: 2015
A235: 57 | B235: SR | C235: 223 | D235: 1 | F235: P | G235: 14 | H235: 15 | I235: 80.01 | J235: 65.16 | K235: 0.16 | L235: 3.22 | M235: 1.96 | N235: 2.27 | O235: 2015
A236: 57 | B236: SR | C236: 223 | D236: 1 | F236: P | G236: 15 | H236: 15.07 | I236: 128.96 | J236: 119.7 | K236: 0.09 | L236: 2.46 | M236: 3.49 | N236: 3.14 | O236: 2015

Sheet Obion
I5: Region 4
A6: Pavement Management System | I6: Obion County
I7: (1.0 mile sections)
A8: County | B8: Route | C8: Route # | D8: County Sequence | E8: Special Case | F8: Direction | G8: From Log Mile | H8: To Log Mile | I8: IRI | J8: HC IRI | K8: Rut Depth | L8: PSI | M8: PDI | N8: PQI | O8: Year
A9: 66 | B9: SR | C9: 3 | D9: 1 | F9: P | G9: 0 | H9: 1 | I9: 58.72 | J9: 48.06 | K9: 0.16 | L9: 3.62 | M9: 3.2 | N9: 3.32 | O9: 2016
A10: 66 | B10: SR | C10: 3 | D10: 1 | F10: P | G10: 1 | H10: 2 | I10: 88.68 | J10: 72.38 | K10: 0.16 | L10: 3.07 | M10: 2.87 | N10: 2.93 | O10: 2016
A11: 66 | B11: SR | C11: 3 | D11: 1 | F11: P | G11: 2 | H11: 3 | I11: 73.36 | J11: 63.12 | K11: 0.18 | L11: 3.34 | M11: 3.48 | N11: 3.44 | O11: 2016
A12: 66 | B12: SR | C12: 3 | D12: 1 | F12: P | G12: 3 | H12: 4 | I12: 84.58 | J12: 71.02 | K12: 0.18 | L12: 3.14 | M12: 3.49 | N12: 3.38 | O12: 2016
A13: 66 | B13: SR | C13: 3 | D13: 1 | F13: P | G13: 4 | H13: 5 | I13: 65.37 | J13: 53.11 | K13: 0.2 | L13: 3.49 | M13: 2.98 | N13: 3.12 | O13: 2016
A14: 66 | B14: SR | C14: 3 | D14: 1 | F14: P | G14: 5 | H14: 6 | I14: 59.22 | J14: 48.49 | K14: 0.16 | L14: 3.61 | M14: 3.03 | N14: 3.19 | O14: 2016
A15: 66 | B15: SR | C15: 3 | D15: 1 | F15: P | G15: 6 | H15: 7 | I15: 64.85 | J15: 51.79 | K15: 0.17 | L15: 3.5 | M15: 2.16 | N15: 2.5 | O15: 2016
A16: 66 | B16: SR | C16: 3 | D16: 1 | F16: P | G16: 7 | H16: 8 | I16: 61.25 | J16: 49.93 | K16: 0.16 | L16: 3.57 | M16: 2.59 | N16: 2.85 | O16: 2016
A17: 66 | B17: SR | C17: 3 | D17: 1 | F17: P | G17: 8 | H17: 9 | I17: 60.74 | J17: 48.23 | K17: 0.16 | L17: 3.58 | M17: 2.69 | N17: 2.93 | O17: 2016
A18: 66 | B18: SR | C18: 3 | D18: 1 | F18: P | G18: 9 | H18: 10 | I18: 83.43 | J18: 67.05 | K18: 0.19 | L18: 3.16 | M18: 2.61 | N18: 2.76 | O18: 2016
A19: 66 | B19: SR | C19: 3 | D19: 1 | F19: P | G19: 10 | H19: 11 | I19: 76.65 | J19: 62.47 | K19: 0.19 | L19: 3.28 | M19: 2.58 | N19: 2.77 | O19: 2016
A20: 66 | B20: SR | C20: 3 | D20: 1 | F20: P | G20: 11 | H20: 12 | I20: 72.27 | J20: 60.26 | K20: 0.17 | L20: 3.36 | M20: 2.43 | N20: 2.68 | O20: 2016
... A39: 66 | B39: SR | C39: 3 | D39: 1 | F39: P | G39: 30 | H39: 30.85 | I39: 97.79 | J39: 83.79 | K39: 0.13 | L39: 2.92 | M39: 2.59 | N39: 2.68 | O39: 2015
A40: 66 | B40: SR | C40: 3 | D40: 1 | E40: SRC | F40: P | G40: 0 | H40: 0.02 | I40: 437.81 | J40: 379.9 | K40: 0.16 | L40: 0.45 | M40: 2.61 | N40: 1.54 | O40: 2015
A41: 66 | B41: SR | C41: 5 | D41: 1 | F41: P | G41: 0 | H41: 1 | I41: 77.21 | J41: 63.69 | K41: 0.07 | L41: 3.27 | M41: 3.57 | N41: 3.48 | O41: 2015
A42: 66 | B42: SR | C42: 5 | D42: 1 | F42: P | G42: 1 | H42: 2 | I42: 92.27 | J42: 76.49 | K42: 0.06 | L42: 3.01 | M42: 3.79 | N42: 3.54 | O42: 2015
A43: 66 | B43: SR | C43: 5 | D43: 1 | F43: P | G43: 2 | H43: 3 | I43: 79.45 | J43: 66.55 | K43: 0.07 | L43: 3.23 | M43: 3.96 | N43: 3.73 | O43: 2015
A44: 66 | B44: SR | C44: 5 | D44: 1 | F44: P | G44: 3 | H44: 4 | I44: 95.32 | J44: 80.03 | K44: 0.09 | L44: 2.96 | M44: 4 | N44: 3.65 | O44: 2015
A45: 66 | B45: SR | C45: 5 | D45: 1 | F45: P | G45: 4 | H45: 5 | I45: 80.01 | J45: 69.55 | K45: 0.07 | L45: 3.22 | M45: 4.08 | N45: 3.8 | O45: 2015
A46: 66 | B46: SR | C46: 5 | D46: 1 | F46: P | G46: 5 | H46: 6 | I46: 84.58 | J46: 74.38 | K46: 0.05 | L46: 3.14 | M46: 4.66 | N46: 4.14 | O46: 2015
A47: 66 | B47: SR | C47: 5 | D47: 1 | F47: P | G47: 6 | H47: 7 | I47: 69.05 | J47: 60.65 | K47: 0.06 | L47: 3.42 | M47: 4.43 | N47: 4.1 | O47: 2015
A48: 66 | B48: SR | C48: 5 | D48: 1 | F48: P | G48: 7 | H48: 8 | I48: 55.24 | J48: 50.54 | K48: 0.04 | L48: 3.69 | M48: 4.3 | N48: 4.11 | O48: 2015
A49: 66 | B49: SR | C49: 5 | D49: 1 | F49: P | G49: 8 | H49: 9 | I49: 48.94 | J49: 43.34 | K49: 0.05 | L49: 3.82 | M49: 4.22 | N49: 4.1 | O49: 2015
A50: 66 | B50: SR | C50: 5 | D50: 1 | F50: P | G50: 9 | H50: 10 | I50: 52.31 | J50: 45.68 | K50: 0.04 | L50: 3.75 | M50: 3.92 | N50: 3.87 | O50: 2015
A51: 66 | B51: SR | C51: 5 | D51: 1 | F51: P | G51: 10 | H51: 11 | I51: 67.99 | J51: 60.65 | K51: 0.05 | L51: 3.44 | M51: 4.22 | N51: 3.97 | O51: 2015
A52: 66 | B52: SR | C52: 5 | D52: 1 | F52: P | G52: 11 | H52: 12 | I52: 60.74 | J52: 50.86 | K52: 0.05 | L52: 3.58 | M52: 4.06 | N52: 3.91 | O52: 2015
... A118: 66 | B118: SR | C118: 22 | D118: 1 | F118: P | G118: 26 | H118: 26.8 | I118: 86.92 | J118: 70.51 | K118: 0.15 | L118: 3.1 | M118: 1.87 | N118: 2.18 | O118: 2015
A119: 66 | B119: SR | C119: 22 | D119: 1 | E119: SRC | F119: P | G119: 0 | H119: 0.57 | I119: 100.93 | J119: 90.66 | K119: 0.07 | L119: 2.87 | M119: 4.61 | N119: 4 | O119: 2015
A120: 66 | B120: SR | C120: 43 | D120: 1 | F120: P | G120: 0 | H120: 1 | I120: 154.3 | J120: 140.34 | K120: 0.2 | L120: 2.14 | M120: 3.61 | N120: 3.09 | O120: 2016
A121: 66 | B121: SR | C121: 43 | D121: 1 | F121: P | G121: 1 | H121: 2 | I121: 178.82 | J121: 165.16 | K121: 0.21 | L121: 1.87 | M121: 3.52 | N121: 2.91 | O121: 2016
A122: 66 | B122: SR | C122: 43 | D122: 1 | F122: P | G122: 2 | H122: 3 | I122: 171.2 | J122: 152.53 | K122: 0.12 | L122: 1.95 | M122: 3.02 | N122: 2.65 | O122: 2016
A123: 66 | B123: SR | C123: 43 | D123: 1 | F123: P | G123: 3 | H123: 4 | I123: 134.21 | J123: 121.52 | K123: 0.14 | L123: 2.39 | M123: 2.92 | N123: 2.75 | O123: 2016
A124: 66 | B124: SR | C124: 43 | D124: 1 | F124: P | G124: 4 | H124: 5 | I124: 131.94 | J124: 122.58 | K124: 0.19 | L124: 2.42 | M124: 3.09 | N124: 2.87 | O124: 2016
A125: 66 | B125: SR | C125: 43 | D125: 1 | F125: P | G125: 5 | H125: 6 | I125: 124.58 | J125: 111.28 | K125: 0.13 | L125: 2.52 | M125: 3 | N125: 2.85 | O125: 2015
A126: 66 | B126: SR | C126: 43 | D126: 1 | F126: P | G126: 6 | H126: 6.6 | I126: 100.3 | J126: 84.63 | K126: 0.1 | L126: 2.88 | M126: 2.77 | N126: 2.8 | O126: 2015
A127: 66 | B127: SR | C127: 78 | D127: 1 | F127: P | G127: 0 | H127: 1 | I127: 101.57 | J127: 91.41 | K127: 0.12 | L127: 2.86 | M127: 1.04 | N127: 1.41 | O127: 2015
A128: 66 | B128: SR | C128: 78 | D128: 1 | F128: P | G128: 1 | H128: 1.01 | I128: 182.75 | J128: 181 | K128: 0.08 | L128: 1.83 | M128: 5 | N128: 3.7 | O128: 2015
A129: 66 | B129: SR | C129: 89 | D129: 1 | F129: P | G129: 0 | H129: 1 | I129: 108.7 | J129: 89.42 | K129: 0.08 | L129: 2.75 | M129: 3.26 | N129: 3.1 | O129: 2015
A130: 66 | B130: SR | C130: 89 | D130: 1 | F130: P | G130: 1 | H130: 2 | I130: 119.6 | J130: 101.12 | K130: 0.11 | L130: 2.59 | M130: 1.2 | N130: 1.51 | O130: 2015
A131: 66 | B131: SR | C131: 89 | D131: 1 | F131: P | G131: 2 | H131: 3 | I131: 117.5 | J131: 102.18 | K131: 0.1 | L131: 2.62 | M131: 1.82 | N131: 2.03 | O131: 2015
... A208: 66 | B208: SR | C208: 431 | D208: 1 | F208: P | G208: 7 | H208: 7.16 | I208: 194.02 | J208: 164.15 | K208: 0.2 | L208: 1.77 | M208: 1.71 | N208: 1.73 | O208: 2016

Sheet Shelby
I5: Region 4
A6: Pavement Management System | I6: Shelby County
I7: (1.0 mile sections)
A8: County | B8: Route | C8: Route # | D8: County Sequence | E8: Special Case | F8: Direction | G8: From Log Mile | H8: To Log Mile | I8: IRI | J8: HC IRI | K8: Rut Depth | L8: PSI | M8: PDI | N8: PQI | O8: Year
A9: 79 | B9: I | C9: 40 | D9: 1 | F9: M | G9: 0 | H9: 1 | I9: 104.77 | J9: 96.4 | K9: 0.11 | L9: 2.81 | M9: 4.53 | N9: 3.93 | O9: 2016
A10: 79 | B10: I | C10: 40 | D10: 1 | F10: M | G10: 1 | H10: 2 | I10: 69.59 | J10: 60.7 | K10: 0.12 | L10: 3.41 | M10: 4.78 | N10: 4.32 | O10: 2016
A11: 79 | B11: I | C11: 40 | D11: 1 | F11: M | G11: 2 | H11: 3 | I11: 100.3 | J11: 88.9 | K11: 0.14 | L11: 2.88 | M11: 3.68 | N11: 3.42 | O11: 2016
A12: 79 | B12: I | C12: 40 | D12: 1 | F12: M | G12: 3 | H12: 4 | I12: 95.32 | J12: 80.63 | K12: 0.14 | L12: 2.96 | M12: 3.35 | N12: 3.23 | O12: 2016
A13: 79 | B13: I | C13: 40 | D13: 1 | F13: M | G13: 4 | H13: 5 | I13: 112.71 | J13: 98.13 | K13: 0.12 | L13: 2.69 | M13: 4.32 | N13: 3.75 | O13: 2016
A14: 79 | B14: I | C14: 40 | D14: 1 | F14: M | G14: 5 | H14: 6 | I14: 204.91 | J14: 174.12 | K14: 0.12 | L14: 1.62 | M14: 4.4 | N14: 3.26 | O14: 2016
A15: 79 | B15: I | C15: 40 | D15: 1 | F15: M | G15: 6 | H15: 7 | I15: 121.71 | J15: 109.04 | K15: 0.09 | L15: 2.56 | M15: 5 | N15: 4.09 | O15: 2016
A16: 79 | B16: I | C16: 40 | D16: 1 | F16: M | G16: 7 | H16: 8 | I16: 113.39 | J16: 97.91 | K16: 0.1 | L16: 2.68 | M16: 4.87 | N16: 4.07 | O16: 2016
A17: 79 | B17: I | C17: 40 | D17: 1 | F17: M | G17: 8 | H17: 9 | I17: 47.52 | J17: 40.07 | K17: 0.09 | L17: 3.85 | M17: 4.58 | N17: 4.35 | O17: 2016
A18: 79 | B18: I | C18: 40 | D18: 1 | F18: M | G18: 9 | H18: 10 | I18: 53.77 | J18: 45.59 | K18: 0.08 | L18: 3.72 | M18: 4.31 | N18: 4.12 | O18: 2016
A19: 79 | B19: I | C19: 40 | D19: 1 | F19: M | G19: 10 | H19: 11 | I19: 59.22 | J19: 51.43 | K19: 0.11 | L19: 3.61 | M19: 4.35 | N19: 4.11 | O19: 2016
A20: 79 | B20: I | C20: 40 | D20: 1 | F20: M | G20: 11 | H20: 12 | I20: 92.88 | J20: 82.75 | K20: 0.16 | L20: 3 | M20: 3.98 | N20: 3.66 | O20: 2016
... A201: 79 | B201: SR | C201: 3 | D201: 1 | F201: P | G201: 33 | H201: 33.08 | I201: 82.86 | J201: 73 | K201: 0.16 | L201: 3.17 | M201: 2.58 | N201: 2.74 | O201: 2016
A202: 79 | B202: SR | C202: 3 | D202: 1 | E202: SB | F202: P | G202: 0 | H202: 1 | I202: 170.27 | J202: 140.79 | K202: 0.12 | L202: 1.96 | M202: 3.25 | N202: 2.79 | O202: 2016
A203: 79 | B203: SR | C203: 3 | D203: 1 | E203: SB | F203: P | G203: 1 | H203: 1.66 | I203: 178.82 | J203: 161.19 | K203: 0.09 | L203: 1.87 | M203: 3.09 | N203: 2.66 | O203: 2015
A204: 79 | B204: SR | C204: 4 | D204: 1 | F204: P | G204: 0 | H204: 1 | I204: 100.3 | J204: 81.97 | K204: 0.34 | L204: 2.88 | M204: 1.72 | N204: 2.01 | O204: 2016
A205: 79 | B205: SR | C205: 4 | D205: 1 | F205: P | G205: 1 | H205: 2 | I205: 234.06 | J205: 197.61 | K205: 0.78 | L205: 1.38 | M205: 1.24 | N205: 1.28 | O205: 2016
A206: 79 | B206: SR | C206: 4 | D206: 1 | F206: P | G206: 2 | H206: 3 | I206: 320.05 | J206: 280.01 | K206: 0.59 | L206: 0.86 | M206: 1.74 | N206: 1.41 | O206: 2016
A207: 79 | B207: SR | C207: 4 | D207: 1 | F207: P | G207: 3 | H207: 4 | I207: 104.13 | J207: 85.85 | K207: 0.33 | L207: 2.82 | M207: 2.06 | N207: 2.26 | O207: 2016
A208: 79 | B208: SR | C208: 4 | D208: 1 | F208: P | G208: 4 | H208: 5 | I208: 116.12 | J208: 101.19 | K208: 0.2 | L208: 2.64 | M208: 3.29 | N208: 3.08 | O208: 2016
A209: 79 | B209: SR | C209: 4 | D209: 1 | F209: P | G209: 5 | H209: 6 | I209: 174.97 | J209: 155.47 | K209: 0.28 | L209: 1.91 | M209: 2.76 | N209: 2.47 | O209: 2016
A210: 79 | B210: SR | C210: 4 | D210: 1 | F210: P | G210: 6 | H210: 7 | I210: 122.43 | J210: 107.84 | K210: 0.3 | L210: 2.55 | M210: 3.98 | N210: 3.48 | O210: 2016
A211: 79 | B211: SR | C211: 4 | D211: 1 | F211: P | G211: 7 | H211: 8 | I211: 192.97 | J211: 168.49 | K211: 0.18 | L211: 1.73 | M211: 3.47 | N211: 2.82 | O211: 2016
A212: 79 | B212: SR | C212: 4 | D212: 1 | F212: P | G212: 8 | H212: 9 | I212: 88.68 | J212: 77.43 | K212: 0.06 | L212: 3.07 | M212: 4.91 | N212: 4.26 | O212: 2016
A213: 79 | B213: SR | C213: 4 | D213: 1 | F213: P | G213: 9 | H213: 10 | I213: 120.3 | J213: 106.85 | K213: 0.09 | L213: 2.58 | M213: 4.53 | N213: 3.83 | O213: 2016
A214: 79 | B214: SR | C214: 4 | D214: 1 | F214: P | G214: 10 | H214: 11 | I214: 154.3 | J214: 128.1 | K214: 0.2 | L214: 2.14 | M214: 3.15 | N214: 2.81 | O214: 2016
A215: 79 | B215: SR | C215: 4 | D215: 1 | F215: P | G215: 11 | H215: 12 | I215: 192.97 | J215: 152.25 | K215: 0.19 | L215: 1.73 | M215: 3.15 | N215: 2.63 | O215: 2016
... A257: 79 | B257: SR | C257: 14 | D257: 1 | F257: P | G257: 38 | H257: 38.87 | I257: 91.67 | J257: 79.55 | K257: 0.12 | L257: 3.02 | M257: 3.68 | N257: 3.47 | O257: 2015
A258: 79 | B258: SR | C258: 14 | D258: 1 | E258: SB | F258: P | G258: 0 | H258: 0.93 | I258: 208.31 | J258: 184.51 | K258: 0.15 | L258: 1.59 | M258: 3.24 | N258: 2.62 | O258: 2015
A259: 79 | B259: SR | C259: 15 | D259: 1 | F259: P | G259: 0 | H259: 1 | I259: 134.21 | J259: 120.09 | K259: 0.17 | L259: 2.39 | M259: 3.57 | N259: 3.17 | O259: 2015
A260: 79 | B260: SR | C260: 15 | D260: 1 | F260: P | G260: 1 | H260: 2 | I260: 118.2 | J260: 103.84 | K260: 0.13 | L260: 2.61 | M260: 3.32 | N260: 3.09 | O260: 2015
A261: 79 | B261: SR | C261: 15 | D261: 1 | F261: P | G261: 2 | H261: 3 | I261: 177.85 | J261: 154.04 | K261: 0.12 | L261: 1.88 | M261: 3.49 | N261: 2.9 | O261: 2016
A262: 79 | B262: SR | C262: 15 | D262: 1 | F262: P | G262: 3 | H262: 4 | I262: 153.45 | J262: 135.76 | K262: 0.1 | L262: 2.15 | M262: 4.5 | N262: 3.61 | O262: 2016
A263: 79 | B263: SR | C263: 15 | D263: 1 | F263: P | G263: 4 | H263: 5 | I263: 104.13 | J263: 91.81 | K263: 0.07 | L263: 2.82 | M263: 4.83 | N263: 4.11 | O263: 2016
A264: 79 | B264: SR | C264: 15 | D264: 1 | F264: P | G264: 5 | H264: 6 | I264: 110.02 | J264: 93.97 | K264: 0.08 | L264: 2.73 | M264: 4.52 | N264: 3.89 | O264: 2016
A265: 79 | B265: SR | C265: 15 | D265: 1 | F265: P | G265: 6 | H265: 7 | I265: 96.55 | J265: 80.47 | K265: 0.14 | L265: 2.94 | M265: 3.46 | N265: 3.3 | O265: 2016
A266: 79 | B266: SR | C266: 15 | D266: 1 | F266: P | G266: 7 | H266: 8 | I266: 95.93 | J266: 80.48 | K266: 0.13 | L266: 2.95 | M266: 3.5 | N266: 3.33 | O266: 2016
A267: 79 | B267: SR | C267: 15 | D267: 1 | F267: P | G267: 8 | H267: 9 | I267: 94.7 | J267: 80.38 | K267: 0.14 | L267: 2.97 | M267: 3.73 | N267: 3.48 | O267: 2016
A268: 79 | B268: SR | C268: 15 | D268: 1 | F268: P | G268: 9 | H268: 10 | I268: 85.75 | J268: 72.13 | K268: 0.14 | L268: 3.12 | M268: 3.2 | N268: 3.18 | O268: 2016
A269: 79 | B269: SR | C269: 15 | D269: 1 | F269: P | G269: 10 | H269: 11 | I269: 56.72 | J269: 46.75 | K269: 0.11 | L269: 3.66 | M269: 3.27 | N269: 3.38 | O269: 2016
A270: 79 | B270: SR | C270: 15 | D270: 1 | F270: P | G270: 11 | H270: 12 | I270: 77.21 | J270: 65.15 | K270: 0.09 | L270: 3.27 | M270: 2.96 | N270: 3.05 | O270: 2016
... A453: 79 | B453: SR | C453: 388 | D453: 1 | F453: P | G453: 6 | H453: 6.91 | I453: 76.65 | J453: 60.96 | K453: 0.06 | L453: 3.28 | M453: 4.43 | N453: 4.05 | O453: 2015

Sheet Tipton
I5: Region 4
A6: Pavement Management System | I6: Tipton County
I7: (1.0 mile sections)
A8: County | B8: Route | C8: Route # | D8: County Sequence | E8: Special Case | F8: Direction | G8: From Log Mile | H8: To Log Mile | I8: IRI | J8: HC IRI | K8: Rut Depth | L8: PSI | M8: PDI | N8: PQI | O8: Year
A9: 84 | B9: SR | C9: 1 | D9: 1 | F9: P | G9: 0 | H9: 1 | I9: 93.48 | J9: 79.23 | K9: 0.21 | L9: 2.99 | M9: 3.33 | N9: 3.22 | O9: 2015
A10: 84 | B10: SR | C10: 1 | D10: 1 | F10: P | G10: 1 | H10: 2 | I10: 94.7 | J10: 81.93 | K10: 0.2 | L10: 2.97 | M10: 3.06 | N10: 3.03 | O10: 2015
A11: 84 | B11: SR | C11: 1 | D11: 1 | F11: P | G11: 2 | H11: 3 | I11: 91.67 | J11: 76.06 | K11: 0.16 | L11: 3.02 | M11: 3.14 | N11: 3.1 | O11: 2015
A12: 84 | B12: SR | C12: 1 | D12: 1 | F12: P | G12: 3 | H12: 4 | I12: 99.67 | J12: 83.17 | K12: 0.14 | L12: 2.89 | M12: 3.26 | N12: 3.14 | O12: 2015
A13: 84 | B13: SR | C13: 1 | D13: 1 | F13: P | G13: 4 | H13: 4.79 | I13: 89.28 | J13: 74.18 | K13: 0.15 | L13: 3.06 | M13: 3.07 | N13: 3.07 | O13: 2015
A14: 84 | B14: SR | C14: 3 | D14: 1 | F14: P | G14: 0 | H14: 1 | I14: 61.76 | J14: 51.36 | K14: 0.34 | L14: 3.56 | M14: 2.78 | N14: 2.99 | O14: 2016
A15: 84 | B15: SR | C15: 3 | D15: 1 | F15: P | G15: 1 | H15: 2 | I15: 71.73 | J15: 60.19 | K15: 0.28 | L15: 3.37 | M15: 2.66 | N15: 2.86 | O15: 2016
A16: 84 | B16: SR | C16: 3 | D16: 1 | F16: P | G16: 2 | H16: 3 | I16: 62.27 | J16: 51.53 | K16: 0.34 | L16: 3.55 | M16: 2.4 | N16: 2.7 | O16: 2016
A17: 84 | B17: SR | C17: 3 | D17: 1 | F17: P | G17: 3 | H17: 4 | I17: 62.78 | J17: 53.47 | K17: 0.3 | L17: 3.54 | M17: 2.56 | N17: 2.82 | O17: 2016
A18: 84 | B18: SR | C18: 3 | D18: 1 | F18: P | G18: 4 | H18: 5 | I18: 60.74 | J18: 51.41 | K18: 0.33 | L18: 3.58 | M18: 2.77 | N18: 2.99 | O18: 2016
A19: 84 | B19: SR | C19: 3 | D19: 1 | F19: P | G19: 5 | H19: 6 | I19: 109.36 | J19: 88.82 | K19: 0.61 | L19: 2.74 | M19: 3.07 | N19: 2.97 | O19: 2016
A20: 84 | B20: SR | C20: 3 | D20: 1 | F20: P | G20: 6 | H20: 7 | I20: 129.7 | J20: 111.16 | K20: 0.33 | L20: 2.45 | M20: 3.85 | N20: 3.36 | O20: 2016
... A63: 84 | B63: SR | C63: 54 | D63: 1 | F63: P | G63: 9 | H63: 9.77 | I63: 110.02 | J63: 93.38 | K63: 0.13 | L63: 2.73 | M63: 2.39 | N63: 2.49 | O63: 2015
A64: 84 | B64: SR | C64: 54 | D64: 1 | E64: SB | F64: P | G64: 0 | H64: 0.25 | I64: 313.81 | J64: 270.9 | K64: 0.09 | L64: 1.05 | M64: 2.28 | N64: 1.81 | O64: 2016
A65: 84 | B65: SR | C65: 59 | D65: 1 | F65: P | G65: 0 | H65: 1 | I65: 172.14 | J65: 150.26 | K65: 0.11 | L65: 1.94 | M65: 2.97 | N65: 2.61 | O65: 2015
A66: 84 | B66: SR | C66: 59 | D66: 1 | F66: P | G66: 1 | H66: 2 | I66: 144.38 | J66: 123.08 | K66: 0.09 | L66: 2.26 | M66: 2.96 | N66: 2.73 | O66: 2015
A67: 84 | B67: SR | C67: 59 | D67: 1 | F67: P | G67: 2 | H67: 3 | I67: 144.38 | J67: 126.35 | K67: 0.11 | L67: 2.26 | M67: 2.63 | N67: 2.51 | O67: 2015
A68: 84 | B68: SR | C68: 59 | D68: 1 | F68: P | G68: 3 | H68: 4 | I68: 149.27 | J68: 126.99 | K68: 0.09 | L68: 2.2 | M68: 3.5 | N68: 3.04 | O68: 2015
A69: 84 | B69: SR | C69: 59 | D69: 1 | F69: P | G69: 4 | H69: 5 | I69: 160.34 | J69: 142.63 | K69: 0.09 | L69: 2.07 | M69: 3.11 | N69: 2.75 | O69: 2015
A70: 84 | B70: SR | C70: 59 | D70: 1 | F70: P | G70: 5 | H70: 6 | I70: 165.69 | J70: 137.03 | K70: 0.17 | L70: 2.01 | M70: 2.13 | N70: 2.09 | O70: 2015
A71: 84 | B71: SR | C71: 59 | D71: 1 | F71: P | G71: 6 | H71: 7 | I71: 134.97 | J71: 117.65 | K71: 0.12 | L71: 2.38 | M71: 2.73 | N71: 2.62 | O71: 2015
A72: 84 | B72: SR | C72: 59 | D72: 1 | F72: P | G72: 7 | H72: 8 | I72: 156 | J72: 139.56 | K72: 0.13 | L72: 2.12 | M72: 3.39 | N72: 2.94 | O72: 2015
A73: 84 | B73: SR | C73: 59 | D73: 1 | F73: P | G73: 8 | H73: 9 | I73: 129.7 | J73: 110.18 | K73: 0.12 | L73: 2.45 | M73: 3.33 | N73: 3.04 | O73: 2015
A74: 84 | B74: SR | C74: 59 | D74: 1 | F74: P | G74: 9 | H74: 10 | I74: 115.43 | J74: 96.07 | K74: 0.11 | L74: 2.65 | M74: 3.75 | N74: 3.38 | O74: 2015
A75: 84 | B75: SR | C75: 59 | D75: 1 | F75: P | G75: 10 | H75: 11 | I75: 141.98 | J75: 113.32 | K75: 0.14 | L75: 2.29 | M75: 3.12 | N75: 2.84 | O75: 2015
A76: 84 | B76: SR | C76: 59 | D76: 1 | F76: P | G76: 11 | H76: 12 | I76: 139.61 | J76: 120.9 | K76: 0.13 | L76: 2.32 | M76: 3.19 | N76: 2.9 | O76: 2015
... A138: 84 | B138: SR | C138: 384 | D138: 1 | F138: P | G138: 9 | H138: 9.73 | I138: 111.36 | J138: 92.98 | K138: 0.14 | L138: 2.71 | M138: 4.29 | N138: 3.74 | O138: 2015

Sheet Weakley
I5: Region 4
A6: Pavement Management System | I6: Weakley County
I7: (1.0 mile sections)
A8: County | B8: Route | C8: Route # | D8: County Sequence | E8: Special Case | F8: Direction | G8: From Log Mile | H8: To Log Mile | I8: IRI | J8: HC IRI | K8: Rut Depth | L8: PSI | M8: PDI | N8: PQI | O8: Year
A9: 92 | B9: SR | C9: 22 | D9: 1 | F9: P | G9: 0 | H9: 1 | I9: 77.21 | J9: 66.71 | K9: 0.08 | L9: 3.27 | M9: 2.79 | N9: 2.93 | O9: 2016
A10: 92 | B10: SR | C10: 22 | D10: 1 | F10: P | G10: 1 | H10: 2 | I10: 57.72 | J10: 48.47 | K10: 0.09 | L10: 3.64 | M10: 2.95 | N10: 3.14 | O10: 2016
A11: 92 | B11: SR | C11: 22 | D11: 1 | F11: P | G11: 2 | H11: 3 | I11: 47.52 | J11: 38.58 | K11: 0.11 | L11: 3.85 | M11: 2.81 | N11: 3.09 | O11: 2016
A12: 92 | B12: SR | C12: 22 | D12: 1 | F12: P | G12: 3 | H12: 4 | I12: 47.99 | J12: 39.31 | K12: 0.12 | L12: 3.84 | M12: 3.56 | N12: 3.64 | O12: 2016
A13: 92 | B13: SR | C13: 22 | D13: 1 | F13: P | G13: 4 | H13: 5 | I13: 75.55 | J13: 62.6 | K13: 0.08 | L13: 3.3 | M13: 3.27 | N13: 3.28 | O13: 2016
A14: 92 | B14: SR | C14: 22 | D14: 1 | F14: P | G14: 5 | H14: 6 | I14: 89.28 | J14: 71.54 | K14: 0.07 | L14: 3.06 | M14: 3.08 | N14: 3.07 | O14: 2016
A15: 92 | B15: SR | C15: 22 | D15: 1 | F15: P | G15: 6 | H15: 7 | I15: 84.01 | J15: 68.15 | K15: 0.07 | L15: 3.15 | M15: 3.36 | N15: 3.3 | O15: 2016
A16: 92 | B16: SR | C16: 22 | D16: 1 | F16: P | G16: 7 | H16: 8 | I16: 81.71 | J16: 64.62 | K16: 0.07 | L16: 3.19 | M16: 3.19 | N16: 3.19 | O16: 2016
A17: 92 | B17: SR | C17: 22 | D17: 1 | F17: P | G17: 8 | H17: 9 | I17: 102.2 | J17: 92.48 | K17: 0.07 | L17: 2.85 | M17: 3.46 | N17: 3.26 | O17: 2016
A18: 92 | B18: SR | C18: 22 | D18: 1 | F18: P | G18: 9 | H18: 10 | I18: 70.12 | J18: 58.41 | K18: 0.07 | L18: 3.4 | M18: 3.6 | N18: 3.54 | O18: 2016
A19: 92 | B19: SR | C19: 22 | D19: 1 | F19: P | G19: 10 | H19: 11 | I19: 47.05 | J19: 40.16 | K19: 0.05 | L19: 3.86 | M19: 4.42 | N19: 4.24 | O19: 2016
A20: 92 | B20: SR | C20: 22 | D20: 1 | F20: P | G20: 11 | H20: 12 | I20: 41.03 | J20: 35.39 | K20: 0.08 | L20: 3.99 | M20: 4.88 | N20: 4.59 | O20: 2016
... A38: 92 | B38: SR | C38: 22 | D38: 1 | F38: P | G38: 29 | H38: 29.64 | I38: 48.94 | J38: 36.64 | K38: 0.05 | L38: 3.82 | M38: 4.56 | N38: 4.32 | O38: 2016
A39: 92 | B39: SR | C39: 22 | D39: 1 | E39: SRC | F39: P | G39: 0 | H39: 0.5 | I39: 116.81 | J39: 96.14 | K39: 0.07 | L39: 2.63 | M39: 3.13 | N39: 2.97 | O39: 2015
A40: 92 | B40: SR | C40: 43 | D40: 1 | F40: P | G40: 0 | H40: 1 | I40: 145.18 | J40: 126.03 | K40: 0.2 | L40: 2.25 | M40: 1.62 | N40: 1.79 | O40: 2016
A41: 92 | B41: SR | C41: 43 | D41: 1 | F41: P | G41: 1 | H41: 2 | I41: 176.88 | J41: 140.79 | K41: 0.19 | L41: 1.89 | M41: 1.1 | N41: 1.29 | O41: 2016
A42: 92 | B42: SR | C42: 43 | D42: 1 | F42: P | G42: 2 | H42: 3 | I42: 144.38 | J42: 121.54 | K42: 0.16 | L42: 2.26 | M42: 1.92 | N42: 2.02 | O42: 2016
A43: 92 | B43: SR | C43: 43 | D43: 1 | F43: P | G43: 3 | H43: 4 | I43: 128.96 | J43: 110.45 | K43: 0.14 | L43: 2.46 | M43: 2.61 | N43: 2.56 | O43: 2016
A44: 92 | B44: SR | C44: 43 | D44: 1 | F44: P | G44: 4 | H44: 5 | I44: 164.79 | J44: 133.32 | K44: 0.17 | L44: 2.02 | M44: 0.66 | N44: 0.92 | O44: 2016
A45: 92 | B45: SR | C45: 43 | D45: 1 | F45: P | G45: 5 | H45: 6 | I45: 76.65 | J45: 63.97 | K45: 0.13 | L45: 3.28 | M45: 1.09 | N45: 1.52 | O45: 2016
A46: 92 | B46: SR | C46: 43 | D46: 1 | F46: P | G46: 6 | H46: 7 | I46: 99.04 | J46: 89.99 | K46: 0.15 | L46: 2.9 | M46: 1.7 | N46: 2 | O46: 2016
A47: 92 | B47: SR | C47: 43 | D47: 1 | F47: P | G47: 7 | H47: 8 | I47: 56.23 | J47: 46 | K47: 0.08 | L47: 3.67 | M47: 3.3 | N47: 3.41 | O47: 2016
A48: 92 | B48: SR | C48: 43 | D48: 1 | F48: P | G48: 8 | H48: 9 | I48: 64.33 | J48: 53.14 | K48: 0.07 | L48: 3.51 | M48: 3.24 | N48: 3.32 | O48: 2016
A49: 92 | B49: SR | C49: 43 | D49: 1 | F49: P | G49: 9 | H49: 10 | I49: 62.78 | J49: 50.06 | K49: 0.07 | L49: 3.54 | M49: 3.23 | N49: 3.32 | O49: 2016
A50: 92 | B50: SR | C50: 43 | D50: 1 | F50: P | G50: 10 | H50: 11 | I50: 50.38 | J50: 41.13 | K50: 0.05 | L50: 3.79 | M50: 3.57 | N50: 3.63 | O50: 2016
A51: 92 | B51: SR | C51: 43 | D51: 1 | F51: P | G51: 11 | H51: 12 | I51: 52.79 | J51: 43.77 | K51: 0.06 | L51: 3.74 | M51: 3.58 | N51: 3.63 | O51: 2016
... A228: 92 | B228: SR | C228: 445 | D228: 1 | F228: P | G228: 6 | H228: 6.27 | I228: 144.38 | J228: 117.76 | K228: 0.1 | L228: 2.26 | M228: 1.91 | N228: 2.01 | O228: 2015

Sheet Sheet1
A1: County | B1: Route | C1: Route # | D1: County Sequence | E1: Special Case | F1: Direction | G1: From Log Mile | H1: To Log Mile | I1: IRI | J1: HC IRI | K1: Rut Depth | L1: PSI | M1: PDI | N1: PQI | O1: Year | P1: Section Length | Q1: Dirstrict
A2: 3 | B2: I | C2: 40 | D2: 1 | F2: M | G2: 0 | H2: 1 | I2: 33 | J2: 27.13 | K2: 0.1 | L2: 4.17 | M2: 4.94 | N2: 4.7 | O2: 2016 | P2: =H2-G2 -> 1 | Q2: =VLOOKUP(A2,Sheet2!$A$1:$B$23,2,FALSE) -> 47
A3: 3 | B3: I | C3: 40 | D3: 1 | F3: M | G3: 1 | H3: 2 | I3: 34.76 | J3: 28.49 | K3: 0.1 | L3: 4.13 | M3: 4.92 | N3: 4.67 | O3: 2016 | P3: =H3-G3 -> 1 | Q3: =VLOOKUP(A3,Sheet2!$A$1:$B$23,2,FALSE) -> 47
A4: 3 | B4: I | C4: 40 | D4: 1 | F4: M | G4: 2 | H4: 3 | I4: 34.32 | J4: 28.01 | K4: 0.1 | L4: 4.14 | M4: 4.96 | N4: 4.7 | O4: 2016 | P4: =H4-G4 -> 1 | Q4: =VLOOKUP(A4,Sheet2!$A$1:$B$23,2,FALSE) -> 47
A5: 3 | B5: I | C5: 40 | D5: 1 | F5: M | G5: 3 | H5: 4 | I5: 33 | J5: 26.71 | K5: 0.1 | L5: 4.17 | M5: 4.92 | N5: 4.68 | O5: 2016 | P5: =H5-G5 -> 1 | Q5: =VLOOKUP(A5,Sheet2!$A$1:$B$23,2,FALSE) -> 47
A6: 3 | B6: I | C6: 40 | D6: 1 | F6: M | G6: 4 | H6: 5 | I6: 31.7 | J6: 25.43 | K6: 0.1 | L6: 4.2 | M6: 4.88 | N6: 4.67 | O6: 2016 | P6: =H6-G6 -> 1 | Q6: =VLOOKUP(A6,Sheet2!$A$1:$B$23,2,FALSE) -> 47
A7: 3 | B7: I | C7: 40 | D7: 1 | F7: M | G7: 5 | H7: 6 | I7: 35.64 | J7: 29.85 | K7: 0.1 | L7: 4.11 | M7: 4.89 | N7: 4.64 | O7: 2016 | P7: =H7-G7 -> 1 | Q7: =VLOOKUP(A7,Sheet2!$A$1:$B$23,2,FALSE) -> 47
A8: 3 | B8: I | C8: 40 | D8: 1 | F8: M | G8: 6 | H8: 7 | I8: 34.32 | J8: 28.42 | K8: 0.09 | L8: 4.14 | M8: 4.98 | N8: 4.71 | O8: 2016 | P8: =H8-G8 -> 1 | Q8: =VLOOKUP(A8,Sheet2!$A$1:$B$23,2,FALSE) -> 47
A9: 3 | B9: I | C9: 40 | D9: 1 | F9: M | G9: 7 | H9: 8 | I9: 32.13 | J9: 26.14 | K9: 0.07 | L9: 4.19 | M9: 4.97 | N9: 4.72 | O9: 2016 | P9: =H9-G9 -> 1 | Q9: =VLOOKUP(A9,Sheet2!$A$1:$B$23,2,FALSE) -> 47
A10: 3 | B10: I | C10: 40 | D10: 1 | F10: M | G10: 8 | H10: 8.78 | I10: 77.21 | J10: 70.76 | K10: 0.09 | L10: 3.27 | M10: 4.54 | N10: 4.11 | O10: 2016 | P10: =H10-G10 -> 0.78 | Q10: =VLOOKUP(A10,Sheet2!$A$1:$B$23,2,FALSE) -> 47
A11: 3 | B11: I | C11: 40 | D11: 1 | F11: P | G11: 0 | H11: 1 | I11: 41.03 | J11: 33.87 | K11: 0.1 | L11: 3.99 | M11: 4.86 | N11: 4.58 | O11: 2016 | P11: =H11-G11 -> 1 | Q11: =VLOOKUP(A11,Sheet2!$A$1:$B$23,2,FALSE) -> 47
A12: 3 | B12: I | C12: 40 | D12: 1 | F12: P | G12: 1 | H12: 2 | I12: 31.7 | J12: 25.12 | K12: 0.1 | L12: 4.2 | M12: 4.9 | N12: 4.68 | O12: 2016 | P12: =H12-G12 -> 1 | Q12: =VLOOKUP(A12,Sheet2!$A$1:$B$23,2,FALSE) -> 47
A13: 3 | B13: I | C13: 40 | D13: 1 | F13: P | G13: 2 | H13: 3 | I13: 33 | J13: 27.21 | K13: 0.11 | L13: 4.17 | M13: 4.89 | N13: 4.66 | O13: 2016 | P13: =H13-G13 -> 1 | Q13: =VLOOKUP(A13,Sheet2!$A$1:$B$23,2,FALSE) -> 47
... A57: 3 | B57: SR | C57: 69 | D57: 1 | F57: P | G57: 24 | H57: 24.21 | I57: 66.42 | J57: 48.11 | K57: 0.07 | L57: 3.47 | M57: 4.6 | N57: 4.23 | O57: 2016 | P57: =H57-G57 -> 0.21 | Q57: =VLOOKUP(A57,Sheet2!$A$1:$B$23,2,FALSE) -> 47
A58: 3 | B58: SR | C58: 69 | D58: 1 | E58: ALT | F58: P | G58: 0 | H58: 1 | I58: 131.94 | J58: 120.45 | K58: 0.09 | L58: 2.42 | M58: 2.68 | N58: 2.6 | O58: 2015 | P58: =H58-G58 -> 1 | Q58: =VLOOKUP(A58,Sheet2!$A$1:$B$23,2,FALSE) -> 47
A59: 3 | B59: SR | C59: 69 | D59: 1 | E59: ALT | F59: P | G59: 1 | H59: 2 | I59: 64.85 | J59: 55.76 | K59: 0.05 | L59: 3.5 | M59: 3.75 | N59: 3.67 | O59: 2015 | P59: =H59-G59 -> 1 | Q59: =VLOOKUP(A59,Sheet2!$A$1:$B$23,2,FALSE) -> 47
A60: 3 | B60: SR | C60: 69 | D60: 1 | E60: ALT | F60: P | G60: 2 | H60: 3 | I60: 64.33 | J60: 54.58 | K60: 0.05 | L60: 3.51 | M60: 3.89 | N60: 3.77 | O60: 2015 | P60: =H60-G60 -> 1 | Q60: =VLOOKUP(A60,Sheet2!$A$1:$B$23,2,FALSE) -> 47
A61: 3 | B61: SR | C61: 69 | D61: 1 | E61: ALT | F61: P | G61: 3 | H61: 4 | I61: 61.76 | J61: 51.6 | K61: 0.05 | L61: 3.56 | M61: 3.64 | N61: 3.62 | O61: 2015 | P61: =H61-G61 -> 1 | Q61: =VLOOKUP(A61,Sheet2!$A$1:$B$23,2,FALSE) -> 47
A62: 3 | B62: SR | C62: 69 | D62: 1 | E62: ALT | F62: P | G62: 4 | H62: 5 | I62: 69.05 | J62: 57.52 | K62: 0.05 | L62: 3.42 | M62: 3.14 | N62: 3.22 | O62: 2015 | P62: =H62-G62 -> 1 | Q62: =VLOOKUP(A62,Sheet2!$A$1:$B$23,2,FALSE) -> 47
A63: 3 | B63: SR | C63: 69 | D63: 1 | E63: ALT | F63: P | G63: 5 | H63: 6 | I63: 60.23 | J63: 49.38 | K63: 0.04 | L63: 3.59 | M63: 3.22 | N63: 3.33 | O63: 2015 | P63: =H63-G63 -> 1 | Q63: =VLOOKUP(A63,Sheet2!$A$1:$B$23,2,FALSE) -> 47
A64: 3 | B64: SR | C64: 69 | D64: 1 | E64: ALT | F64: P | G64: 6 | H64: 7 | I64: 70.66 | J64: 61.57 | K64: 0.05 | L64: 3.39 | M64: 3.52 | N64: 3.48 | O64: 2015 | P64: =H64-G64 -> 1 | Q64: =VLOOKUP(A64,Sheet2!$A$1:$B$23,2,FALSE) -> 47
A65: 3 | B65: SR | C65: 69 | D65: 1 | E65: ALT | F65: P | G65: 7 | H65: 8 | I65: 68.52 | J65: 59.07 | K65: 0.04 | L65: 3.43 | M65: 4.09 | N65: 3.88 | O65: 2015 | P65: =H65-G65 -> 1 | Q65: =VLOOKUP(A65,Sheet2!$A$1:$B$23,2,FALSE) -> 47
A66: 3 | B66: SR | C66: 69 | D66: 1 | E66: ALT | F66: P | G66: 8 | H66: 9 | I66: 60.23 | J66: 50.65 | K66: 0.04 | L66: 3.59 | M66: 4.1 | N66: 3.94 | O66: 2015 | P66: =H66-G66 -> 1 | Q66: =VLOOKUP(A66,Sheet2!$A$1:$B$23,2,FALSE) -> 47
A67: 3 | B67: SR | C67: 69 | D67: 1 | E67: ALT | F67: P | G67: 9 | H67: 10 | I67: 61.76 | J67: 53.11 | K67: 0.03 | L67: 3.56 | M67: 4.37 | N67: 4.11 | O67: 2015 | P67: =H67-G67 -> 1 | Q67: =VLOOKUP(A67,Sheet2!$A$1:$B$23,2,FALSE) -> 47
A68: 3 | B68: SR | C68: 69 | D68: 1 | E68: ALT | F68: P | G68: 10 | H68: 11 | I68: 67.47 | J68: 59.92 | K68: 0.03 | L68: 3.45 | M68: 4.2 | N68: 3.96 | O68: 2015 | P68: =H68-G68 -> 1 | Q68: =VLOOKUP(A68,Sheet2!$A$1:$B$23,2,FALSE) -> 47
A69: 3 | B69: SR | C69: 69 | D69: 1 | E69: ALT | F69: P | G69: 11 | H69: 12 | I69: 77.77 | J69: 72.27 | K69: 0.04 | L69: 3.26 | M69: 4.49 | N69: 4.08 | O69: 2015 | P69: =H69-G69 -> 1 | Q69: =VLOOKUP(A69,Sheet2!$A$1:$B$23,2,FALSE) -> 47
... A72: 3 | B72: SR | C72: 69 | D72: 1 | E72: ALT | F72: P | G72: 14 | H72: 14.5 | I72: 47.05 | J72: 40.24 | K72: 0.03 | L72: 3.86 | M72: 4.55 | N72: 4.33 | O72: 2015 | P72: =H72-G72 -> 0.5 | Q72: =VLOOKUP(A72,Sheet2!$A$1:$B$23,2,FALSE) -> 47
A73: 3 | B73: SR | C73: 147 | D73: 1 | F73: P | G73: 0 | H73: 1 | I73: 154.3 | J73: 139.68 | K73: 0.07 | L73: 2.14 | M73: 3.53 | N73: 3.04 | O73: 2015 | P73: =H73-G73 -> 1 | Q73: =VLOOKUP(A73,Sheet2!$A$1:$B$23,2,FALSE) -> 47
A74: 3 | B74: SR | C74: 147 | D74: 1 | F74: P | G74: 1 | H74: 2 | I74: 112.71 | J74: 98.66 | K74: 0.04 | L74: 2.69 | M74: 3.87 | N74: 3.47 | O74: 2015 | P74: =H74-G74 -> 1 | Q74: =VLOOKUP(A74,Sheet2!$A$1:$B$23,2,FALSE) -> 47
A75: 3 | B75: SR | C75: 147 | D75: 1 | F75: P | G75: 2 | H75: 3 | I75: 87.5 | J75: 76.92 | K75: 0.04 | L75: 3.09 | M75: 4.09 | N75: 3.76 | O75: 2015 | P75: =H75-G75 -> 1 | Q75: =VLOOKUP(A75,Sheet2!$A$1:$B$23,2,FALSE) -> 47
A76: 3 | B76: SR | C76: 147 | D76: 1 | F76: P | G76: 3 | H76: 4 | I76: 91.67 | J76: 80.9 | K76: 0.04 | L76: 3.02 | M76: 4.15 | N76: 3.77 | O76: 2015 | P76: =H76-G76 -> 1 | Q76: =VLOOKUP(A76,Sheet2!$A$1:$B$23,2,FALSE) -> 47
A77: 3 | B77: SR | C77: 147 | D77: 1 | F77: P | G77: 4 | H77: 5 | I77: 112.03 | J77: 98.16 | K77: 0.05 | L77: 2.7 | M77: 3.89 | N77: 3.49 | O77: 2015 | P77: =H77-G77 -> 1 | Q77: =VLOOKUP(A77,Sheet2!$A$1:$B$23,2,FALSE) -> 47
A78: 3 | B78: SR | C78: 147 | D78: 1 | F78: P | G78: 5 | H78: 6 | I78: 120.3 | J78: 106.08 | K78: 0.04 | L78: 2.58 | M78: 4.05 | N78: 3.54 | O78: 2015 | P78: =H78-G78 -> 1 | Q78: =VLOOKUP(A78,Sheet2!$A$1:$B$23,2,FALSE) -> 47
A79: 3 | B79: SR | C79: 147 | D79: 1 | F79: P | G79: 6 | H79: 7 | I79: 97.17 | J79: 85.67 | K79: 0.05 | L79: 2.93 | M79: 3.99 | N79: 3.64 | O79: 2015 | P79: =H79-G79 -> 1 | Q79: =VLOOKUP(A79,Sheet2!$A$1:$B$23,2,FALSE) -> 47
A80: 3 | B80: SR | C80: 147 | D80: 1 | F80: P | G80: 7 | H80: 8 | I80: 110.02 | J80: 96.52 | K80: 0.06 | L80: 2.73 | M80: 3.5 | N80: 3.25 | O80: 2015 | P80: =H80-G80 -> 1 | Q80: =VLOOKUP(A80,Sheet2!$A$1:$B$23,2,FALSE) -> 47
A81: 3 | B81: SR | C81: 147 | D81: 1 | F81: P | G81: 8 | H81: 9 | I81: 102.2 | J81: 87.4 | K81: 0.06 | L81: 2.85 | M81: 3.84 | N81: 3.51 | O81: 2015 | P81: =H81-G81 -> 1 | Q81: =VLOOKUP(A81,Sheet2!$A$1:$B$23,2,FALSE) -> 47
A82: 3 | B82: SR | C82: 147 | D82: 1 | F82: P | G82: 9 | H82: 10 | I82: 105.42 | J82: 89.79 | K82: 0.05 | L82: 2.8 | M82: 3.85 | N82: 3.5 | O82: 2015 | P82: =H82-G82 -> 1 | Q82: =VLOOKUP(A82,Sheet2!$A$1:$B$23,2,FALSE) -> 47
A83: 3 | B83: SR | C83: 147 | D83: 1 | F83: P | G83: 10 | H83: 10.57 | I83: 99.67 | J83: 86.45 | K83: 0.04 | L83: 2.89 | M83: 4.3 | N83: 3.82 | O83: 2015 | P83: =H83-G83 -> 0.57 | Q83: =VLOOKUP(A83,Sheet2!$A$1:$B$23,2,FALSE) -> 47
A84: 3 | B84: SR | C84: 191 | D84: 1 | F84: P | G84: 0 | H84: 1 | I84: 143.57 | J84: 121.87 | K84: 0.12 | L84: 2.27 | M84: 2.89 | N84: 2.69 | O84: 2015 | P84: =H84-G84 -> 1 | Q84: =VLOOKUP(A84,Sheet2!$A$1:$B$23,2,FALSE) -> 47
... A108: 3 | B108: SR | C108: 191 | D108: 1 | F108: P | G108: 24 | H108: 24.02 | I108: 221.34 | J108: 261.8 | K108: 0.13 | L108: 1.48 | M108: 4.44 | N108: 3.19 | O108: 2015 | P108: =H108-G108 -> 0.02 | Q108: =VLOOKUP(A108,Sheet2!$A$1:$B$23,2,FALSE) -> 47
A109: 3 | B109: SR | C109: 191 | D109: 1 | E109: SB | F109: P | G109: 0 | H109: 0.06 | I109: 265.64 | J109: 228.1 | K109: 0.2 | L109: 1.16 | M109: 2.19 | N109: 1.81 | O109: 2015 | P109: =H109-G109 -> 0.06 | Q109: =VLOOKUP(A109,Sheet2!$A$1:$B$23,2,FALSE) -> 47
A110: 3 | B110: SR | C110: 192 | D110: 1 | F110: P | G110: 0 | H110: 1 | I110: 116.12 | J110: 102.23 | K110: 0.09 | L110: 2.64 | M110: 2.03 | N110: 2.2 | O110: 2015 | P110: =H110-G110 -> 1 | Q110: =VLOOKUP(A110,Sheet2!$A$1:$B$23,2,FALSE) -> 47
A111: 3 | B111: SR | C111: 192 | D111: 1 | F111: P | G111: 1 | H111: 2 | I111: 96.55 | J111: 78.3 | K111: 0.07 | L111: 2.94 | M111: 3.04 | N111: 3.01 | O111: 2015 | P111: =H111-G111 -> 1 | Q111: =VLOOKUP(A111,Sheet2!$A$1:$B$23,2,FALSE) -> 47
A112: 3 | B112: SR | C112: 192 | D112: 1 | F112: P | G112: 2 | H112: 3 | I112: 104.13 | J112: 89 | K112: 0.08 | L112: 2.82 | M112: 3.51 | N112: 3.29 | O112: 2015 | P112: =H112-G112 -> 1 | Q112: =VLOOKUP(A112,Sheet2!$A$1:$B$23,2,FALSE) -> 47
A113: 3 | B113: SR | C113: 192 | D113: 1 | F113: P | G113: 3 | H113: 4 | I113: 121.01 | J113: 106.84 | K113: 0.09 | L113: 2.57 | M113: 3.33 | N113: 3.08 | O113: 2015 | P113: =H113-G113 -> 1 | Q113: =VLOOKUP(A113,Sheet2!$A$1:$B$23,2,FALSE) -> 47
A114: 3 | B114: SR | C114: 192 | D114: 1 | F114: P | G114: 4 | H114: 5 | I114: 141.98 | J114: 127.38 | K114: 0.1 | L114: 2.29 | M114: 2.62 | N114: 2.52 | O114: 2015 | P114: =H114-G114 -> 1 | Q114: =VLOOKUP(A114,Sheet2!$A$1:$B$23,2,FALSE) -> 47
A115: 3 | B115: SR | C115: 192 | D115: 1 | F115: P | G115: 5 | H115: 6 | I115: 87.5 | J115: 74.3 | K115: 0.06 | L115: 3.09 | M115: 4.15 | N115: 3.8 | O115: 2015 | P115: =H115-G115 -> 1 | Q115: =VLOOKUP(A115,Sheet2!$A$1:$B$23,2,FALSE) -> 47
A116: 3 | B116: SR | C116: 192 | D116: 1 | F116: P | G116: 6 | H116: 7 | I116: 78.32 | J116: 66 | K116: 0.06 | L116: 3.25 | M116: 4.28 | N116: 3.94 | O116: 2015 | P116: =H116-G116 -> 1 | Q116: =VLOOKUP(A116,Sheet2!$A$1:$B$23,2,FALSE) -> 47
A117: 3 | B117: SR | C117: 192 | D117: 1 | F117: P | G117: 7 | H117: 8 | I117: 82.86 | J117: 71.28 | K117: 0.06 | L117: 3.17 | M117: 3.94 | N117: 3.69 | O117: 2015 | P117: =H117-G117 -> 1 | Q117: =VLOOKUP(A117,Sheet2!$A$1:$B$23,2,FALSE) -> 47
A118: 3 | B118: SR | C118: 192 | D118: 1 | F118: P | G118: 8 | H118: 9 | I118: 99.67 | J118: 94.27 | K118: 0.07 | L118: 2.89 | M118: 3.84 | N118: 3.53 | O118: 2015 | P118: =H118-G118 -> 1 | Q118: =VLOOKUP(A118,Sheet2!$A$1:$B$23,2,FALSE) -> 47
A119: 3 | B119: SR | C119: 192 | D119: 1 | F119: P | G119: 9 | H119: 10 | I119: 112.03 | J119: 98.9 | K119: 0.08 | L119: 2.7 | M119: 3.87 | N119: 3.47 | O119: 2015 | P119: =H119-G119 -> 1 | Q119: =VLOOKUP(A119,Sheet2!$A$1:$B$23,2,FALSE) -> 47
A120: 3 | B120: SR | C120: 192 | D120: 1 | F120: P | G120: 10 | H120: 10.81 | I120: 108.7 | J120: 92.67 | K120: 0.08 | L120: 2.75 | M120: 4.01 | N120: 3.58 | O120: 2015 | P120: =H120-G120 -> 0.81 | Q120: =VLOOKUP(A120,Sheet2!$A$1:$B$23,2,FALSE) -> 47
A121: 3 | B121: SR | C121: 391 | D121: 1 | F121: P | G121: 0 | H121: 1 | I121: 88.09 | J121: 74.26 | K121: 0.12 | L121: 3.08 | M121: 2.39 | N121: 2.58 | O121: 2015 | P121: =H121-G121 -> 1 | Q121: =VLOOKUP(A121,Sheet2!$A$1:$B$23,2,FALSE) -> 47
... A161: 9 | B161: SR | C161: 1 | D161: 1 | F161: P | G161: 32 | H161: 32.37 | I161: 118.2 | J161: 103.78 | K161: 0.24 | L161: 2.61 | M161: 0.96 | N161: 1.3 | O161: 2015 | P161: =H161-G161 -> 0.37 | Q161: =VLOOKUP(A161,Sheet2!$A$1:$B$23,2,FALSE) -> 47
A162: 9 | B162: SR | C162: 1 | D162: 1 | E162: WB | F162: P | G162: 0 | H162: 0.08 | I162: 276.96 | J162: 225 | K162: 0.11 | L162: 1.09 | M162: 2.66 | N162: 2.04 | O162: 2015 | P162: =H162-G162 -> 0.08 | Q162: =VLOOKUP(A162,Sheet2!$A$1:$B$23,2,FALSE) -> 47
A163: 9 | B163: SR | C163: 22 | D163: 1 | F163: P | G163: 0 | H163: 1 | I163: 70.12 | J163: 61.06 | K163: 0.09 | L163: 3.4 | M163: 4.51 | N163: 4.14 | O163: 2016 | P163: =H163-G163 -> 1 | Q163: =VLOOKUP(A163,Sheet2!$A$1:$B$23,2,FALSE) -> 47
A164: 9 | B164: SR | C164: 22 | D164: 1 | F164: P | G164: 1 | H164: 2 | I164: 63.3 | J164: 53.61 | K164: 0.1 | L164: 3.53 | M164: 4.8 | N164: 4.38 | O164: 2016 | P164: =H164-G164 -> 1 | Q164: =VLOOKUP(A164,Sheet2!$A$1:$B$23,2,FALSE) -> 47
A165: 9 | B165: SR | C165: 22 | D165: 1 | F165: P | G165: 2 | H165: 3 | I165: 62.78 | J165: 54.4 | K165: 0.08 | L165: 3.54 | M165: 4.53 | N165: 4.21 | O165: 2016 | P165: =H165-G165 -> 1 | Q165: =VLOOKUP(A165,Sheet2!$A$1:$B$23,2,FALSE) -> 47
A166: 9 | B166: SR | C166: 22 | D166: 1 | F166: P | G166: 3 | H166: 4 | I166: 49.9 | J166: 43.78 | K166: 0.09 | L166: 3.8 | M166: 4.66 | N166: 4.38 | O166: 2016 | P166: =H166-G166 -> 1 | Q166: =VLOOKUP(A166,Sheet2!$A$1:$B$23,2,FALSE) -> 47
A167: 9 | B167: SR | C167: 22 | D167: 1 | F167: P | G167: 4 | H167: 5 | I167: 112.71 | J167: 93.07 | K167: 0.1 | L167: 2.69 | M167: 3.66 | N167: 3.34 | O167: 2016 | P167: =H167-G167 -> 1 | Q167: =VLOOKUP(A167,Sheet2!$A$1:$B$23,2,FALSE) -> 47
A168: 9 | B168: SR | C168: 22 | D168: 1 | F168: P | G168: 5 | H168: 6 | I168: 166.6 | J168: 136.19 | K168: 0.13 | L168: 2 | M168: 2.08 | N168: 2.06 | O168: 2016 | P168: =H168-G168 -> 1 | Q168: =VLOOKUP(A168,Sheet2!$A$1:$B$23,2,FALSE) -> 47
A169: 9 | B169: SR | C169: 22 | D169: 1 | F169: P | G169: 6 | H169: 7 | I169: 143.57 | J169: 115.94 | K169: 0.1 | L169: 2.27 | M169: 2.25 | N169: 2.26 | O169: 2016 | P169: =H169-G169 -> 1 | Q169: =VLOOKUP(A169,Sheet2!$A$1:$B$23,2,FALSE) -> 47
A170: 9 | B170: SR | C170: 22 | D170: 1 | F170: P | G170: 7 | H170: 8 | I170: 134.97 | J170: 110.19 | K170: 0.1 | L170: 2.38 | M170: 2.6 | N170: 2.53 | O170: 2016 | P170: =H170-G170 -> 1 | Q170: =VLOOKUP(A170,Sheet2!$A$1:$B$23,2,FALSE) -> 47
A171: 9 | B171: SR | C171: 22 | D171: 1 | F171: P | G171: 8 | H171: 9 | I171: 148.44 | J171: 117.67 | K171: 0.12 | L171: 2.21 | M171: 2.3 | N171: 2.27 | O171: 2016 | P171: =H171-G171 -> 1 | Q171: =VLOOKUP(A171,Sheet2!$A$1:$B$23,2,FALSE) -> 47
A172: 9 | B172: SR | C172: 22 | D172: 1 | F172: P | G172: 9 | H172: 10 | I172: 79.45 | J172: 67.31 | K172: 0.09 | L172: 3.23 | M172: 4.37 | N172: 3.99 | O172: 2016 | P172: =H172-G172 -> 1 | Q172: =VLOOKUP(A172,Sheet2!$A$1:$B$23,2,FALSE) -> 47
A173: 9 | B173: SR | C173: 22 | D173: 1 | F173: P | G173: 10 | H173: 11 | I173: 55.73 | J173: 49.42 | K173: 0.06 | L173: 3.68 | M173: 4.95 | N173: 4.53 | O173: 2016 | P173: =H173-G173 -> 1 | Q173: =VLOOKUP(A173,Sheet2!$A$1:$B$23,2,FALSE) -> 47
A174: 9 | B174: SR | C174: 22 | D174: 1 | F174: P | G174: 11 | H174: 12 | I174: 106.72 | J174: 87.95 | K174: 0.07 | L174: 2.78 | M174: 4.8 | N174: 4.07 | O174: 2016 | P174: =H174-G174 -> 1 | Q174: =VLOOKUP(A174,Sheet2!$A$1:$B$23,2,FALSE) -> 47
... A188: 9 | B188: SR | C188: 22 | D188: 1 | F188: P | G188: 25 | H188: 25.09 | I188: 100.93 | J188: 83.2 | K188: 0.16 | L188: 2.87 | M188: 1.28 | N188: 1.63 | O188: 2016 | P188: =H188-G188 -> 0.09 | Q188: =VLOOKUP(A188,Sheet2!$A$1:$B$23,2,FALSE) -> 47
A189: 9 | B189: SR | C189: 22 | D189: 1 | E189: BYP | F189: P | G189: 0 | H189: 1 | I189: 105.42 | J189: 82.21 | K189: 0.15 | L189: 2.8 | M189: 1.35 | N189: 1.68 | O189: 2016 | P189: =H189-G189 -> 1 | Q189: =VLOOKUP(A189,Sheet2!$A$1:$B$23,2,FALSE) -> 47
A190: 9 | B190: SR | C190: 22 | D190: 1 | E190: BYP | F190: P | G190: 1 | H190: 2 | I190: 118.2 | J190: 94.35 | K190: 0.16 | L190: 2.61 | M190: 1.71 | N190: 1.94 | O190: 2016 | P190: =H190-G190 -> 1 | Q190: =VLOOKUP(A190,Sheet2!$A$1:$B$23,2,FALSE) -> 47
A191: 9 | B191: SR | C191: 22 | D191: 1 | E191: BYP | F191: P | G191: 2 | H191: 3 | I191: 126.03 | J191: 100.26 | K191: 0.11 | L191: 2.5 | M191: 2.15 | N191: 2.25 | O191: 2016 | P191: =H191-G191 -> 1 | Q191: =VLOOKUP(A191,Sheet2!$A$1:$B$23,2,FALSE) -> 47
A192: 9 | B192: SR | C192: 22 | D192: 1 | E192: BYP | F192: P | G192: 3 | H192: 3.59 | I192: 111.36 | J192: 88.18 | K192: 0.11 | L192: 2.71 | M192: 1.98 | N192: 2.18 | O192: 2016 | P192: =H192-G192 -> 0.59 | Q192: =VLOOKUP(A192,Sheet2!$A$1:$B$23,2,FALSE) -> 47
A193: 9 | B193: SR | C193: 22 | D193: 1 | E193: SB | F193: P | G193: 0 | H193: 0.53 | I193: 154.3 | J193: 168.24 | K193: 0.06 | L193: 2.14 | M193: 3.59 | N193: 3.07 | O193: 2015 | P193: =H193-G193 -> 0.53 | Q193: =VLOOKUP(A193,Sheet2!$A$1:$B$23,2,FALSE) -> 47
A194: 9 | B194: SR | C194: 76 | D194: 1 | F194: P | G194: 0 | H194: 1 | I194: 120.3 | J194: 108.58 | K194: 0.29 | L194: 2.58 | M194: 3.54 | N194: 3.22 | O194: 2016 | P194: =H194-G194 -> 1 | Q194: =VLOOKUP(A194,Sheet2!$A$1:$B$23,2,FALSE) -> 47
A195: 9 | B195: SR | C195: 76 | D195: 1 | F195: P | G195: 1 | H195: 2 | I195: 116.12 | J195: 103.69 | K195: 0.31 | L195: 2.64 | M195: 3.48 | N195: 3.2 | O195: 2016 | P195: =H195-G195 -> 1 | Q195: =VLOOKUP(A195,Sheet2!$A$1:$B$23,2,FALSE) -> 47
A196: 9 | B196: SR | C196: 76 | D196: 1 | F196: P | G196: 2 | H196: 3 | I196: 128.96 | J196: 109.09 | K196: 0.26 | L196: 2.46 | M196: 3.43 | N196: 3.1 | O196: 2016 | P196: =H196-G196 -> 1 | Q196: =VLOOKUP(A196,Sheet2!$A$1:$B$23,2,FALSE) -> 47
A197: 9 | B197: SR | C197: 76 | D197: 1 | F197: P | G197: 3 | H197: 4 | I197: 124.58 | J197: 107.75 | K197: 0.22 | L197: 2.52 | M197: 3.34 | N197: 3.07 | O197: 2016 | P197: =H197-G197 -> 1 | Q197: =VLOOKUP(A197,Sheet2!$A$1:$B$23,2,FALSE) -> 47
A198: 9 | B198: SR | C198: 76 | D198: 1 | F198: P | G198: 4 | H198: 5 | I198: 121.71 | J198: 99.03 | K198: 0.24 | L198: 2.56 | M198: 3.42 | N198: 3.14 | O198: 2016 | P198: =H198-G198 -> 1 | Q198: =VLOOKUP(A198,Sheet2!$A$1:$B$23,2,FALSE) -> 47
A199: 9 | B199: SR | C199: 76 | D199: 1 | F199: P | G199: 5 | H199: 6 | I199: 118.2 | J199: 102.86 | K199: 0.18 | L199: 2.61 | M199: 4.09 | N199: 3.57 | O199: 2016 | P199: =H199-G199 -> 1 | Q199: =VLOOKUP(A199,Sheet2!$A$1:$B$23,2,FALSE) -> 47
A200: 9 | B200: SR | C200: 76 | D200: 1 | F200: P | G200: 6 | H200: 7 | I200: 73.36 | J200: 62.22 | K200: 0.04 | L200: 3.34 | M200: 4.75 | N200: 4.27 | O200: 2016 | P200: =H200-G200 -> 1 | Q200: =VLOOKUP(A200,Sheet2!$A$1:$B$23,2,FALSE) -> 47
A201: 9 | B201: SR | C201: 76 | D201: 1 | F201: P | G201: 7 | H201: 8 | I201: 59.22 | J201: 49.13 | K201: 0.04 | L201: 3.61 | M201: 4.82 | N201: 4.42 | O201: 2016 | P201: =H201-G201 -> 1 | Q201: =VLOOKUP(A201,Sheet2!$A$1:$B$23,2,FALSE) -> 47
A202: 9 | B202: SR | C202: 76 | D202: 1 | F202: P | G202: 8 | H202: 9 | I202: 79.45 | J202: 67.69 | K202: 0.04 | L202: 3.23 | M202: 4.73 | N202: 4.22 | O202: 2016 | P202: =H202-G202 -> 1 | Q202: =VLOOKUP(A202,Sheet2!$A$1:$B$23,2,FALSE) -> 47
A203: 9 | B203: SR | C203: 76 | D203: 1 | F203: P | G203: 9 | H203: 10 | I203: 97.17 | J203: 85.69 | K203: 0.06 | L203: 2.93 | M203: 4.59 | N203: 4.01 | O203: 2016 | P203: =H203-G203 -> 1 | Q203: =VLOOKUP(A203,Sheet2!$A$1:$B$23,2,FALSE) -> 47
A204: 9 | B204: SR | C204: 76 | D204: 1 | F204: P | G204: 10 | H204: 11 | I204: 109.36 | J204: 93.23 | K204: 0.06 | L204: 2.74 | M204: 4.51 | N204: 3.88 | O204: 2016 | P204: =H204-G204 -> 1 | Q204: =VLOOKUP(A204,Sheet2!$A$1:$B$23,2,FALSE) -> 47
A205: 9 | B205: SR | C205: 76 | D205: 1 | F205: P | G205: 11 | H205: 12 | I205: 114.07 | J205: 101.09 | K205: 0.06 | L205: 2.67 | M205: 4.36 | N205: 3.76 | O205: 2016 | P205: =H205-G205 -> 1 | Q205: =VLOOKUP(A205,Sheet2!$A$1:$B$23,2,FALSE) -> 47
... A323: 9 | B323: SR | C323: 220 | D323: 1 | F323: P | G323: 14 | H323: 14.07 | I323: 150.93 | J323: 136.2 | K323: 0.12 | L323: 2.18 | M323: 3.24 | N323: 2.88 | O323: 2015 | P323: =H323-G323 -> 0.07 | Q323: =VLOOKUP(A323,Sheet2!$A$1:$B$23,2,FALSE) -> 47
A324: 9 | B324: SR | C324: 220 | D324: 1 | E324: ALT | F324: P | G324: 0 | H324: 1 | I324: 116.81 | J324: 104.53 | K324: 0.07 | L324: 2.63 | M324: 3.45 | N324: 3.18 | O324: 2015 | P324: =H324-G324 -> 1 | Q324: =VLOOKUP(A324,Sheet2!$A$1:$B$23,2,FALSE) -> 47
A325: 9 | B325: SR | C325: 220 | D325: 1 | E325: ALT | F325: P | G325: 1 | H325: 1.51 | I325: 89.87 | J325: 78.56 | K325: 0.08 | L325: 3.05 | M325: 3.23 | N325: 3.17 | O325: 2015 | P325: =H325-G325 -> 0.51 | Q325: =VLOOKUP(A325,Sheet2!$A$1:$B$23,2,FALSE) -> 47
A326: 9 | B326: SR | C326: 364 | D326: 1 | F326: P | G326: 0 | H326: 1 | I326: 77.77 | J326: 67.38 | K326: 0.09 | L326: 3.26 | M326: 3.64 | N326: 3.52 | O326: 2015 | P326: =H326-G326 -> 1 | Q326: =VLOOKUP(A326,Sheet2!$A$1:$B$23,2,FALSE) -> 47
A327: 9 | B327: SR | C327: 364 | D327: 1 | F327: P | G327: 1 | H327: 2 | I327: 89.28 | J327: 76.81 | K327: 0.1 | L327: 3.06 | M327: 3.4 | N327: 3.29 | O327: 2015 | P327: =H327-G327 -> 1 | Q327: =VLOOKUP(A327,Sheet2!$A$1:$B$23,2,FALSE) -> 47
A328: 9 | B328: SR | C328: 364 | D328: 1 | F328: P | G328: 2 | H328: 3 | I328: 81.71 | J328: 65.66 | K328: 0.09 | L328: 3.19 | M328: 2.79 | N328: 2.9 | O328: 2015 | P328: =H328-G328 -> 1 | Q328: =VLOOKUP(A328,Sheet2!$A$1:$B$23,2,FALSE) -> 47
A329: 9 | B329: SR | C329: 364 | D329: 1 | F329: P | G329: 3 | H329: 3.28 | I329: 89.28 | J329: 70.57 | K329: 0.1 | L329: 3.06 | M329: 2.64 | N329: 2.76 | O329: 2015 | P329: =H329-G329 -> 0.28 | Q329: =VLOOKUP(A329,Sheet2!$A$1:$B$23,2,FALSE) -> 47
A330: 9 | B330: SR | C330: 423 | D330: 1 | F330: P | G330: 0 | H330: 1 | I330: 167.51 | J330: 149.05 | K330: 0.09 | L330: 1.99 | M330: 2.37 | N330: 2.25 | O330: 2015 | P330: =H330-G330 -> 1 | Q330: =VLOOKUP(A330,Sheet2!$A$1:$B$23,2,FALSE) -> 47
A331: 9 | B331: SR | C331: 423 | D331: 1 | F331: P | G331: 1 | H331: 2 | I331: 163 | J331: 155.17 | K331: 0.09 | L331: 2.04 | M331: 3.13 | N331: 2.75 | O331: 2015 | P331: =H331-G331 -> 1 | Q331: =VLOOKUP(A331,Sheet2!$A$1:$B$23,2,FALSE) -> 47
A332: 9 | B332: SR | C332: 423 | D332: 1 | F332: P | G332: 2 | H332: 3 | I332: 132.69 | J332: 115.96 | K332: 0.07 | L332: 2.41 | M332: 3.38 | N332: 3.05 | O332: 2015 | P332: =H332-G332 -> 1 | Q332: =VLOOKUP(A332,Sheet2!$A$1:$B$23,2,FALSE) -> 47
A333: 9 | B333: SR | C333: 423 | D333: 1 | F333: P | G333: 3 | H333: 4 | I333: 126.76 | J333: 113.61 | K333: 0.06 | L333: 2.49 | M333: 3.23 | N333: 2.99 | O333: 2015 | P333: =H333-G333 -> 1 | Q333: =VLOOKUP(A333,Sheet2!$A$1:$B$23,2,FALSE) -> 47
A334: 9 | B334: SR | C334: 423 | D334: 1 | F334: P | G334: 4 | H334: 5 | I334: 118.2 | J334: 102.88 | K334: 0.07 | L334: 2.61 | M334: 3.25 | N334: 3.04 | O334: 2015 | P334: =H334-G334 -> 1 | Q334: =VLOOKUP(A334,Sheet2!$A$1:$B$23,2,FALSE) -> 47
A335: 9 | B335: SR | C335: 423 | D335: 1 | F335: P | G335: 5 | H335: 6 | I335: 90.47 | J335: 78.79 | K335: 0.06 | L335: 3.04 | M335: 3.43 | N335: 3.31 | O335: 2015 | P335: =H335-G335 -> 1 | Q335: =VLOOKUP(A335,Sheet2!$A$1:$B$23,2,FALSE) -> 47
A336: 9 | B336: SR | C336: 423 | D336: 1 | F336: P | G336: 6 | H336: 7 | I336: 94.7 | J336: 81.67 | K336: 0.05 | L336: 2.97 | M336: 3.28 | N336: 3.18 | O336: 2015 | P336: =H336-G336 -> 1 | Q336: =VLOOKUP(A336,Sheet2!$A$1:$B$23,2,FALSE) -> 47
A337: 9 | B337: SR | C337: 423 | D337: 1 | F337: P | G337: 7 | H337: 8 | I337: 102.2 | J337: 92.81 | K337: 0.05 | L337: 2.85 | M337: 3.98 | N337: 3.6 | O337: 2015 | P337: =H337-G337 -> 1 | Q337: =VLOOKUP(A337,Sheet2!$A$1:$B$23,2,FALSE) -> 47
...

Sheet Sheet2
A1: 3 | B1: 47
A2: 9 | B2: 47
A3: 23 | B3: 47
A4: 27 | B4: 47
A5: 40 | B5: 47
A6: 48 | B6: 47
A7: 66 | B7: 47
A8: 92 | B8: 47
A10: 12 | B10: 48
A11: 17 | B11: 48
A12: 20 | B12: 48
A13: 35 | B13: 48
... A23: 84 | B23: 49
