Workbook

Sheet GUIDE
U15: ID: | V15: CSV
U16: City: | V16: =VLOOKUP(V15,DATA!$A$2:$E$80,3) -> Crossville
U17: Airport: | V17: =VLOOKUP(V15,DATA!$A$2:$E$80,4) -> Crossville Memorial-Whitson Field
U18: Project Description: | V18: Runway 26 PAPI Replacement
U19: TAD #: | V19: 18-555-0154-22
U20: Bid Date: | V20: 44637
U21: County: | V21: =VLOOKUP(V15,DATA!$A$2:$E$80,2) -> Cumberland
U22: Grand Division: | V22: =VLOOKUP(V15,DATA!$A$2:$E$80,5) -> East
U24: BASE BID (Runway 26 PAPI Replacement) | Z24: ENGINEER'S ESTIMATE | AB24: STANSELL ELECTRIC COMPANY, INC. | AD24: SOUTHEAST SITE SERVICES, LLC
U25: ITEM NO. | V25: SPEC NO. | W25: DESCRIPTION | X25: UNIT | Y25: ESTIMATED QUANTITY | Z25: UNIT COST | AA25: EXTENDED TOTAL | AB25: UNIT COST2 | AC25: EXTENDED TOTAL2 | AD25: UNIT COST3 | AE25: EXTENDED TOTAL3
U26: 1 | V26: C-105-6.1 | W26: Mobilization | X26: LS | Y26: 1 | Z26: 15000 | AA26: 15000 | AB26: 13200 | AC26: 13200 | AD26: 11000 | AE26: 11000
U27: 2 | V27: L-100-5.1 | W27: Electrical Demolition | X27: LS | Y27: 1 | Z27: 5000 | AA27: 5000 | AB27: 7690 | AC27: 7690 | AD27: 8000 | AE27: 8000
U28: 3 | V28: L-125-5.1 | W28: L-880(L) LED, Style A, Class I, Precision Apporach Path Indicator (4-Box) with Connections | X28: LS | Y28: 1 | Z28: 115000 | AA28: 115000 | AB28: 68715 | AC28: 68715 | AD28: 108025 | AE28: 108025
Y29: TOTALS | AA29: 135000 | AC29: 89605 | AE29: 127025

Sheet DATA
A1: ID | B1: County | C1: City | D1: Airport | E1: G. Div.
A2: 0A3 | B2: Dekalb | C2: Smithville | D2: Smithville Municipal | E2: Middle
A3: 0A4 | B3: Washington | C3: Johnson City | D3: Johnson City | E3: East
A4: 0A9 | B4: Carter | C4: Elizabethton | D4: Elizabethton Municipal | E4: East
A5: 0M2 | B5: Lake | C5: Tiptonville | D5: Reelfoot Lake | E5: West
A6: 0M3 | B6: Lewis | C6: Hohenwald | D6: John A. Baker Field | E6: Middle
A7: 0M4 | B7: Benton | C7: Camden | D7: Benton County | E7: West
A8: 0M5 | B8: Humphreys | C8: Waverly | D8: Humphreys County | E8: Middle
A9: 1A0 | B9: Hamilton | C9: Chattanooga | D9: Dallas Bay Skypark | E9: East
A10: 1A3 | B10: Polk | C10: Copperhill | D10: Martin Campbell Field | E10: East
A11: 1A7 | B11: Jackson | C11: Gainesboro | D11: Jackson County | E11: Middle
A12: 1M5 | B12: Sumner | C12: Portland | D12: Portland Municipal | E12: Middle
... A80: XNX | B80: Sumner | C80: Gallatin | D80: Music City Executive | E80: Middle

Sheet INDEX
A1: ID and Link to Sheet | B1: City | C1: Airport | D1: Project Description | E1: TAD # | F1: Awarded Contractor
A2: 0M5 | B2: Waverly | C2: Humphreys County | D2: Storage Hangar Rehabilitation | E2: ??? | F2: ???
A3: 2M8 | B3: Millington | C3: Charles W. Baker | D3: Runway Pavement Improvements | E3: 79-555-0726-24 | F3: ???
A4: CKV | B4: Clarksville | C4: Outlaw Field | D4: Rehabilitation of Runway 35 South | E4: 63-555-0767-24 | F4: ???
A5: GZS | B5: Pulaski | C5: Abernathy Field | D5: Approach Fencing Project | E5: 28-555-0147-24 | F5: ???
A6: MNV | B6: Madisonville | C6: Monroe County | D6: Corporate Hangar Site Preparation | E6: ??? | F6: ???
A7: PVE | B7: Lexington-Parsons | C7: Beech River Regional | D7: Airfield Electrical Replacement | E7: 39-555-0156-24 | F7: ???
A8: SNH | B8: Savannah | C8: Savannah-Hardin County | D8: Obstruction Removal | E8: 36-555-0179-24 | F8: ???
A9: XNX | B9: Gallatin | C9: Music City Executive | D9: Perimeter Fencing Phase III | E9: 83-555-0743-24 | F9: ???

Sheet 0M5
A3: ID: | B3: 0M5
A4: City: | B4: =VLOOKUP(B3,DATA!A2:E80,3) -> Waverly
A5: Airport: | B5: =VLOOKUP(B3,DATA!A2:E80,4) -> Humphreys County
A6: Project Description: | B6: Storage Hangar Rehabilitation
A7: TAD #:
A8: Bid Date: | B8: 45314
A9: County: | B9: =VLOOKUP(B3,DATA!A2:E80,2) -> Humphreys
A10: Grand Division: | B10: =VLOOKUP(B3,DATA!A2:E80,5) -> Middle
A12: BASE BID: | F12: ENGINEER'S ESTIMATE | H12: DESIGN SYSTEMS BUILDERS, LLC.
A13: ITEM NO. | B13: SPEC. NO. | C13: DESCRIPTION | D13: UNIT | E13: ESTIMATED QUANTITY | F13: UNIT COST | G13: EXTENDED TOTAL | H13: UNIT COST2 | I13: EXTENDED TOTAL2
A14: BB-1 | C14: REMOVE AND REPLACE EXISTING METAL ROOF PANELS; INSTALL NEW EXPOSED FASTENER ROOF PANELS, THERMAL BLOCKS, AND INSULATION; REPLACE GUTTERS, DOWNSPOUTS, TRIM, COPINGS, AND ENCLOSURES (HANGAR BAY AREA) | D14: S.F. | E14: 10000 | F14: 15 | G14: 150000 | H14: 42.77 | I14: 427692
A15: BB-2 | C15: REMOVE AND REPLACE EXISTING METAL WALL PANELS; INSTALL NEW EXPOSED FASTENER WALL PANELS, THERMAL BLOCKS, TERMINATION ENCLOSURES, AND TRIM | D15: L.S. | E15: 1 | F15: 65700 | G15: 65700 | H15: 260678 | I15: 260678
A16: BB-3 | C16: INSTALL REQUIRED STRUCTURAL PURLINS/GIRTS ALONG THE EXTERIOR WALLS AS NEEDED FOR THE NEW EXTERIOR SHEETING | D16: L.S. | E16: 1 | F16: 42500 | G16: 42500 | H16: 83538 | I16: 83538
A17: BB-4 | C17: REMOVE ALL EXISTING SPRAY-APPLIED INSULATION AT HANGAR WALLS AND CEILINGS, INCLUDING EXISTING STRUCTURAL COMPONENTS TO REMAIN. COORDINATE EXTENT OF REMOVAL FROM ROOF PURLINS WITH THE NEW ROOF INSTALLATION TO BE INSTALLED UNDER THE BASE BID | D17: L.S. | E17: 1 | F17: 20250 | G17: 20250 | H17: 0 | I17: 0
A18: BB-5 | C18: PAINTING OF THE STRUCTURE/INTERIOR WALLS TO REMAIN, AFTER REMOVAL OF THE EXISTING METAL SKIN AND ROOF PANELS | D18: L.S. | E18: 1 | F18: 25000 | G18: 25000 | H18: 0 | I18: 0
A19: BB-6 | C19: REMOVE EXTERIOR WINDOWNS AND DOORS. REPLACE DOORS WITH NEW EXTERIOR HM DOOR AND FRAME, WITH WINDOW | D19: L.S. | E19: 1 | F19: 20000 | G19: 20000 | H19: 25061 | I19: 25061
A20: BB-7 | C20: REMOVE EXISTING HANGAR LIGHT FIXTURES, EXTERIOR WALL PACK, AND LIGHT FIXTURES MOUNTED ALONG THE INTERIOR WALLS. | D20: L.S. | E20: 1 | F20: 45000 | G20: 45000 | H20: 0 | I20: 0
A21: BB-8 * | C21: REMOVE EXTERIOR SHEETING, BOTTOM WHEELS, TOP ROLLERS, BEARINGS, AND ALL PARTS USED TO OPERATE DOOR, AND REPLACE METAIL SHEETING, BOTTOM WHEELS, TOP ROLLERS, BEARINGS, CLEAN TRACKS, AND RETURN DOORS TO OPERATIONAL CONDITION | D21: L.S. | E21: 1 | F21: 125000 | G21: 125000 | H21: 33415 | I21: 33415
A22: BB-9 | C22: REPLACE EXISTING LIGHT FIXTURES WITH LED LIGHT FIXTURES. USE EXISTING WIRE AND CONDUIT | D22: L.S. | E22: 1 | F22: 66000 | G22: 66000 | H22: 0 | I22: 0
A23: BB-10 | C23: SELECTIVE DEMOLITION AT ALL INTERIOR CMU AND WOOD PARTITIONS AND EXTERIOR WOOD-FRAMED WALLS | D23: L.S. | E23: 1 | F23: 15000 | G23: 15000 | H23: 0 | I23: 0
A24: BB-11 | C24: TEMPORARY PROTECTION OF THE EXISTING ELECTIRCAL REGULATORS/CIRCUITS FOR THE AIRFIELD CIRCUITING, INCL. DEMOLTION OF TEMPORARY PROTECTION ONCE HANGAR ROUGH IN IS COMPLETE | D24: L.S. | E24: 1 | F24: 22300 | G24: 22300 | H24: 5000 | I24: 5000
D25: SUB-TOTAL BASE BID ITEMS | G25: =SUM(Table001__Page_2_3161327[EXTENDED TOTAL]) -> 596750 | I25: =SUM(Table001__Page_2_3161327[EXTENDED TOTAL2]) -> 835384
D26: CONTINGENCY (20%): | G26: =G25*0.2 -> 119350 | I26: =K21 -> 0
D27: TOTAL: | G27: =SUM(G25:G26) -> 716100 | I27: =SUM(I25:I26) -> 835384
A29: ADD ALTERNATE #1: | F29: ENGINEER'S ESTIMATE | H29: DESIGN SYSTEMS BUILDERS, LLC.
A30: ITEM NO. | B30: SPEC. NO. | C30: DESCRIPTION | D30: UNIT | E30: ESTIMATED QUANTITY | F30: UNIT COST | G30: EXTENDED TOTAL | H30: UNIT COST2 | I30: EXTENDED TOTAL2
A31: BB-8A | C31: (* THIS ITEM TO REPLACE ITEM BB-8 ABOVE, IF SELECTED) REMOVE EXISTING DOORS AND REPLACE WITH HORTON STACKED DOOR SYSTEM. WILL REQUIRE STRUCTURAL ENGINEERING EVALUATION TO MODIFY STRUCTURE TO BE IN COMPLIANCE WITH HORTON STACKED DOOR SYTEM | D31: L.S. | E31: 1 | F31: 200000 | G31: 200000 | H31: 0 | I31: 0
D32: SUB-TOTAL ADD ALTERNATE NO. 1: | G32: =SUM(Table001__Page_2_316222129[EXTENDED TOTAL]) -> 200000 | I32: =SUM(Table001__Page_2_316222129[EXTENDED TOTAL2]) -> 0
D33: BASE BID PLUS ADD ALTERNATE NO. 1: | G33: {=G25+Table001__Page_2_316222129[EXTENDED TOTAL]} -> 796750 | I33: =I25+I32 -> 835384
D34: CONTINGENCY (20%): | G34: =20%*G33 -> 159350 | I34: 0
D35: TOTAL | G35: =G33+G34 -> 956100 | I35: =I33+I34 -> 835384
D36: Difference from Engineer's Estimate ($): | G36: N/A | I36: =I33-G33 -> 38634
D37: Difference from Engineer's Estimate (%): | G37: N/A | I37: =I36/$G$33 -> 0.048489489

Sheet 2M8
A3: ID: | B3: 2M8
A4: City: | B4: =VLOOKUP(B3,DATA!A2:E80,3) -> Millington
A5: Airport: | B5: =VLOOKUP(B3,DATA!A2:E80,4) -> Charles W. Baker
A6: Project Description: | B6: Runway Pavement Improvements
A7: TAD #: | B7: 79-555-0726-24
A8: Bid Date: | B8: 45365
A9: County: | B9: =VLOOKUP(B3,DATA!A2:E80,2) -> Shelby
A10: Grand Division: | B10: =VLOOKUP(B3,DATA!A2:E80,5) -> West
A12: BASE BID: | F12: Engineer's Estimate | H12: VUCON, LLC
A13: ITEM NO. | B13: SPEC. NO. | C13: DESCRIPTION | D13: UNIT | E13: ESTIMATED QUANTITY | F13: UNIT COST | G13: EXTENDED TOTAL | H13: UNIT COST2 | I13: EXTENDED TOTAL2
A14: 1 | B14: SS-120-3.1 | C14: CONSTRUCTION SAFETY AND SECURITY | D14: LS | E14: 1 | F14: 50000 | G14: 50000 | H14: 88367.95 | I14: 88367.95
A15: 2 | B15: SS-300-5.1 | C15: LOCKOUT/TAGOUT AND CONSTANT CURRENT REGULATOR CALIBRATION PROCEDURES | D15: LS | E15: 1 | F15: 5000 | G15: 5000 | H15: 1097.12 | I15: 1097.12
A16: 3 | B16: SS-301-5.1 | C16: EXISTING BASE MOUNTED RUNWAY EDGE OR THRESHOLD LIGHT, REMOVED AND STORED, BASE DEMOLISHED | D16: EA | E16: 9 | F16: 750 | G16: 6750 | H16: 109.71 | I16: 987.39
A17: 4 | B17: SS-301-5.2 | C17: EXISTING BASE MOUNTED TAXIWAY EDGE LIGHT, REMOVED AND STORED, BASE DEMOLISHED | D17: EA | E17: 6 | F17: 750 | G17: 4500 | H17: 109.71 | I17: 658.26
A18: 5 | B18: SS-301-5.4 | C18: EXISTING BASE MOUNTED GUIDANCE SIGN, REMOVED, FOUNDATION DEMOLISHED | D18: EA | E18: 2 | F18: 1000 | G18: 2000 | H18: 329.14 | I18: 658.28
A19: 6 | B19: SS-301-5.5 | C19: EXISTING CONCRETE ENCASED, ELECTRICAL JUNCTION STRUCTURE, REMOVED | D19: EA | E19: 1 | F19: 1000 | G19: 1000 | H19: 109.72 | I19: 109.72
A20: 7 | B20: SS-403-8.1 | C20: ASPHALT SURFACE COURSE | D20: TON | E20: 3600 | F20: 280 | G20: 1008000 | H20: 219.43 | I20: 789948
A21: 8 | B21: SS-403-8.2 | C21: ASPHALT LEVELING COURSE | D21: TON | E21: 1500 | F21: 290 | G21: 435000 | H21: 224.91 | I21: 337365
A22: 9 | B22: C-100-14.1 | C22: CONTRACTOR QUALITY CONTROL PROGRAM (CQCP) | D22: LS | E22: 1 | F22: 100000 | G22: 100000 | H22: 34559.49 | I22: 34559.49
A23: 10 | B23: C-102-5.1 | C23: TEMPORARY EROSION CONTROL | D23: LS | E23: 1 | F23: 35000 | G23: 35000 | H23: 45026.08 | I23: 45026.08
A24: 11 | B24: P-101-5.2a | C24: CRACK REPAIR (LOW) | D24: LF | E24: 12000 | F24: 3 | G24: 36000 | H24: 3.35 | I24: 40200
A25: 12 | B25: P-101-5.2b | C25: CRACK REPAIR (MODERATE) | D25: LF | E25: 5500 | F25: 6 | G25: 33000 | H25: 4.44 | I25: 24420
... A48: 35 | B48: L-125-5.4 | C48: EXISTING STORED TAXIWAY EDGE LIGHT, INSTALLED ON NEW BASE | D48: EA | E48: 6 | F48: 1800 | G48: 10800 | H48: 1426.27 | I48: 8557.62
A49: 36 | B49: 1100.01 | C49: MOBILIZATION (FIXED COST) | D49: LS | E49: 1 | F49: 124000 | G49: 124000 | H49: 124000 | I49: 124000
A50: 37 | B50: 1100.02 | C50: DEMOBILIZATION (FIXED COST) | D50: LS | E50: 1 | F50: 74000 | G50: 74000 | H50: 74000 | I50: 74000
C51: TOTAL: | G51: =SUM(G14:G50) -> 2660362.5 | I51: =SUM(I14:I50) -> 2254191.8
A53: ADDITIVE ALTERNATE NO. 1 - TAXIWAY A2 RELOCATION: | F53: Engineer's Estimate | H53: VUCON, LLC
A54: ITEM NO. | B54: SPEC. NO. | C54: DESCRIPTION | D54: UNIT | E54: ESTIMATED QUANTITY | F54: UNIT COST | G54: EXTENDED TOTAL | H54: UNIT COST2 | I54: EXTENDED TOTAL2
A55: 1 | B55: SS-301-5.1 | C55: EXISTING BASE MOUNTED RUNWAY EDGE OR THRESHOLD LIGHT, REMOVED AND STORED, BASE DEMOLISHED | D55: EA | E55: 1 | F55: 750 | G55: 750 | H55: 109.72 | I55: 109.72
A56: 2 | B56: SS-301-5.2 | C56: EXISTING BASE MOUNTED TAXIWAY EDGE LIGHT, REMOVED AND STORED, BASE DEMOLISHED | D56: EA | E56: 17 | F56: 750 | G56: 12750 | H56: 329.14 | I56: 5595.38
A57: 3 | B57: SS-301-5.3 | C57: EXISTING BASE MOUNTED GUIDANCE SIGN, REMOVED AND STORED, FOUNDATION DEMOLISHED | D57: EA | E57: 1 | F57: 1200 | G57: 1200 | H57: 329.14 | I57: 329.14
A58: 4 | B58: SS-301-5.4 | C58: EXISTING BASE MOUNTED GUIDANCE SIGN, REMOVED, FOUNDATION DEMOLISHED | D58: EA | E58: 2 | F58: 1000 | G58: 2000 | H58: 109.71 | I58: 219.42
A59: 5 | B59: SS-301-5.5 | C59: EXISTING CONCRETE ENCASED, ELECTRICAL JUNCTION STRUCTURE, REMOVED | D59: EA | E59: 3 | F59: 1000 | G59: 3000 | H59: 1097.13 | I59: 3291.39
A60: 6 | B60: SS-310-5.1 | C60: TEMPORARY AIRFIELD LIGHTING, PHASE 2 | D60: LS | E60: 1 | F60: 5000 | G60: 5000 | H60: 1097.12 | I60: 1097.12
A61: 7 | B61: SS-403-5.1 | C61: 12.5-MM MIXTURE, MT, ASPHALT PAVEMENT | D61: TON | E61: 400 | F61: 280 | G61: 112000 | H61: 263.31 | I61: 105324
A62: 8 | B62: P-101-5.1 | C62: FULL DEPTH PAVEMENT REMOVAL | D62: SY | E62: 900 | F62: 30 | G62: 27000 | H62: 16.46 | I62: 14814
A63: 9 | B63: P-101-5.4 | C63: SURFACE PREPARATION / MARKING REMOVAL | D63: SY | E63: 50 | F63: 4.5 | G63: 225 | H63: 8.78 | I63: 439
A64: 10 | B64: P-101-5.5 | C64: TRANSITIONAL VARIABLE-DEPTH MILLING | D64: SY | E64: 250 | F64: 8 | G64: 2000 | H64: 21.94 | I64: 5485
A65: 11 | B65: P-152-4.1 | C65: UNCLASSIFIED EXCAVATION | D65: CY | E65: 1000 | F65: 35 | G65: 35000 | H65: 11.03 | I65: 11030
A66: 12 | B66: P-152-4.2 | C66: BORROW EXCAVATION | D66: CY | E66: 600 | F66: 40 | G66: 24000 | H66: 34.88 | I66: 20928
... A89: 35 | B89: L-125-5.6 | C89: EXISTING STORED GUIDANCE SIGN, INSTALLED ON NEW FOUNDATION WITH PANEL REPLACEMENT | D89: EA | E89: 1 | F89: 5500 | G89: 5500 | H89: 8777.01 | I89: 8777.01
C90: TOTAL: | G90: =SUM(G55:G89) -> 595325 | I90: =SUM(I55:I89) -> 536546.51

Sheet CKV
A3: ID: | B3: CKV
A4: City: | B4: =VLOOKUP(B3,DATA!A2:E80,3) -> Clarksville
A5: Airport: | B5: =VLOOKUP(B3,DATA!A2:E80,4) -> Outlaw Field
A6: Project Description: | B6: Rehabilitation of Runway 35 South
A7: TAD #: | B7: 63-555-0767-24
A8: Bid Date: | B8: 45348
A9: County: | B9: =VLOOKUP(B3,DATA!A2:E80,2) -> Montgomery
A10: Grand Division: | B10: =VLOOKUP(B3,DATA!A2:E80,5) -> Middle
A12: BASE BID: | F12: ENGINEER'S OPINION | H12: CLEARY CONSTRUCTION | J12: JONES BROS. CONTRACTORS
A13: ITEM NO. | B13: SPEC. NO. | C13: DESCRIPTION | D13: UNIT | E13: ESTIMATED QUANTITY | F13: UNIT COST | G13: EXTENDED TOTAL | H13: UNIT COST2 | I13: EXTENDED TOTAL2 | J13: UNIT COST3 | K13: EXTENDED TOTAL3
A14: 1 | B14: C-105-1 | C14: MOBILIZATION / DEMOBILIZATION | D14: LS | E14: 1 | F14: 350000 | G14: 350000 | H14: 392000 | I14: 392000 | J14: 410000 | K14: 410000
A15: 2 | B15: C-105-2 | C15: CONSTRUCTION EXIT AND HAUL ROUTE | D15: LS | E15: 1 | F15: 25000 | G15: 25000 | H15: 40000 | I15: 40000 | J15: 50000 | K15: 50000
A16: 3 | B16: C-105-3 | C16: SAFETY DEVICES | D16: LS | E16: 1 | F16: 10000 | G16: 10000 | H16: 13500 | I16: 13500 | J16: 30000 | K16: 30000
A17: 4 | B17: C-105-4 | C17: PAPI FLIGHT CHECK COORDINATION (CONTRACTOR) | D17: LS | E17: 1 | F17: 15000 | G17: 15000 | H17: 5000 | I17: 5000 | J17: 1500 | K17: 1500
A18: 5 | B18: C-100-1 | C18: CONTRACTOR QUALITY CONTROL PROGRAM (CQCP) | D18: LS | E18: 1 | F18: 45000 | G18: 45000 | H18: 5000 | I18: 5000 | J18: 45000 | K18: 45000
A19: 6 | B19: C-100-2 | C19: CONSTRUCTION STAKING | D19: LS | E19: 1 | F19: 100000 | G19: 100000 | H19: 270000 | I19: 270000 | J19: 100000 | K19: 100000
A20: 7 | B20: C-100-3 | C20: QUALITY CONTROL TESTING | D20: LS | E20: 1 | F20: 100000 | G20: 100000 | H20: 150000 | I20: 150000 | J20: 65000 | K20: 65000
A21: 8 | B21: C-102-1 | C21: EROSION CONTROL - SILT FENCE | D21: LF | E21: 4000 | F21: 3 | G21: 12000 | H21: 2.85 | I21: 11400 | J21: 3.25 | K21: 13000
A22: 9 | B22: C-102-2 | C22: EROSION CONTROL - STRAW WATTLE | D22: LF | E22: 400 | F22: 3 | G22: 1200 | H22: 5 | I22: 2000 | J22: 3.6 | K22: 1440
A23: 10 | B23: P-101-1 | C23: ASPHALT MILLING | D23: SY | E23: 9250 | F23: 6 | G23: 55500 | H23: 8 | I23: 74000 | J23: 7.95 | K23: 73537.5
A24: 11 | B24: P-152-1 | C24: UNCLASSIFIED EXCAVATION | D24: CY | E24: 36000 | F24: 15 | G24: 540000 | H24: 15 | I24: 540000 | J24: 15.5 | K24: 558000
A25: 12 | B25: P-152-2 | C25: UNDERCUT | D25: CY | E25: 800 | F25: 35 | G25: 28000 | H25: 19 | I25: 15200 | J25: 28 | K25: 22400
... A47: 34 | B47: T-905-1 | C47: TOPSOILING | D47: CY | E47: 5600 | F47: 15 | G47: 84000 | H47: 17.3 | I47: 96880 | J47: 14 | K47: 78400
A48: 35 | B48: 0 | C48: BID ITEM NO. 35 REMOVED FROM BID | D48: 0 | E48: 0 | F48: 0 | G48: 0 | H48: 0 | I48: 0 | J48: 0 | K48: 0
A49: 36 | B49: L-108-5.1 | C49: 1/C, #8 AWG, 5 Kv, L-824C Cable | D49: LF | E49: 5579 | F49: 1.51 | G49: 8424.29 | H49: 2.2 | I49: 12273.8 | J49: 1.75 | K49: 9763.25
A50: 37 | B50: L-108-5.2 | C50: #6 AWG BSDC (counterpoise) | D50: LF | E50: 5175 | F50: 1.5 | G50: 7762.5 | H50: 2 | I50: 10350 | J50: 1.6 | K50: 8280
A51: 38 | B51: L-108-5.3 | C51: 5/8" x 10' Counterpoise Ground Rod and Connection | D51: EA | E51: 17 | F51: 100 | G51: 1700 | H51: 190 | I51: 3230 | J51: 150 | K51: 2550
A52: 39 | B52: L-109-5.1 | C52: POWER SUPPLY WORK FOR VAULT BUILDING, COMPLETE IN PLACE | D52: LS | E52: 1 | F52: 2100 | G52: 2100 | H52: 4425 | I52: 4425 | J52: 3500 | K52: 3500
A53: 39A | B53: L-110-5.1 | C53: Trenching and Backfill for underground conduit | D53: LF | E53: 4826 | F53: 1.58 | G53: 7625.08 | H53: 4.45 | I53: 21475.7 | J53: 3.5 | K53: 16891
A54: 40 | B54: L-110-5.2 | C54: 2" Schedule 40 PVC | D54: LF | E54: 5975 | F54: 5.75 | G54: 34356.25 | H54: 7 | I54: 41825 | J54: 5.56 | K54: 33221
A55: 41 | B55: L-125-5.1 | C55: Base-Mounted L-861(L) Runway Light | D55: EA | E55: 1 | F55: 941 | G55: 941 | H55: 1700 | I55: 1700 | J55: 1330 | K55: 1330
A56: 42 | B56: L-125-5.2 | C56: Reinstall Existing Base-Mounted L-861(L) Runway Light | D56: EA | E56: 18 | F56: 400 | G56: 7200 | H56: 1015 | I56: 18270 | J56: 800 | K56: 14400
A57: 43 | B57: L-125-5.3 | C57: Reinstall Existing Base-Mounted L-861T(L) Taxiway Light | D57: EA | E57: 9 | F57: 400 | G57: 3600 | H57: 1015 | I57: 9135 | J57: 800 | K57: 7200
A58: 44 | B58: L-125-5.4 | C58: Replace Legend Panel for Existing L-868(L), 2-Module, Size 2, Single-Face Guidance Sign | D58: EA | E58: 2 | F58: 1121 | G58: 2242 | H58: 980 | I58: 1960 | J58: 775 | K58: 1550
A59: 45 | B59: L-125-6 | C59: Reinstall Existing L-881(L) Precision Approach Path Indicator System, Style A, 240-Volt Input, complete in place | D59: LS | E59: 1 | F59: 8000 | G59: 8000 | H59: 9900 | I59: 9900 | J59: 7810 | K59: 7810
A60: 46 | B60: L-125-5.8 | C60: Demolition | D60: LS | E60: 1 | F60: 7000 | G60: 7000 | H60: 17400 | I60: 17400 | J60: 13700 | K60: 13700
D61: BASE BID - TOTAL | F61: =SUM(Table001__Page_2_31613272[EXTENDED TOTAL]) -> 3847351.1 | H61: =SUM(Table001__Page_2_31613272[EXTENDED TOTAL2]) -> 3926319.5 | J61: =SUM(Table001__Page_2_31613272[EXTENDED TOTAL3]) -> 4194447.8
A63: ADD ALT #1: | F63: ENGINEER'S OPINION | H63: CLEARY CONSTRUCTION | J63: JONES BROS. CONTRACTORS
A64: ITEM NO. | B64: SPEC. NO. | C64: DESCRIPTION | D64: UNIT | E64: ESTIMATED QUANTITY | F64: UNIT COST | G64: EXTENDED TOTAL | H64: UNIT COST2 | I64: EXTENDED TOTAL2 | J64: UNIT COST3 | K64: EXTENDED TOTAL3
A65: 23 | B65: P-620-1 | C65: PAVEMENT MARKINGS - WHITE (FIRST COAT) | D65: SF | E65: 16000 | F65: 1.25 | G65: 20000 | H65: 0.77 | I65: 12320 | J65: 0.6 | K65: 9600
A66: 24 | B66: P-620-2 | C66: PAVEMENT MARKINGS - WHITE (SECOND COAT) | D66: SF | E66: 16000 | F66: 1.75 | G66: 28000 | H66: 0.77 | I66: 12320 | J66: 0.6 | K66: 9600
A67: 25 | B67: P-620-3 | C67: PAVEMENT MARKINGS - YELLOW (FIRST COAT) | D67: SF | E67: 6500 | F67: 1.25 | G67: 8125 | H67: 0.77 | I67: 5005 | J67: 3 | K67: 19500
A68: 26 | B68: P-620-4 | C68: PAVEMENT MARKINGS - YELLOW (SECOND COAT) | D68: SF | E68: 6500 | F68: 1.75 | G68: 11375 | H68: 0.77 | I68: 5005 | J68: 3 | K68: 19500
D69: ADD ALT #1 - TOTAL | F69: =SUM(Table001__Page_2_3162221293[EXTENDED TOTAL]) -> 67500 | H69: =SUM(Table001__Page_2_3162221293[EXTENDED TOTAL2]) -> 34650 | I69: 34650 | J69: =SUM(Table001__Page_2_3162221293[EXTENDED TOTAL3]) -> 58200 | K69: 58200
D71: TOTAL CONSTRUCTION COST | F71: =SUM(F61,F69) -> 3914851.1 | G71: 3914851.1 | H71: =SUM(H61,H69) -> 3960969.5 | I71: 3960969.5 | J71: =SUM(J61,J69) -> 4252647.8 | K71: 4252647.8
F72: (BASE BID + ADD ALT #1)

Sheet GZS
A3: ID: | B3: GZS
A4: City: | B4: =VLOOKUP(B3,DATA!A2:E80,3) -> Pulaski
A5: Airport: | B5: =VLOOKUP(B3,DATA!A2:E80,4) -> Abernathy Field
A6: Project Description: | B6: Approach Fencing Project
A7: TAD #: | B7: 28-555-0147-24
A8: Bid Date: | B8: 45335
A9: County: | B9: =VLOOKUP(B3,DATA!A2:E80,2) -> Giles
A10: Grand Division: | B10: =VLOOKUP(B3,DATA!A2:E80,5) -> Middle
A12: BASE BID: | F12: Richland Industries, LLC | H12: McCall Commercial Fencing, Inc.
A13: ITEM NO. | B13: SPEC. NO. | C13: DESCRIPTION | D13: UNIT | E13: ESTIMATED QUANTITY | F13: UNIT COST | G13: EXTENDED TOTAL | H13: UNIT COST2 | I13: EXTENDED TOTAL2
A14: 1 | B14: C-105-1 | C14: MOBILIZATION / DEMOBILIZATION | D14: LS | E14: 1 | F14: 15000 | G14: 15000 | H14: 5800 | I14: 5800
A15: 2 | B15: F-161-1 | C15: BARBED WIRE FENCE, 5-STRAND | D15: LF | E15: 12815 | F15: 12.33 | G15: 158008.95 | H15: 21 | I15: 269115
A16: 3 | B16: F-161-2 | C16: STOCK FENCE GATE (16-FT-2EA,8-FT PANLES) | D16: EA | E16: 1 | F16: 19899.33 | G16: 19899.33 | H16: 1250 | I16: 1250
A17: 4 | B17: T-901, T-908-1 | C17: SEEDING AND MULCHING | D17: AC | E17: 3 | F17: 4698.45 | G17: 14095.35 | H17: 1800 | I17: 5400
D18: PROJECT TOTAL: | F18: =SUM(Table001__Page_2_31613276[EXTENDED TOTAL]) -> 207003.63 | H18: =SUM(Table001__Page_2_31613276[EXTENDED TOTAL2]) -> 281565

Sheet MNV
A3: ID: | B3: MNV
A4: City: | B4: =VLOOKUP(B3,DATA!A2:E80,3) -> Madisonville
A5: Airport: | B5: =VLOOKUP(B3,DATA!A2:E80,4) -> Monroe County
A6: Project Description: | B6: Corporate Hangar Site Preparation
A7: TAD #:
A8: Bid Date: | B8: 45427
A9: County: | B9: =VLOOKUP(B3,DATA!A2:E80,2) -> Monroe
A10: Grand Division: | B10: =VLOOKUP(B3,DATA!A2:E80,5) -> East
A12: BASE BID: | F12: ENGINEER'S ESTIMATE | H12: WILSON CONSTRUCTION GROUP, LLC
A13: ITEM NO. | B13: SPEC. NO. | C13: DESCRIPTION | D13: UNIT | E13: ESTIMATED QUANTITY | F13: UNIT COST | G13: EXTENDED TOTAL | H13: UNIT COST2 | I13: EXTENDED TOTAL2
B14: T-901-4.1 | C14: SEEDING (PER 1,000 SQ. FT.) | D14: UNIT | E14: 4 | F14: 100 | G14: 400 | H14: 1140 | I14: 4560
B15: C-102-5.1e | C15: INSTALLATION AND REMOVAL OF SILT FENCE (W/O BACKING) | D15: L.F. | E15: 300 | F15: 1.65 | G15: 495 | H15: 6.6 | I15: 1980
B16: C-105 | C16: MOBILIZATION | D16: L.S. | E16: 1 | F16: 20000 | G16: 20000 | H16: 34400 | I16: 34400
B17: P-152-4.1 | C17: EXCAVATION (UNCLASSIFIED) | D17: C.Y. | E17: 1850 | F17: 5.85 | G17: 10822.5 | H17: 53 | I17: 98050
B18: D-751 | C18: ADJUSTMENT OF EXISTING CATCHBASIN | D18: EACH | E18: 3 | F18: 500 | G18: 1500 | H18: 1700 | I18: 5100
B19: P-209-5.1 | C19: COMPACTED CRUSHED AGGREGATE BASE (6" DEPTH) | D19: TON | E19: 600 | F19: 52 | G19: 31200 | H19: 90 | I19: 54000
B20: P-209-5.1 | C20: COMPACTED CRUSHED AGGREGATE BASE (MAINTENANCE STONE) | D20: TON | E20: 200 | F20: 38 | G20: 7600 | H20: 55 | I20: 11000
B21: P-403-8.1 | C21: BITUMINOUS ASPHALT SURFACE MIX | D21: TON | E21: 431 | F21: 175 | G21: 75425 | H21: 330 | I21: 142230
B22: P-602-5.1 | C22: EMULSIFIED ASPHALT TACK COAT | D22: TON | E22: 2 | F22: 950 | G22: 1900 | H22: 2160 | I22: 4320
B23: P-620-5.1.2 | C23: PAVEMENT STRIPING AND MARKINGS (YELLOW/TAXIWAY LEADERS)(REFLECTORIZED) | D23: L.M. | E23: 0.4 | F23: 1500 | G23: 600 | H23: 23000 | I23: 9200
B24: T-905-5.2 | C24: TOPSOIL (FURNISHED FROM OFF THE SITE) | D24: C.Y. | E24: 50 | F24: 30 | G24: 1500 | H24: 125 | I24: 6250
B25: L-108 | C25: ELECTRICAL SERVICE CONNECTION | D25: L.S. | E25: 1 | F25: 15000 | G25: 15000 | H25: 112000 | I25: 112000
... B33: 02730-SA-6 | C33: SANITARY SEWER CLEANOUT | D33: EA. | E33: 3 | F33: 750 | G33: 2250 | H33: 1500 | I33: 4500
D34: TOTAL BID: | G34: =SUM(Table001__Page_2_31613276107[EXTENDED TOTAL]) -> 236542.5 | I34: =SUM(Table001__Page_2_31613276107[EXTENDED TOTAL2]) -> 688150

Sheet PVE
A3: ID: | B3: PVE
A4: City: | B4: =VLOOKUP(B3,DATA!A2:E80,3) -> Lexington-Parsons
A5: Airport: | B5: =VLOOKUP(B3,DATA!A2:E80,4) -> Beech River Regional
A6: Project Description: | B6: Airfield Electrical Replacement
A7: TAD #: | B7: 39-555-0156-24
A8: Bid Date: | B8: 45369
A9: County: | B9: =VLOOKUP(B3,DATA!A2:E80,2) -> Henderson
A10: Grand Division: | B10: =VLOOKUP(B3,DATA!A2:E80,5) -> West
A12: BASE BID: | F12: ENGINEER'S ESTIMATE | H12: Precision Approach, LLC | J12: Appalachian Foothills Contracting, Inc. | L12: Stansell Electric Company, Inc.
A13: ITEM NO. | B13: SPEC. NO. | C13: DESCRIPTION | D13: UNIT | E13: ESTIMATED QUANTITY | F13: UNIT COST | G13: EXTENDED TOTAL | H13: UNIT COST2 | I13: EXTENDED TOTAL2 | J13: UNIT COST3 | K13: EXTENDED TOTAL3 | L13: UNIT COST4 | M13: EXTENDED TOTAL4
A14: 1 | C14: Mobilization | D14: LS | E14: 1 | F14: 75000 | G14: 75000 | H14: 161563 | I14: 161563 | J14: 110000 | K14: 110000 | L14: 293500 | M14: 293500
A15: 2 | C15: L-807 (LED) Wind Cone, Style I-B, Size 2, with L- 810 (LED) Obstruction Light, Installed on Existing Concrete Pad | D15: EA | E15: 1 | F15: 14000 | G15: 14000 | H15: 17500 | I15: 17500 | J15: 10250 | K15: 10250 | L15: 26600 | M15: 26600
A16: 3 | C16: No. 8 AWG, 5 kV, L-824, Type C Cable, Installed in Trench, Duct Bank or Conduit | D16: LF | E16: 36500 | F16: 2 | G16: 73000 | H16: 2 | I16: 73000 | J16: 1.73 | K16: 63145 | L16: 2.3 | M16: 83950
A17: 4 | C17: No. 4 AWG, 600 V, THHN/THWN-2 Cable, Installed in Trench, Duct Bank or Conduit | D17: LF | E17: 14300 | F17: 3 | G17: 42900 | H17: 2.5 | I17: 35750 | J17: 3 | K17: 42900 | L17: 2.6 | M17: 37180
A18: 5 | C18: No. 6 AWG, Solid, Bare Copper Counterpoise Wire, Installed Above the Duct Bank or Conduit, Including Connections/Terminations and Ground Rods | D18: LF | E18: 36500 | F18: 2 | G18: 73000 | H18: 2 | I18: 73000 | J18: 1.5 | K18: 54750 | L18: 1.7 | M18: 62050
A19: 6 | C19: No. 6 AWG, Insulated, Stranded Equipment Ground, Installed in Duct Bank or Conduit | D19: LF | E19: 7100 | F19: 3 | G19: 21300 | H19: 2 | I19: 14200 | J19: 2 | K19: 14200 | L19: 1.6 | M19: 11360
A20: 7 | C20: Non-Encased, Electrical Conduit, 1-Way, 2-Inch PVC | D20: LF | E20: 36500 | F20: 8 | G20: 292000 | H20: 10 | I20: 365000 | J20: 10 | K20: 365000 | L20: 9 | M20: 328500
A21: 8 | C21: Electrical Junction Can, L-867, Class 1, Size B | D21: EA | E21: 33 | F21: 800 | G21: 26400 | H21: 1000 | I21: 33000 | J21: 900 | K21: 29700 | L21: 1400 | M21: 46200
A22: 9 | C22: Runway Edge Light, L-861(L), Base Mounted, Medium Intensity (LED), Complete in Place | D22: EA | E22: 57 | F22: 1100 | G22: 62700 | H22: 1850 | I22: 105450 | J22: 2000 | K22: 114000 | L22: 2250 | M22: 128250
A23: 10 | C23: Runway Threshold Light, L-861E(L), Base Mounted, Medium Intensity (LED), Complete in Place | D23: EA | E23: 16 | F23: 1100 | G23: 17600 | H23: 1850 | I23: 29600 | J23: 2150 | K23: 34400 | L23: 2340 | M23: 37440
A24: 11 | C24: Taxiway Edge Light, L-861T(L), Base Mounted, Medium Intensity (LED), Complete in Place | D24: EA | E24: 189 | F24: 1100 | G24: 207900 | H24: 1850 | I24: 349650 | J24: 1400 | K24: 264600 | L24: 1880 | M24: 355320
A25: 12 | C25: 2-Module Sign, L-858 (LED), Internally Lighted, Medium Intensity, Size 1, Style 2, Class 1, Installed on Existing Concrete Pad | D25: EA | E25: 12 | F25: 3000 | G25: 36000 | H25: 5000 | I25: 60000 | J25: 4250 | K25: 51000 | L25: 8785 | M25: 105420
... A35: 22 | C35: Electrical Demolition, Complete | D35: LS | E35: 1 | F35: 50000 | G35: 50000 | H35: 83000 | I35: 83000 | J35: 19500 | K35: 19500 | L35: 88750 | M35: 88750
D36: TOTALS: | G36: =SUM(Table001__Page_2_316132728[EXTENDED TOTAL]) -> 1203800 | I36: =SUM(Table001__Page_2_316132728[EXTENDED TOTAL2]) -> 1618713 | K36: =SUM(Table001__Page_2_316132728[EXTENDED TOTAL3]) -> 1351445 | M36: =SUM(M14:M35) -> 1848040

Sheet SNH
A3: ID: | B3: SNH
A4: City: | B4: =VLOOKUP(B3,DATA!A2:E80,3) -> Savannah
A5: Airport: | B5: =VLOOKUP(B3,DATA!A2:E80,4) -> Savannah-Hardin County
A6: Project Description: | B6: Obstruction Removal
A7: TAD #: | B7: 36-555-0179-24
A8: Bid Date: | B8: 45401
A9: County: | B9: =VLOOKUP(B3,DATA!A2:E80,2) -> Hardin
A10: Grand Division: | B10: =VLOOKUP(B3,DATA!A2:E80,5) -> West
A12: BASE BID: | F12: Tim's Tree Service, Inc. | H12: Delta Tree Service, LLC | J12: Ronald Franks Construction | L12: Outcomes and Incomes, Inc.
A13: ITEM NO. | B13: SPEC. NO. | C13: DESCRIPTION | D13: UNIT | E13: ESTIMATED QUANTITY | F13: UNIT COST | G13: EXTENDED TOTAL | H13: UNIT COST2 | I13: EXTENDED TOTAL2 | J13: UNIT COST | K13: EXTENDED TOTAL | L13: UNIT COST2 | M13: EXTENDED TOTAL2
A14: 1 | C14: OBSTRUCTION REMOVAL | D14: LS | E14: 1 | F14: 147000 | G14: 147000 | H14: 246315 | I14: 246315 | J14: 310000 | K14: 310000 | L14: 335281.86 | M14: 335281.86
D15: TOTAL BID: | G15: =SUM(Table001__Page_2_3161327610[EXTENDED TOTAL]) -> 147000 | I15: =SUM(Table001__Page_2_3161327610[EXTENDED TOTAL2]) -> 246315 | K15: =SUM( K14) -> 310000 | M15: =SUM(M14) -> 335281.86

Sheet XNX
A3: ID: | B3: XNX
A4: City: | B4: =VLOOKUP(B3,DATA!A2:E80,3) -> Gallatin
A5: Airport: | B5: =VLOOKUP(B3,DATA!A2:E80,4) -> Music City Executive
A6: Project Description: | B6: Perimeter Fencing Phase III
A7: TAD #: | B7: 83-555-0743-24
A8: Bid Date: | B8: 45401
A9: County: | B9: =VLOOKUP(B3,DATA!A2:E80,2) -> Sumner
A10: Grand Division: | B10: =VLOOKUP(B3,DATA!A2:E80,5) -> Middle
A12: BASE BID: | F12: ENGINEER'S ESTIMATE | H12: MCCALL COMMERCIAL FENCING
A13: ITEM NO. | B13: SPEC. NO. | C13: DESCRIPTION | D13: UNIT | E13: ESTIMATED QUANTITY | F13: UNIT COST | G13: EXTENDED TOTAL | H13: UNIT COST2 | I13: EXTENDED TOTAL2
A14: 1 | B14: SS-120-3.1 | C14: CONSTRUCTION SAFETY AND SECURITY | D14: LS | E14: 1 | F14: 5000 | G14: 5000 | H14: 5250 | I14: 5250
A15: 2 | B15: SS-140-5.1 | C15: DEMOLITION AND DISPOSAL | D15: LS | E15: 1 | F15: 5000 | G15: 5000 | H15: 4320 | I15: 4320
A16: 3 | B16: C-100-14.1 | C16: CONTRACTOR QUALITY CONTROL PROGRAM (CQCP) | D16: LS | E16: 1 | F16: 7500 | G16: 7500 | H16: 5250 | I16: 5250
A17: 4 | B17: C-102-5.1 | C17: TEMPORARY EROSION CONTROL | D17: LS | E17: 1 | F17: 7500 | G17: 7500 | H17: 4500 | I17: 4500
A18: 5 | B18: C-105-6.1 | C18: MOBILIZATION | D18: LS | E18: 1 | F18: 20000 | G18: 20000 | H18: 17000 | I18: 17000
A19: 6 | B19: F-164-5.1 | C19: WILDLIFE EXCLUSION FENCE | D19: LF | E19: 4929 | F19: 37.5 | G19: 184837.5 | H19: 37.51 | I19: 184886.79
A20: 7 | B20: F-164-5.2a | C20: MANUALLY OPERATED DOUBLE SWING GATE | D20: EA | E20: 2 | F20: 7500 | G20: 15000 | H20: 3500 | I20: 7000
A21: 8 | B21: F-164-5.2b | C21: PEDESTRIAN GATE | D21: EA | E21: 2 | F21: 1000 | G21: 2000 | H21: 1200 | I21: 2400
A22: 9 | B22: F-164-5.3 | C22: PIPE FRAME CHANNEL CROSSING | D22: EA | E22: 6 | F22: 3500 | G22: 21000 | H22: 2800 | I22: 16800
A23: 10 | B23: P-151-4.1 | C23: CLEARING AND GRUBBING | D23: LF | E23: 3146 | F23: 15 | G23: 47190 | H23: 9.8 | I23: 30830.8
A24: 11 | B24: T-901-5.1 | C24: SEEDING | D24: ACRE | E24: 2 | F24: 2500 | G24: 5000 | H24: 8383.5 | I24: 16767
A25: 12 | B25: T-908-5.1 | C25: MULCHING | D25: SY | E25: 6572 | F25: 2 | G25: 13144 | H25: 0.31 | I25: 2037.32
D26: TOTALS: | F26: =SUM(Table001__Page_2_316132724[EXTENDED TOTAL]) -> 333171.5 | G26: 333171.5 | H26: =SUM(Table001__Page_2_316132724[EXTENDED TOTAL2]) -> 297041.91 | I26: 297041.91
A29: ADDITIVE ALTERNATE 1: | F29: ENGINEER'S ESTIMATE | H29: MCCALL COMMERCIAL FENCING
A30: ITEM NO. | B30: SPEC. NO. | C30: DESCRIPTION | D30: UNIT | E30: ESTIMATED QUANTITY | F30: UNIT COST | G30: EXTENDED TOTAL | H30: UNIT COST2 | I30: EXTENDED TOTAL2
A31: 1 | B31: F-164-5.4 | C31: 3' CONTINUOUS CONCRETE STRIP GROUND TREATMENT | D31: LF | E31: 4929 | F31: 45 | G31: 221805 | H31: 37.56 | I31: 185133.24
D32: TOTALS: | F32: 221805 | H32: 185133.24
