Workbook
Name Slicer_CityNameTxt: #N/A
Name Slicer_CountyNameTxt: #N/A

Sheet CRASHES
A1: THSO Grantee Crash Performance Measures
B3: Year | F3: ="Change"&CHAR(10)&C4&" vs "&D4 -> Change 2020 vs 2021
A4: Performance Measure | B4: 2019 | C4: 2020 | D4: 2021 | E4: Grand Total
A5: Total Crashes | B5: 204890 | C5: 175272 | D5: 192942 | E5: 573104 | F5: =IF(C5,TEXT(D5/C5-1,"0.0%"),IF(SIGN(D5-C5),"+"&(D5-C5),D5-C5)) -> 10.1%
A6: Distracted Driving Crashes | B6: 23765 | C6: 20433 | D6: 22240 | E6: 66438 | F6: =IF(C6,TEXT(D6/C6-1,"0.0%"),IF(SIGN(D6-C6),"+"&(D6-C6),D6-C6)) -> 8.8%
A7: Alcohol Impaired Driving Crashes | B7: 5738 | C7: 5923 | D7: 6067 | E7: 17728 | F7: =IF(C7,TEXT(D7/C7-1,"0.0%"),IF(SIGN(D7-C7),"+"&(D7-C7),D7-C7)) -> 2.4%
A8: Speeding Crashes | B8: 7121 | C8: 7253 | D8: 7635 | E8: 22009 | F8: =IF(C8,TEXT(D8/C8-1,"0.0%"),IF(SIGN(D8-C8),"+"&(D8-C8),D8-C8)) -> 5.3%
A9: Unbelted Crashes | B9: 5319 | C9: 5107 | D9: 5890 | E9: 16316 | F9: =IF(C9,TEXT(D9/C9-1,"0.0%"),IF(SIGN(D9-C9),"+"&(D9-C9),D9-C9)) -> 15.3%
A10: Motorcycle Crashes | B10: 2773 | C10: 2669 | D10: 2875 | E10: 8317 | F10: =IF(C10,TEXT(D10/C10-1,"0.0%"),IF(SIGN(D10-C10),"+"&(D10-C10),D10-C10)) -> 7.7%
A11: Nonmotorist Crashes | B11: 2042 | C11: 1774 | D11: 1921 | E11: 5737 | F11: =IF(C11,TEXT(D11/C11-1,"0.0%"),IF(SIGN(D11-C11),"+"&(D11-C11),D11-C11)) -> 8.3%
A12: Teen Driver Crashes | B12: 31481 | C12: 26588 | D12: 29398 | E12: 87467 | F12: =IF(C12,TEXT(D12/C12-1,"0.0%"),IF(SIGN(D12-C12),"+"&(D12-C12),D12-C12)) -> 10.6%
A13: Older Driver Crashes | B13: 34500 | C13: 26949 | D13: 30694 | E13: 92143 | F13: =IF(C13,TEXT(D13/C13-1,"0.0%"),IF(SIGN(D13-C13),"+"&(D13-C13),D13-C13)) -> 13.9%
A14: Persons Injured | B14: 69649 | C14: 60332 | D14: 67030 | E14: 197011 | F14: =IF(C14,TEXT(D14/C14-1,"0.0%"),IF(SIGN(D14-C14),"+"&(D14-C14),D14-C14)) -> 11.1%

Sheet FATALITIES
B1: THSO Grantee Fatality Performance Measures
B3: Performance Measure | C3: 2019 | D3: 2020 | E3: 2021 | F3: Total
B4: Total Fatalities | C4: =D13 -> 1136 | D4: =E13 -> 1217 | E4: =F13 -> 1322 | F4: =SUM(C4:E4) -> 3675
B5: % Alcohol Impaired Driving Fatalties | C5: =IF(D$13,D14/D$13,"No Fatalities") -> 0.23591549 | D5: =IF(E$13,E14/E$13,"No Fatalities") -> 0.23007395 | E5: =IF(F$13,F14/F$13,"No Fatalities") -> 0.2118003 | F5: =IF(G$13,G14/G$13,"No Fatalities") -> 0.22530612
B6: % Speeding Fatalities | C6: =IF(D$13,D15/D$13,"No Fatalities") -> 0.15757042 | D6: =IF(E$13,E15/E$13,"No Fatalities") -> 0.14954807 | E6: =IF(F$13,F15/F$13,"No Fatalities") -> 0.15279879 | F6: =IF(G$13,G15/G$13,"No Fatalities") -> 0.15319728
B7: % Distracted Driving Fatalities | C7: =IF(D$13,D16/D$13,"No Fatalities") -> 0.060739437 | D7: =IF(E$13,E16/E$13,"No Fatalities") -> 0.057518488 | E7: =IF(F$13,F16/F$13,"No Fatalities") -> 0.056732224 | F7: =IF(G$13,G16/G$13,"No Fatalities") -> 0.058231293
B8: % Unbelted Fatalities | C8: =IF(D$13,D17/D$13,"No Fatalities") -> 0.31161972 | D8: =IF(E$13,E17/E$13,"No Fatalities") -> 0.33360723 | E8: =IF(F$13,F17/F$13,"No Fatalities") -> 0.31164902 | F8: =IF(G$13,G17/G$13,"No Fatalities") -> 0.31891156
B12: Performance Measure | C12: Performance Measure | D12: 2019 | E12: 2020 | F12: 2021 | G12: Total
B13: Total Fatalities | C13: Total Fatalities | D13: {=SUM(IF(($B13='P(K)Pvt'!$C$10:$C$14)*(D$12='P(K)Pvt'!$D$9:$F$9),'P(K)Pvt'!$D$10:$F$14,0))} -> 1136 | E13: {=SUM(IF(($B13='P(K)Pvt'!$C$10:$C$14)*(E$12='P(K)Pvt'!$D$9:$F$9),'P(K)Pvt'!$D$10:$F$14,0))} -> 1217 | F13: {=SUM(IF(($B13='P(K)Pvt'!$C$10:$C$14)*(F$12='P(K)Pvt'!$D$9:$F$9),'P(K)Pvt'!$D$10:$F$14,0))} -> 1322 | G13: =SUM(D13:F13) -> 3675
B14: Alcohol Impaired Driving Fatalties | C14: % Alcohol Impaired Driving Fatalties | D14: {=SUM(IF(($B14='P(K)Pvt'!$C$10:$C$14)*(D$12='P(K)Pvt'!$D$9:$F$9),'P(K)Pvt'!$D$10:$F$14,0))} -> 268 | E14: {=SUM(IF(($B14='P(K)Pvt'!$C$10:$C$14)*(E$12='P(K)Pvt'!$D$9:$F$9),'P(K)Pvt'!$D$10:$F$14,0))} -> 280 | F14: {=SUM(IF(($B14='P(K)Pvt'!$C$10:$C$14)*(F$12='P(K)Pvt'!$D$9:$F$9),'P(K)Pvt'!$D$10:$F$14,0))} -> 280 | G14: =SUM(D14:F14) -> 828
B15: Speeding Fatalities | C15: % Speeding Fatalities | D15: {=SUM(IF(($B15='P(K)Pvt'!$C$10:$C$14)*(D$12='P(K)Pvt'!$D$9:$F$9),'P(K)Pvt'!$D$10:$F$14,0))} -> 179 | E15: {=SUM(IF(($B15='P(K)Pvt'!$C$10:$C$14)*(E$12='P(K)Pvt'!$D$9:$F$9),'P(K)Pvt'!$D$10:$F$14,0))} -> 182 | F15: {=SUM(IF(($B15='P(K)Pvt'!$C$10:$C$14)*(F$12='P(K)Pvt'!$D$9:$F$9),'P(K)Pvt'!$D$10:$F$14,0))} -> 202 | G15: =SUM(D15:F15) -> 563
B16: Distracted Driving Fatalities | C16: % Distracted Driving Fatalities | D16: {=SUM(IF(($B16='P(K)Pvt'!$C$10:$C$14)*(D$12='P(K)Pvt'!$D$9:$F$9),'P(K)Pvt'!$D$10:$F$14,0))} -> 69 | E16: {=SUM(IF(($B16='P(K)Pvt'!$C$10:$C$14)*(E$12='P(K)Pvt'!$D$9:$F$9),'P(K)Pvt'!$D$10:$F$14,0))} -> 70 | F16: {=SUM(IF(($B16='P(K)Pvt'!$C$10:$C$14)*(F$12='P(K)Pvt'!$D$9:$F$9),'P(K)Pvt'!$D$10:$F$14,0))} -> 75 | G16: =SUM(D16:F16) -> 214
B17: Unbelted Fatalities | C17: % Unbelted Fatalities | D17: {=SUM(IF(($B17='P(K)Pvt'!$C$10:$C$14)*(D$12='P(K)Pvt'!$D$9:$F$9),'P(K)Pvt'!$D$10:$F$14,0))} -> 354 | E17: {=SUM(IF(($B17='P(K)Pvt'!$C$10:$C$14)*(E$12='P(K)Pvt'!$D$9:$F$9),'P(K)Pvt'!$D$10:$F$14,0))} -> 406 | F17: {=SUM(IF(($B17='P(K)Pvt'!$C$10:$C$14)*(F$12='P(K)Pvt'!$D$9:$F$9),'P(K)Pvt'!$D$10:$F$14,0))} -> 412 | G17: =SUM(D17:F17) -> 1172

Sheet P(K)Pvt
D8: Year
C9: Performance Measure | D9: 2019 | E9: 2020 | F9: 2021 | G9: Grand Total
C10: Total Fatalities | D10: 1136 | E10: 1217 | F10: 1322 | G10: 3675
C11: Alcohol Impaired Driving Fatalties | D11: 268 | E11: 280 | F11: 280 | G11: 828
C12: Speeding Fatalities | D12: 179 | E12: 182 | F12: 202 | G12: 563
C13: Distracted Driving Fatalities | D13: 69 | E13: 70 | F13: 75 | G13: 214
C14: Unbelted Fatalities | D14: 354 | E14: 406 | F14: 412 | G14: 1172
