Workbook
Name budgetCurrent: setup!$C$34:$L$48
Name budgetRollover: setup!$C$56:$L$70
Name CarryoverFinal: Summary!$F$6
Name Categories: lookup!$D$19:$D$33
Name ContractType: setup!$C$22
Name CurrentContractNumber: setup!$C$25
Name CurrentFinal: Summary!$F$5
Name Domains: lookup!$B$3:$D$12
Name EdisonID: setup!$C$9
Name FFY: setup!$C$4
Name IndexMonth: MATCH(Summary!$B$5,luMonths,0)
Name InvoiceEOM: DATE(YEAR(InvoiceMonth),MONTH(InvoiceMonth)+1,0)
Name InvoiceMonth: INDEX(luDates,IndexMonth)
Name InvoiceNumber: setup!#REF!
Name luDates: lookup!$F$3:$Q$3
Name luMonths: lookup!$F$2:$Q$2
Name Program: setup!$C$23
Name RolloverContractNumber: setup!$C$26
Name salary_print_area: Salary!$J$1:INDEX(Salary!$A:$A,COUNTA(Salary!$B$12:$B$112)+11)
Name summaryDomain: Summary!D1048554:INDEX(Summary!D1048564:O1048564,IndexMonth)
Name TACA_ERROR: AND(TACA_OWNER,TACA!$K$5>TACA!$E$5)
Name TACA_OWNER: OR(setup!$L$31>0,setup!$L$53>0)

Sheet lookup
B2: Code | C2: Tab Name | D2: Description | F2: October | G2: November | H2: December | I2: January | J2: February | K2: March | L2: April | M2: May | N2: June | O2: July | P2: August | Q2: September
B3: 1 | C3: EMP | D3: Employment | F3: {=DATEVALUE(F2:Q2&" "&(FFY-(MATCH(F2:Q2,F2:Q2,0)<4)))} -> 43739 | G3: 43770 | H3: 43800 | I3: 43831 | J3: 43862 | K3: 43891 | L3: 43922 | M3: 43952 | N3: 43983 | O3: 44013 | P3: 44044 | Q3: 44075 | R3: N/A
B4: 2 | C4: ED and CD | D4: Education and Cognitive Development
B5: 3 | C5: II and AB | D5: Income, Infrastructure, and Asset Building
B6: 4 | C6: Housing | D6: Housing | F6: =(COUNT(EMP:Other!C46:C60)>0)*1 -> 0 | G6: =(COUNT(EMP:Other!D46:D60)>0)*1 -> 0 | H6: =(COUNT(EMP:Other!E46:E60)>0)*1 -> 0 | I6: =(COUNT(EMP:Other!F46:F60)>0)*1 -> 0 | J6: =(COUNT(EMP:Other!G46:G60)>0)*1 -> 0 | K6: =(COUNT(EMP:Other!H46:H60)>0)*1 -> 0 | L6: =(COUNT(EMP:Other!I46:I60)>0)*1 -> 0 | M6: =(COUNT(EMP:Other!J46:J60)>0)*1 -> 0 | ... Q6: =(COUNT(EMP:Other!N46:N60)>0)*1 -> 0 | R6: <- Budget Mods
B7: 5 | C7: H and S BD | D7: Health and Social/Dehavioral Development (including nutrition)
B8: 6 | C8: CE and CI | D8: Civic Engagements and Community Involvement
B9: 7 | C9: SSMD | D9: Services Supporting Multiple Domains
B10: 8 | C10: Linkages | D10: Linkages (e.g., partnerships that support multiple domains)
B11: 9 | C11: ACB | D11: Agency Capacity Building
B12: 10 | C12: Other | D12: Other (e.g., emergency management / disaster relief) | G12: Value of : | H12: IndexMonth | I12: =IndexMonth -> 1
H13: InvoiceMonth | I13: =InvoiceMonth -> 43739
B14: *tab names must match exactly
D18: Categories
D19: Salaries
D20: Benefits & Taxes
D21: Professional Fee / Grant & Award
D22: Supplies
D23: Telephone
D24: Postage & Shipping
D25: Occupancy
D26: Equipment Rental & Maintenance
D27: Printing & Publications
D28: Travel / Conferences & Meetings
D29: Insurance
... D33: Indirect Cost / Adm. Exp. / M&G

Sheet setup
B2: Invoice Setup
B4: Fiscal Year | C4: 2020 | D4: =IFERROR(IF(FFY>0,"invoice covers Oct 1, "&(FFY-1)&" thru Sept 30, "&FFY,""),"enter a valid FFY") -> invoice covers Oct 1, 2019 thru Sept 30, 2020 | K4: Edition | L4: A
B7: Client Information
B9: Edison ID | C9: 987-654-1203
B11: Name | C11: Sample Grantee
B12: Address | C12: 0000 Budget Lane
B13: City, State,Zip | C13: Somewhere, TN 00000
B15: Name | C15: Sample Contact
B16: Phone | C16: 615-555-1234
B17: Email | C17: sample.contact@fake.com
B20: Contract Information
B22: Contract Type | C22: CSGB
B23: Program/Component | C23: DHS
B25: Current Contract # | C25: FY20-12345
B26: Carryover Contract # | C26: FY19-67890
B29: ="Allocated Funds for Current Contract "&CurrentContractNumber -> Allocated Funds for Current Contract FY20-12345
B31: Add some descriptive text here. | K31: TACA Funds
B33: Categories | C33: {=TRANSPOSE(INDEX(Domains,,2))} -> EMP | D33: ED and CD | E33: II and AB | F33: Housing | G33: H and S BD | H33: CE and CI | I33: SSMD | J33: Linkages | K33: ACB | L33: Other | M33: Total
B34: {=Categories} -> Salaries | M34: =SUM(C34:L34) -> 0
B35: Benefits & Taxes | C35: 8000 | D35: 2000 | E35: 12000 | F35: 6000 | G35: 2000 | I35: 6000 | J35: 4000 | K35: 14000 | L35: 12000 | M35: =SUM(C35:L35) -> 66000
B36: Professional Fee / Grant & Award | C36: 9000 | D36: 6000 | E36: 12000 | F36: 3000 | G36: 5000 | I36: 9000 | J36: 2000 | K36: 8000 | L36: 6000 | M36: =SUM(C36:L36) -> 60000
B37: Supplies | C37: 10000 | D37: 9000 | E37: 4000 | F37: 5000 | G37: 12000 | I37: 8000 | J37: 11000 | K37: 13000 | L37: 13000 | M37: =SUM(C37:L37) -> 85000
B38: Telephone | C38: 10000 | D38: 15000 | E38: 15000 | F38: 12000 | G38: 10000 | I38: 15000 | J38: 3000 | K38: 3000 | L38: 11000 | M38: =SUM(C38:L38) -> 94000
B39: Postage & Shipping | C39: 3000 | D39: 7000 | E39: 7000 | F39: 6000 | G39: 8000 | I39: 9000 | J39: 2000 | K39: 3000 | L39: 4000 | M39: =SUM(C39:L39) -> 49000
B40: Occupancy | C40: 9000 | D40: 7000 | E40: 11000 | F40: 2000 | G40: 12000 | I40: 14000 | J40: 7000 | K40: 4000 | L40: 15000 | M40: =SUM(C40:L40) -> 81000
B41: Equipment Rental & Maintenance | C41: 12000 | D41: 12000 | E41: 11000 | F41: 11000 | G41: 11000 | I41: 13000 | J41: 13000 | K41: 14000 | L41: 15000 | M41: =SUM(C41:L41) -> 112000
B42: Printing & Publications | C42: 12000 | D42: 10000 | E42: 13000 | F42: 15000 | G42: 14000 | I42: 12000 | J42: 14000 | K42: 8000 | L42: 15000 | M42: =SUM(C42:L42) -> 113000
B43: Travel / Conferences & Meetings | C43: 12000 | D43: 13000 | E43: 12000 | F43: 9000 | G43: 3000 | I43: 5000 | J43: 6000 | K43: 13000 | L43: 8000 | M43: =SUM(C43:L43) -> 81000
B44: Insurance | C44: 13000 | D44: 6000 | E44: 6000 | F44: 9000 | G44: 9000 | I44: 7000 | J44: 7000 | K44: 8000 | L44: 8000 | M44: =SUM(C44:L44) -> 73000
B45: Specific Assistance to Individuals | C45: 5000 | D45: 5000 | E45: 4000 | F45: 13000 | G45: 11000 | I45: 2000 | J45: 3000 | K45: 3000 | L45: 7000 | M45: =SUM(C45:L45) -> 53000
B46: Depreciation | C46: 5000 | D46: 8000 | E46: 13000 | F46: 7000 | G46: 12000 | I46: 10000 | J46: 4000 | K46: 3000 | L46: 14000 | M46: =SUM(C46:L46) -> 76000
... B48: Indirect Cost / Adm. Exp. / M&G | C48: 8000 | D48: 12000 | E48: 2000 | F48: 5000 | G48: 12000 | I48: 9000 | J48: 10000 | K48: 5000 | L48: 11000 | M48: =SUM(C48:L48) -> 74000
B49: Total | C49: =SUM(C34:C48) -> 122000 | D49: =SUM(D34:D48) -> 123000 | E49: =SUM(E34:E48) -> 131000 | F49: =SUM(F34:F48) -> 112000 | G49: =SUM(G34:G48) -> 136000 | H49: =SUM(H34:H48) -> 0 | I49: =SUM(I34:I48) -> 130000 | J49: =SUM(J34:J48) -> 89000 | ... M49: =SUM(M34:M48) -> 1105000
B51: ="Allocated Funds for Carryover Contract "&RolloverContractNumber -> Allocated Funds for Carryover Contract FY19-67890
B53: Add some descriptive text here. | K53: TACA Funds
B55: Categories | C55: {=TRANSPOSE(INDEX(Domains,,2))} -> EMP | D55: ED and CD | E55: II and AB | F55: Housing | G55: H and S BD | H55: CE and CI | I55: SSMD | J55: Linkages | K55: ACB | L55: Other | M55: Total
B56: {=Categories} -> Salaries | C56: 900 | D56: 1600 | E56: 1000 | F56: 700 | G56: 600 | H56: 2000 | I56: 1800 | K56: 2100 | M56: =SUM(C56:L56) -> 10700
B57: Benefits & Taxes | D57: 2100 | E57: 1200 | F57: 2100 | G57: 700 | I57: 500 | K57: 1100 | M57: =SUM(C57:L57) -> 7700
B58: Professional Fee / Grant & Award | C58: 1600 | D58: 500 | E58: 1800 | F58: 500 | G58: 600 | H58: 1700 | I58: 1400 | L58: 1000 | M58: =SUM(C58:L58) -> 9100
B59: Supplies | C59: 900 | E59: 1700 | G59: 1400 | K59: 1800 | L59: 1300 | M59: =SUM(C59:L59) -> 7100
...

Sheet Summary
B2: Domain Summary Rollup | D2: {=TEXT(InvoiceMonth, "mmmm yyyy")&", Edition "&setup!$L$4} -> October 2019, Edition A
B4: Select the Month of Invoice | F4: Final Contract Invoice Dates | K4: {=luDates} -> 43739 | L4: 43770 | M4: 43800 | N4: 43831 | O4: 43862 | P4: 43891 | Q4: 43922 | R4: 43952 | S4: 43983 | T4: 44013 | U4: 44044 | V4: 44075
B5: October | C5: =IFERROR(IF(FFY>0,"invoice covers Oct 1, "&(FFY-1)&" thru Sept 30, "&FFY,""),"enter a valid FFY") -> invoice covers Oct 1, 2019 thru Sept 30, 2020 | E5: ="Contract "&CurrentContractNumber -> Contract FY20-12345 | F5: N/A | J5: {=INDEX(Domains,,2)} -> EMP | K5: =IF(EMP!C41=0,NA(),EMP!C41) -> #N/A | L5: =IF(EMP!D41=0,NA(),EMP!D41) -> #N/A | M5: =IF(EMP!E41=0,NA(),EMP!E41) -> #N/A | N5: =IF(EMP!F41=0,NA(),EMP!F41) -> #N/A | O5: =IF(EMP!G41=0,NA(),EMP!G41) -> #N/A | P5: =IF(EMP!H41=0,NA(),EMP!H41) -> #N/A | Q5: =IF(EMP!I41=0,NA(),EMP!I41) -> #N/A | R5: =IF(EMP!J41=0,NA(),EMP!J41) -> #N/A | ... V5: =IF(EMP!N41=0,NA(),EMP!N41) -> #N/A
E6: ="Contract "&RolloverContractNumber -> Contract FY19-67890 | F6: 43983 | J6: ED and CD | K6: =IF('ED and CD'!C41=0,NA(),'ED and CD'!C41) -> #N/A | L6: =IF('ED and CD'!D41=0,NA(),'ED and CD'!D41) -> #N/A | M6: =IF('ED and CD'!E41=0,NA(),'ED and CD'!E41) -> #N/A | N6: =IF('ED and CD'!F41=0,NA(),'ED and CD'!F41) -> #N/A | O6: =IF('ED and CD'!G41=0,NA(),'ED and CD'!G41) -> #N/A | P6: =IF('ED and CD'!H41=0,NA(),'ED and CD'!H41) -> #N/A | Q6: =IF('ED and CD'!I41=0,NA(),'ED and CD'!I41) -> #N/A | R6: =IF('ED and CD'!J41=0,NA(),'ED and CD'!J41) -> #N/A | ... V6: =IF('ED and CD'!N41=0,NA(),'ED and CD'!N41) -> #N/A
J7: II and AB | K7: =IF('II and AB'!C41=0,NA(),'II and AB'!C41) -> #N/A | L7: =IF('II and AB'!D41=0,NA(),'II and AB'!D41) -> #N/A | M7: =IF('II and AB'!E41=0,NA(),'II and AB'!E41) -> #N/A | N7: =IF('II and AB'!F41=0,NA(),'II and AB'!F41) -> #N/A | O7: =IF('II and AB'!G41=0,NA(),'II and AB'!G41) -> #N/A | P7: =IF('II and AB'!H41=0,NA(),'II and AB'!H41) -> #N/A | Q7: =IF('II and AB'!I41=0,NA(),'II and AB'!I41) -> #N/A | R7: =IF('II and AB'!J41=0,NA(),'II and AB'!J41) -> #N/A | ... V7: =IF('II and AB'!N41=0,NA(),'II and AB'!N41) -> #N/A
B8: ="Has there been a budget modification entered for "&TEXT(InvoiceMonth,"mmmm yyyy")&"?" -> Has there been a budget modification entered for October 2019? | D8: =IF(INDEX(lookup!$F$6:$Q$6,IndexMonth),"YES","NO") -> NO | J8: Housing | K8: =IF(Housing!C41=0,NA(),Housing!C41) -> #N/A | L8: =IF(Housing!D41=0,NA(),Housing!D41) -> #N/A | M8: =IF(Housing!E41=0,NA(),Housing!E41) -> #N/A | N8: =IF(Housing!F41=0,NA(),Housing!F41) -> #N/A | O8: =IF(Housing!G41=0,NA(),Housing!G41) -> #N/A | P8: =IF(Housing!H41=0,NA(),Housing!H41) -> #N/A | Q8: =IF(Housing!I41=0,NA(),Housing!I41) -> #N/A | R8: =IF(Housing!J41=0,NA(),Housing!J41) -> #N/A | ... V8: =IF(Housing!N41=0,NA(),Housing!N41) -> #N/A
B9: Number of budget modifications this fiscal year to date? | D9: =SUM(lookup!$F$6:INDEX(lookup!$F$6:$Q$6,IndexMonth)) -> 0 | J9: H and S BD | K9: =IF('H and S BD'!C41=0,NA(),'H and S BD'!C41) -> #N/A | L9: =IF('H and S BD'!D41=0,NA(),'H and S BD'!D41) -> #N/A | M9: =IF('H and S BD'!E41=0,NA(),'H and S BD'!E41) -> #N/A | N9: =IF('H and S BD'!F41=0,NA(),'H and S BD'!F41) -> #N/A | O9: =IF('H and S BD'!G41=0,NA(),'H and S BD'!G41) -> #N/A | P9: =IF('H and S BD'!H41=0,NA(),'H and S BD'!H41) -> #N/A | Q9: =IF('H and S BD'!I41=0,NA(),'H and S BD'!I41) -> #N/A | R9: =IF('H and S BD'!J41=0,NA(),'H and S BD'!J41) -> #N/A | ... V9: =IF('H and S BD'!N41=0,NA(),'H and S BD'!N41) -> #N/A
J10: CE and CI | K10: =IF('CE and CI'!C41=0,NA(),'CE and CI'!C41) -> #N/A | L10: =IF('CE and CI'!D41=0,NA(),'CE and CI'!D41) -> #N/A | M10: =IF('CE and CI'!E41=0,NA(),'CE and CI'!E41) -> #N/A | N10: =IF('CE and CI'!F41=0,NA(),'CE and CI'!F41) -> #N/A | O10: =IF('CE and CI'!G41=0,NA(),'CE and CI'!G41) -> #N/A | P10: =IF('CE and CI'!H41=0,NA(),'CE and CI'!H41) -> #N/A | Q10: =IF('CE and CI'!I41=0,NA(),'CE and CI'!I41) -> #N/A | R10: =IF('CE and CI'!J41=0,NA(),'CE and CI'!J41) -> #N/A | ... V10: =IF('CE and CI'!N41=0,NA(),'CE and CI'!N41) -> #N/A
J11: SSMD | K11: =IF(SSMD!C41=0,NA(),SSMD!C41) -> #N/A | L11: =IF(SSMD!D41=0,NA(),SSMD!D41) -> #N/A | M11: =IF(SSMD!E41=0,NA(),SSMD!E41) -> #N/A | N11: =IF(SSMD!F41=0,NA(),SSMD!F41) -> #N/A | O11: =IF(SSMD!G41=0,NA(),SSMD!G41) -> #N/A | P11: =IF(SSMD!H41=0,NA(),SSMD!H41) -> #N/A | Q11: =IF(SSMD!I41=0,NA(),SSMD!I41) -> #N/A | R11: =IF(SSMD!J41=0,NA(),SSMD!J41) -> #N/A | ... V11: =IF(SSMD!N41=0,NA(),SSMD!N41) -> #N/A
J12: Linkages | K12: =IF(Linkages!C41=0,NA(),Linkages!C41) -> #N/A | L12: =IF(Linkages!D41=0,NA(),Linkages!D41) -> #N/A | M12: =IF(Linkages!E41=0,NA(),Linkages!E41) -> #N/A | N12: =IF(Linkages!F41=0,NA(),Linkages!F41) -> #N/A | O12: =IF(Linkages!G41=0,NA(),Linkages!G41) -> #N/A | P12: =IF(Linkages!H41=0,NA(),Linkages!H41) -> #N/A | Q12: =IF(Linkages!I41=0,NA(),Linkages!I41) -> #N/A | R12: =IF(Linkages!J41=0,NA(),Linkages!J41) -> #N/A | ... V12: =IF(Linkages!N41=0,NA(),Linkages!N41) -> #N/A
J13: ACB | K13: =IF(ACB!C41=0,NA(),ACB!C41) -> #N/A | L13: =IF(ACB!D41=0,NA(),ACB!D41) -> #N/A | M13: =IF(ACB!E41=0,NA(),ACB!E41) -> #N/A | N13: =IF(ACB!F41=0,NA(),ACB!F41) -> #N/A | O13: =IF(ACB!G41=0,NA(),ACB!G41) -> #N/A | P13: =IF(ACB!H41=0,NA(),ACB!H41) -> #N/A | Q13: =IF(ACB!I41=0,NA(),ACB!I41) -> #N/A | R13: =IF(ACB!J41=0,NA(),ACB!J41) -> #N/A | ... V13: =IF(ACB!N41=0,NA(),ACB!N41) -> #N/A
J14: Other | K14: =IF(Other!C41=0,NA(),Other!C41) -> #N/A | L14: =IF(Other!D41=0,NA(),Other!D41) -> #N/A | M14: =IF(Other!E41=0,NA(),Other!E41) -> #N/A | N14: =IF(Other!F41=0,NA(),Other!F41) -> #N/A | O14: =IF(Other!G41=0,NA(),Other!G41) -> #N/A | P14: =IF(Other!H41=0,NA(),Other!H41) -> #N/A | Q14: =IF(Other!I41=0,NA(),Other!I41) -> #N/A | R14: =IF(Other!J41=0,NA(),Other!J41) -> #N/A | ... V14: =IF(Other!N41=0,NA(),Other!N41) -> #N/A
J15: TACA | K15: =IF(TACA!C26=0,NA(),TACA!C26) -> #N/A | L15: =IF(TACA!D26=0,NA(),TACA!D26) -> #N/A | M15: =IF(TACA!E26=0,NA(),TACA!E26) -> #N/A | N15: =IF(TACA!F26=0,NA(),TACA!F26) -> #N/A | O15: =IF(TACA!G26=0,NA(),TACA!G26) -> #N/A | P15: =IF(TACA!H26=0,NA(),TACA!H26) -> #N/A | Q15: =IF(TACA!I26=0,NA(),TACA!I26) -> #N/A | R15: =IF(TACA!J26=0,NA(),TACA!J26) -> #N/A | ... V15: =IF(TACA!N26=0,NA(),TACA!N26) -> #N/A

Sheet Invoice
A2: Invoice for Reimbursement
A4: Contractor/Grantee | E4: ="Edison Vendor ID # "&EdisonID -> Edison Vendor ID # 987-654-1203
A5: =setup!C11 -> Sample Grantee | B5: =setup!C15 -> Sample Contact
A6: =setup!C12 -> 0000 Budget Lane | B6: =setup!C16 -> 615-555-1234 | E6: ="Contract # " & CurrentContractNumber -> Contract # FY20-12345
A7: =setup!C13 -> Somewhere, TN 00000 | B7: =setup!C17 -> sample.contact@fake.com | E7: ="Contract Period "&TEXT(DATE(FFY-1,10,1),"mm/dd/yyyy")&" to "&TEXT(DATE(FFY+1,10,0),"mm/dd/yyyy") -> Contract Period 10/01/2019 to 09/30/2021
A9: ="Contract Type: "&ContractType -> Contract Type: CSGB | E9: ="Invoice # " &TEXT(IndexMonth,"00")&"-"&Summary!B5 -> Invoice # 01-October
A10: ="Program/Component: "&Program -> Program/Component: DHS | E10: ="Ending " &TEXT(InvoiceEOM,"mmmm dd, yyyy") -> Ending October 31, 2019
B12: Contact | C12: YTD Actual | D12: Invoice | E12: Budget | F12: Amount
A13: COST CATEGORY | B13: Budget | C13: Expenditures | D13: Expenditures | E13: Usage YTD % | F13: Due
A14: {=Categories} -> Salaries | B14: =SUM(EMP:Other!C5:D5) -> 0 | C14: =SUM(EMP:Other!J5) -> 0 | D14: =SUM(EMP:Other!G5) -> 0 | E14: =IFERROR(C14/B14,0) -> 0 | F14: =IF(TACA_ERROR,"TACA Error",IF(E14>1.1,"Error",D14)) -> 0
A15: Benefits & Taxes | B15: =SUM(EMP:Other!C6:D6) -> 66000 | C15: =SUM(EMP:Other!J6) -> 0 | D15: =SUM(EMP:Other!G6) -> 0 | E15: =IFERROR(C15/B15,0) -> 0 | F15: =IF(TACA_ERROR,"TACA Error",IF(E15>1.1,"Error",D15)) -> 0
A16: Professional Fee / Grant & Award | B16: =SUM(EMP:Other!C7:D7) -> 60000 | C16: =SUM(EMP:Other!J7) -> 0 | D16: =SUM(EMP:Other!G7) -> 0 | E16: =IFERROR(C16/B16,0) -> 0 | F16: =IF(TACA_ERROR,"TACA Error",IF(E16>1.1,"Error",D16)) -> 0
A17: Supplies | B17: =SUM(EMP:Other!C8:D8) -> 85000 | C17: =SUM(EMP:Other!J8) -> 0 | D17: =SUM(EMP:Other!G8) -> 0 | E17: =IFERROR(C17/B17,0) -> 0 | F17: =IF(TACA_ERROR,"TACA Error",IF(E17>1.1,"Error",D17)) -> 0
A18: Telephone | B18: =SUM(EMP:Other!C9:D9) -> 94000 | C18: =SUM(EMP:Other!J9) -> 0 | D18: =SUM(EMP:Other!G9) -> 0 | E18: =IFERROR(C18/B18,0) -> 0 | F18: =IF(TACA_ERROR,"TACA Error",IF(E18>1.1,"Error",D18)) -> 0
A19: Postage & Shipping | B19: =SUM(EMP:Other!C10:D10) -> 49000 | C19: =SUM(EMP:Other!J10) -> 0 | D19: =SUM(EMP:Other!G10) -> 0 | E19: =IFERROR(C19/B19,0) -> 0 | F19: =IF(TACA_ERROR,"TACA Error",IF(E19>1.1,"Error",D19)) -> 0
A20: Occupancy | B20: =SUM(EMP:Other!C11:D11) -> 81000 | C20: =SUM(EMP:Other!J11) -> 0 | D20: =SUM(EMP:Other!G11) -> 0 | E20: =IFERROR(C20/B20,0) -> 0 | F20: =IF(TACA_ERROR,"TACA Error",IF(E20>1.1,"Error",D20)) -> 0
A21: Equipment Rental & Maintenance | B21: =SUM(EMP:Other!C12:D12) -> 112000 | C21: =SUM(EMP:Other!J12) -> 0 | D21: =SUM(EMP:Other!G12) -> 0 | E21: =IFERROR(C21/B21,0) -> 0 | F21: =IF(TACA_ERROR,"TACA Error",IF(E21>1.1,"Error",D21)) -> 0
A22: Printing & Publications | B22: =SUM(EMP:Other!C13:D13) -> 113000 | C22: =SUM(EMP:Other!J13) -> 0 | D22: =SUM(EMP:Other!G13) -> 0 | E22: =IFERROR(C22/B22,0) -> 0 | F22: =IF(TACA_ERROR,"TACA Error",IF(E22>1.1,"Error",D22)) -> 0
A23: Travel / Conferences & Meetings | B23: =SUM(EMP:Other!C14:D14) -> 81000 | C23: =SUM(EMP:Other!J14) -> 0 | D23: =SUM(EMP:Other!G14) -> 0 | E23: =IFERROR(C23/B23,0) -> 0 | F23: =IF(TACA_ERROR,"TACA Error",IF(E23>1.1,"Error",D23)) -> 0
A24: Insurance | B24: =SUM(EMP:Other!C15:D15) -> 73000 | C24: =SUM(EMP:Other!J15) -> 0 | D24: =SUM(EMP:Other!G15) -> 0 | E24: =IFERROR(C24/B24,0) -> 0 | F24: =IF(TACA_ERROR,"TACA Error",IF(E24>1.1,"Error",D24)) -> 0
A25: Specific Assistance to Individuals | B25: =SUM(EMP:Other!C16:D16) -> 53000 | C25: =SUM(EMP:Other!J16) -> 0 | D25: =SUM(EMP:Other!G16) -> 0 | E25: =IFERROR(C25/B25,0) -> 0 | F25: =IF(TACA_ERROR,"TACA Error",IF(E25>1.1,"Error",D25)) -> 0
A26: Depreciation | B26: =SUM(EMP:Other!C17:D17) -> 76000 | C26: =SUM(EMP:Other!J17) -> 0 | D26: =SUM(EMP:Other!G17) -> 0 | E26: =IFERROR(C26/B26,0) -> 0 | F26: =IF(TACA_ERROR,"TACA Error",IF(E26>1.1,"Error",D26)) -> 0
... A28: Indirect Cost / Adm. Exp. / M&G | B28: =SUM(EMP:Other!C19:D19) -> 74000 | C28: =SUM(EMP:Other!J19) -> 0 | D28: =SUM(EMP:Other!G19) -> 0 | E28: =IFERROR(C28/B28,0) -> 0 | F28: =IF(TACA_ERROR,"TACA Error",IF(E28>1.1,"Error",D28)) -> 0
A29: Total | B29: =SUM(B14:B28) -> 1105000 | C29: =SUM(C14:C28) -> 0 | D29: =SUM(D14:D28) -> 0 | E29: =IFERROR(C29/B29,0) -> 0 | F29: =IF(TACA_ERROR,"TACA Error",IF(E29>1.1,"Error",D29)) -> 0
A31: I certify to the best of my knowledge and belief that the data above are correct and that all expenditures were made in accordance with the contract conditions and that payment is due and has not been previously requested. | F31: Final Contract Invoice
F32: =IF(AND(InvoiceMonth>CurrentFinal,CurrentFinal>0),"EXPIRED",IF(InvoiceMonth=CurrentFinal,"YES","NO")) -> NO
A34: THIS CONTRACT HAS EXPIRED AND CANNOT BE SIGNED
A36: Authorized Signature | C36: Title | D36: Date | F36: Remit pdf Invoice Document to fiscalcommsvs.dhs
A37: Contractor/Grantee | E37: ="Edison Vendor ID # "&EdisonID -> Edison Vendor ID # 987-654-1203
A38: =setup!C11 -> Sample Grantee | B38: =setup!C15 -> Sample Contact
A39: =setup!C12 -> 0000 Budget Lane | B39: =setup!C16 -> 615-555-1234 | E39: ="Contract # " & RolloverContractNumber -> Contract # FY19-67890
A40: =setup!C13 -> Somewhere, TN 00000 | B40: =setup!C17 -> sample.contact@fake.com | E40: ="Contract Period "&TEXT(DATE(FFY-2,10,1),"mm/dd/yyyy")&" to "&TEXT(DATE(FFY,10,0),"mm/dd/yyyy") -> Contract Period 10/01/2018 to 09/30/2020
A42: ="Contract Type: "&ContractType -> Contract Type: CSGB | E42: ="Invoice # " &TEXT(IndexMonth+12,"00")&"-"&Summary!B5 -> Invoice # 13-October
A43: ="Program/Component: "&Program -> Program/Component: DHS | E43: ="Ending " &TEXT(InvoiceEOM,"mmmm dd, yyyy") -> Ending October 31, 2019
B45: Contact | C45: YTD Actual | D45: Invoice | E45: Budget | F45: Amount
A46: COST CATEGORY | B46: Budget | C46: Expenditures | D46: Expenditures | E46: Usage YTD % | F46: Due
A47: {=Categories} -> Salaries | B47: =SUM(EMP:Other!E5) -> 10700 | C47: =SUM(EMP:Other!K5) -> 0 | D47: =SUM(EMP:Other!H5) -> 0 | E47: =IFERROR(C47/B47,0) -> 0 | F47: =IF(TACA_ERROR,"TACA Error",IF(E47>1.1,"Error",D47)) -> 0
A48: Benefits & Taxes | B48: =SUM(EMP:Other!E6) -> 7700 | C48: =SUM(EMP:Other!K6) -> 0 | D48: =SUM(EMP:Other!H6) -> 0 | E48: =IFERROR(C48/B48,0) -> 0 | F48: =IF(TACA_ERROR,"TACA Error",IF(E48>1.1,"Error",D48)) -> 0
A49: Professional Fee / Grant & Award | B49: =SUM(EMP:Other!E7) -> 9100 | C49: =SUM(EMP:Other!K7) -> 0 | D49: =SUM(EMP:Other!H7) -> 0 | E49: =IFERROR(C49/B49,0) -> 0 | F49: =IF(TACA_ERROR,"TACA Error",IF(E49>1.1,"Error",D49)) -> 0
A50: Supplies | B50: =SUM(EMP:Other!E8) -> 7100 | C50: =SUM(EMP:Other!K8) -> 0 | D50: =SUM(EMP:Other!H8) -> 0 | E50: =IFERROR(C50/B50,0) -> 0 | F50: =IF(TACA_ERROR,"TACA Error",IF(E50>1.1,"Error",D50)) -> 0
...

Sheet EMP
A1: 1 | B1: =INDEX(Domains,A1,3) -> Employment
B3: Domain Summary | C3: Available Funding | G3: ="Monthly Expenditures - " & TEXT(InvoiceMonth,"mmmm yyyy") -> Monthly Expenditures - October 2019 | J3: Year to Date Expenditures | N3: Unused | P3: Next FFY
C4: Budget | D4: Modifications | E4: Carryover | F4: Total | G4: Current | H4: Carryover | I4: Combined | J4: Current | K4: Carryover | L4: Combined | N4: Carryover | P4: Carryover
B5: {=Categories} -> Salaries | C5: {=INDEX(budgetCurrent,,$A$1)} -> 0 | D5: =SUM(C46:INDEX(C46:N46,IndexMonth)) -> 0 | E5: {=INDEX(budgetRollover,,$A$1)} -> 900 | F5: =C5+E5+D5 -> 900 | G5: =I5-H5 -> 0 | H5: =MIN(I5,MAX(0,E5-L5+I5)) -> 0 | I5: {=INDEX(C26:N40,,IndexMonth)} -> 0 | J5: =L5-K5 -> 0 | K5: =MIN(E5,L5) -> 0 | L5: =SUM(C26:INDEX(C26:N26,IndexMonth)) -> 0 | N5: =E5-K5 -> 900 | P5: =MAX(0,SUM(C5:D5)-J5) -> 0
B6: Benefits & Taxes | C6: 8000 | D6: =SUM(C47:INDEX(C47:N47,IndexMonth)) -> 0 | E6: 0 | F6: =C6+E6+D6 -> 8000 | G6: =I6-H6 -> 0 | H6: =MIN(I6,MAX(0,E6-L6+I6)) -> 0 | I6: 0 | J6: =L6-K6 -> 0 | K6: =MIN(E6,L6) -> 0 | L6: =SUM(C27:INDEX(C27:N27,IndexMonth)) -> 0 | N6: =E6-K6 -> 0 | P6: =MAX(0,SUM(C6:D6)-J6) -> 8000
B7: Professional Fee / Grant & Award | C7: 9000 | D7: =SUM(C48:INDEX(C48:N48,IndexMonth)) -> 0 | E7: 1600 | F7: =C7+E7+D7 -> 10600 | G7: =I7-H7 -> 0 | H7: =MIN(I7,MAX(0,E7-L7+I7)) -> 0 | I7: 0 | J7: =L7-K7 -> 0 | K7: =MIN(E7,L7) -> 0 | L7: =SUM(C28:INDEX(C28:N28,IndexMonth)) -> 0 | N7: =E7-K7 -> 1600 | P7: =MAX(0,SUM(C7:D7)-J7) -> 9000
B8: Supplies | C8: 10000 | D8: =SUM(C49:INDEX(C49:N49,IndexMonth)) -> 0 | E8: 900 | F8: =C8+E8+D8 -> 10900 | G8: =I8-H8 -> 0 | H8: =MIN(I8,MAX(0,E8-L8+I8)) -> 0 | I8: 0 | J8: =L8-K8 -> 0 | K8: =MIN(E8,L8) -> 0 | L8: =SUM(C29:INDEX(C29:N29,IndexMonth)) -> 0 | N8: =E8-K8 -> 900 | P8: =MAX(0,SUM(C8:D8)-J8) -> 10000
B9: Telephone | C9: 10000 | D9: =SUM(C50:INDEX(C50:N50,IndexMonth)) -> 0 | E9: 1200 | F9: =C9+E9+D9 -> 11200 | G9: =I9-H9 -> 0 | H9: =MIN(I9,MAX(0,E9-L9+I9)) -> 0 | I9: 0 | J9: =L9-K9 -> 0 | K9: =MIN(E9,L9) -> 0 | L9: =SUM(C30:INDEX(C30:N30,IndexMonth)) -> 0 | N9: =E9-K9 -> 1200 | P9: =MAX(0,SUM(C9:D9)-J9) -> 10000
B10: Postage & Shipping | C10: 3000 | D10: =SUM(C51:INDEX(C51:N51,IndexMonth)) -> 0 | E10: 1400 | F10: =C10+E10+D10 -> 4400 | G10: =I10-H10 -> 0 | H10: =MIN(I10,MAX(0,E10-L10+I10)) -> 0 | I10: 0 | J10: =L10-K10 -> 0 | K10: =MIN(E10,L10) -> 0 | L10: =SUM(C31:INDEX(C31:N31,IndexMonth)) -> 0 | N10: =E10-K10 -> 1400 | P10: =MAX(0,SUM(C10:D10)-J10) -> 3000
B11: Occupancy | C11: 9000 | D11: =SUM(C52:INDEX(C52:N52,IndexMonth)) -> 0 | E11: 0 | F11: =C11+E11+D11 -> 9000 | G11: =I11-H11 -> 0 | H11: =MIN(I11,MAX(0,E11-L11+I11)) -> 0 | I11: 0 | J11: =L11-K11 -> 0 | K11: =MIN(E11,L11) -> 0 | L11: =SUM(C32:INDEX(C32:N32,IndexMonth)) -> 0 | N11: =E11-K11 -> 0 | P11: =MAX(0,SUM(C11:D11)-J11) -> 9000
B12: Equipment Rental & Maintenance | C12: 12000 | D12: =SUM(C53:INDEX(C53:N53,IndexMonth)) -> 0 | E12: 1600 | F12: =C12+E12+D12 -> 13600 | G12: =I12-H12 -> 0 | H12: =MIN(I12,MAX(0,E12-L12+I12)) -> 0 | I12: 0 | J12: =L12-K12 -> 0 | K12: =MIN(E12,L12) -> 0 | L12: =SUM(C33:INDEX(C33:N33,IndexMonth)) -> 0 | N12: =E12-K12 -> 1600 | P12: =MAX(0,SUM(C12:D12)-J12) -> 12000
B13: Printing & Publications | C13: 12000 | D13: =SUM(C54:INDEX(C54:N54,IndexMonth)) -> 0 | E13: 0 | F13: =C13+E13+D13 -> 12000 | G13: =I13-H13 -> 0 | H13: =MIN(I13,MAX(0,E13-L13+I13)) -> 0 | I13: 0 | J13: =L13-K13 -> 0 | K13: =MIN(E13,L13) -> 0 | L13: =SUM(C34:INDEX(C34:N34,IndexMonth)) -> 0 | N13: =E13-K13 -> 0 | P13: =MAX(0,SUM(C13:D13)-J13) -> 12000
B14: Travel / Conferences & Meetings | C14: 12000 | D14: =SUM(C55:INDEX(C55:N55,IndexMonth)) -> 0 | E14: 1700 | F14: =C14+E14+D14 -> 13700 | G14: =I14-H14 -> 0 | H14: =MIN(I14,MAX(0,E14-L14+I14)) -> 0 | I14: 0 | J14: =L14-K14 -> 0 | K14: =MIN(E14,L14) -> 0 | L14: =SUM(C35:INDEX(C35:N35,IndexMonth)) -> 0 | N14: =E14-K14 -> 1700 | P14: =MAX(0,SUM(C14:D14)-J14) -> 12000
B15: Insurance | C15: 13000 | D15: =SUM(C56:INDEX(C56:N56,IndexMonth)) -> 0 | E15: 0 | F15: =C15+E15+D15 -> 13000 | G15: =I15-H15 -> 0 | H15: =MIN(I15,MAX(0,E15-L15+I15)) -> 0 | I15: 0 | J15: =L15-K15 -> 0 | K15: =MIN(E15,L15) -> 0 | L15: =SUM(C36:INDEX(C36:N36,IndexMonth)) -> 0 | N15: =E15-K15 -> 0 | P15: =MAX(0,SUM(C15:D15)-J15) -> 13000
B16: Specific Assistance to Individuals | C16: 5000 | D16: =SUM(C57:INDEX(C57:N57,IndexMonth)) -> 0 | E16: 1400 | F16: =C16+E16+D16 -> 6400 | G16: =I16-H16 -> 0 | H16: =MIN(I16,MAX(0,E16-L16+I16)) -> 0 | I16: 0 | J16: =L16-K16 -> 0 | K16: =MIN(E16,L16) -> 0 | L16: =SUM(C37:INDEX(C37:N37,IndexMonth)) -> 0 | N16: =E16-K16 -> 1400 | P16: =MAX(0,SUM(C16:D16)-J16) -> 5000
B17: Depreciation | C17: 5000 | D17: =SUM(C58:INDEX(C58:N58,IndexMonth)) -> 0 | E17: 0 | F17: =C17+E17+D17 -> 5000 | G17: =I17-H17 -> 0 | H17: =MIN(I17,MAX(0,E17-L17+I17)) -> 0 | I17: 0 | J17: =L17-K17 -> 0 | K17: =MIN(E17,L17) -> 0 | L17: =SUM(C38:INDEX(C38:N38,IndexMonth)) -> 0 | N17: =E17-K17 -> 0 | P17: =MAX(0,SUM(C17:D17)-J17) -> 5000
... B19: Indirect Cost / Adm. Exp. / M&G | C19: 8000 | D19: =SUM(C60:INDEX(C60:N60,IndexMonth)) -> 0 | E19: 1900 | F19: =C19+E19+D19 -> 9900 | G19: =I19-H19 -> 0 | H19: =MIN(I19,MAX(0,E19-L19+I19)) -> 0 | I19: 0 | J19: =L19-K19 -> 0 | K19: =MIN(E19,L19) -> 0 | L19: =SUM(C40:INDEX(C40:N40,IndexMonth)) -> 0 | N19: =E19-K19 -> 1900 | P19: =MAX(0,SUM(C19:D19)-J19) -> 8000
B20: Total | C20: =SUM(C5:C19) -> 122000 | D20: =SUM(D5:D19) -> 0 | E20: =SUM(E5:E19) -> 14000 | F20: =SUM(F5:F19) -> 136000 | G20: =SUM(G5:G19) -> 0 | H20: =SUM(H5:H19) -> 0 | I20: =SUM(I5:I19) -> 0 | J20: =SUM(J5:J19) -> 0 | ... L20: =SUM(L5:L19) -> 0 | N20: =SUM(N5:N19) -> 14000 | P20: =SUM(P5:P19) -> 122000
B24: Expenditures | C24: {=luDates} -> 43739 | D24: 43770 | E24: 43800 | F24: 43831 | G24: 43862 | H24: 43891 | I24: 43922 | J24: 43952 | K24: 43983 | L24: 44013 | M24: 44044 | N24: 44075 | P24: YTD Total
B26: {=Categories} -> Salaries | O26: =IFERROR((12*J5)/(IndexMonth*SUM(C5:D5)),0) -> 0 | P26: =SUM(C26:INDEX(C26:N26,IndexMonth)) -> 0
B27: Benefits & Taxes | O27: =IFERROR((12*J6)/(IndexMonth*SUM(C6:D6)),0) -> 0 | P27: =SUM(C27:INDEX(C27:N27,IndexMonth)) -> 0
B28: Professional Fee / Grant & Award | O28: =IFERROR((12*J7)/(IndexMonth*SUM(C7:D7)),0) -> 0 | P28: =SUM(C28:INDEX(C28:N28,IndexMonth)) -> 0
B29: Supplies | O29: =IFERROR((12*J8)/(IndexMonth*SUM(C8:D8)),0) -> 0 | P29: =SUM(C29:INDEX(C29:N29,IndexMonth)) -> 0
B30: Telephone | O30: =IFERROR((12*J9)/(IndexMonth*SUM(C9:D9)),0) -> 0 | P30: =SUM(C30:INDEX(C30:N30,IndexMonth)) -> 0
B31: Postage & Shipping | O31: =IFERROR((12*J10)/(IndexMonth*SUM(C10:D10)),0) -> 0 | P31: =SUM(C31:INDEX(C31:N31,IndexMonth)) -> 0
B32: Occupancy | O32: =IFERROR((12*J11)/(IndexMonth*SUM(C11:D11)),0) -> 0 | P32: =SUM(C32:INDEX(C32:N32,IndexMonth)) -> 0
B33: Equipment Rental & Maintenance | O33: =IFERROR((12*J12)/(IndexMonth*SUM(C12:D12)),0) -> 0 | P33: =SUM(C33:INDEX(C33:N33,IndexMonth)) -> 0
B34: Printing & Publications | O34: =IFERROR((12*J13)/(IndexMonth*SUM(C13:D13)),0) -> 0 | P34: =SUM(C34:INDEX(C34:N34,IndexMonth)) -> 0
B35: Travel / Conferences & Meetings | O35: =IFERROR((12*J14)/(IndexMonth*SUM(C14:D14)),0) -> 0 | P35: =SUM(C35:INDEX(C35:N35,IndexMonth)) -> 0
B36: Insurance | O36: =IFERROR((12*J15)/(IndexMonth*SUM(C15:D15)),0) -> 0 | P36: =SUM(C36:INDEX(C36:N36,IndexMonth)) -> 0
B37: Specific Assistance to Individuals | O37: =IFERROR((12*J16)/(IndexMonth*SUM(C16:D16)),0) -> 0 | P37: =SUM(C37:INDEX(C37:N37,IndexMonth)) -> 0
B38: Depreciation | O38: =IFERROR((12*J17)/(IndexMonth*SUM(C17:D17)),0) -> 0 | P38: =SUM(C38:INDEX(C38:N38,IndexMonth)) -> 0
... B40: Indirect Cost / Adm. Exp. / M&G | O40: =IFERROR((12*J19)/(IndexMonth*SUM(C19:D19)),0) -> 0 | P40: =SUM(C40:INDEX(C40:N40,IndexMonth)) -> 0
B41: Total | C41: =SUM(C26:C40) -> 0 | D41: =SUM(D26:D40) -> 0 | E41: =SUM(E26:E40) -> 0 | F41: =SUM(F26:F40) -> 0 | G41: =SUM(G26:G40) -> 0 | H41: =SUM(H26:H40) -> 0 | I41: =SUM(I26:I40) -> 0 | J41: =SUM(J26:J40) -> 0 | ... N41: =SUM(N26:N40) -> 0 | P41: =SUM(P26:P40) -> 0
C42: =IF(M43,">> Current trend of expenditures may exceed the allocated budget in certain categories. <<","") | M42: =M43*2 -> 0 | N42: =IF(M43, "may exceed 100% of budget","")
M43: =COUNTIF(O26:O40,">1") -> 0 | N43: =IF(M43,"may exceed 110% of budget","")
B44: Budget Modifications | C44: {=luDates} -> 43739 | D44: 43770 | E44: 43800 | F44: 43831 | G44: 43862 | H44: 43891 | I44: 43922 | J44: 43952 | K44: 43983 | L44: 44013 | M44: 44044 | N44: 44075 | P44: Total
B46: {=Categories} -> Salaries | P46: =SUM(C46:INDEX(C46:N46,IndexMonth)) -> 0
B47: Benefits & Taxes | P47: =SUM(C47:INDEX(C47:N47,IndexMonth)) -> 0
B48: Professional Fee / Grant & Award | P48: =SUM(C48:INDEX(C48:N48,IndexMonth)) -> 0
...

Sheet ED and CD
A1: 2 | B1: =INDEX(Domains,A1,3) -> Education and Cognitive Development
B3: Domain Summary | C3: Available Funding | G3: ="Monthly Expenditures - " & TEXT(InvoiceMonth,"mmmm yyyy") -> Monthly Expenditures - October 2019 | J3: Year to Date Expenditures | N3: Unused | P3: Next FFY
C4: Budget | D4: Modifications | E4: Carryover | F4: Total | G4: Current | H4: Carryover | I4: Combined | J4: Current | K4: Carryover | L4: Combined | N4: Carryover | P4: Carryover
B5: {=Categories} -> Salaries | C5: {=INDEX(budgetCurrent,,$A$1)} -> 0 | D5: =SUM(C46:INDEX(C46:N46,IndexMonth)) -> 0 | E5: {=INDEX(budgetRollover,,$A$1)} -> 1600 | F5: =C5+E5+D5 -> 1600 | G5: =I5-H5 -> 0 | H5: =MIN(I5,MAX(0,E5-L5+I5)) -> 0 | I5: {=INDEX(C26:N40,,IndexMonth)} -> 0 | J5: =L5-K5 -> 0 | K5: =MIN(E5,L5) -> 0 | L5: =SUM(C26:INDEX(C26:N26,IndexMonth)) -> 0 | N5: =E5-K5 -> 1600 | P5: =MAX(0,SUM(C5:D5)-J5) -> 0
B6: Benefits & Taxes | C6: 2000 | D6: =SUM(C47:INDEX(C47:N47,IndexMonth)) -> 0 | E6: 2100 | F6: =C6+E6+D6 -> 4100 | G6: =I6-H6 -> 0 | H6: =MIN(I6,MAX(0,E6-L6+I6)) -> 0 | I6: 0 | J6: =L6-K6 -> 0 | K6: =MIN(E6,L6) -> 0 | L6: =SUM(C27:INDEX(C27:N27,IndexMonth)) -> 0 | N6: =E6-K6 -> 2100 | P6: =MAX(0,SUM(C6:D6)-J6) -> 2000
B7: Professional Fee / Grant & Award | C7: 6000 | D7: =SUM(C48:INDEX(C48:N48,IndexMonth)) -> 0 | E7: 500 | F7: =C7+E7+D7 -> 6500 | G7: =I7-H7 -> 0 | H7: =MIN(I7,MAX(0,E7-L7+I7)) -> 0 | I7: 0 | J7: =L7-K7 -> 0 | K7: =MIN(E7,L7) -> 0 | L7: =SUM(C28:INDEX(C28:N28,IndexMonth)) -> 0 | N7: =E7-K7 -> 500 | P7: =MAX(0,SUM(C7:D7)-J7) -> 6000
B8: Supplies | C8: 9000 | D8: =SUM(C49:INDEX(C49:N49,IndexMonth)) -> 0 | E8: 0 | F8: =C8+E8+D8 -> 9000 | G8: =I8-H8 -> 0 | H8: =MIN(I8,MAX(0,E8-L8+I8)) -> 0 | I8: 0 | J8: =L8-K8 -> 0 | K8: =MIN(E8,L8) -> 0 | L8: =SUM(C29:INDEX(C29:N29,IndexMonth)) -> 0 | N8: =E8-K8 -> 0 | P8: =MAX(0,SUM(C8:D8)-J8) -> 9000
B9: Telephone | C9: 15000 | D9: =SUM(C50:INDEX(C50:N50,IndexMonth)) -> 0 | E9: 0 | F9: =C9+E9+D9 -> 15000 | G9: =I9-H9 -> 0 | H9: =MIN(I9,MAX(0,E9-L9+I9)) -> 0 | I9: 0 | J9: =L9-K9 -> 0 | K9: =MIN(E9,L9) -> 0 | L9: =SUM(C30:INDEX(C30:N30,IndexMonth)) -> 0 | N9: =E9-K9 -> 0 | P9: =MAX(0,SUM(C9:D9)-J9) -> 15000
B10: Postage & Shipping | C10: 7000 | D10: =SUM(C51:INDEX(C51:N51,IndexMonth)) -> 0 | E10: 1300 | F10: =C10+E10+D10 -> 8300 | G10: =I10-H10 -> 0 | H10: =MIN(I10,MAX(0,E10-L10+I10)) -> 0 | I10: 0 | J10: =L10-K10 -> 0 | K10: =MIN(E10,L10) -> 0 | L10: =SUM(C31:INDEX(C31:N31,IndexMonth)) -> 0 | N10: =E10-K10 -> 1300 | P10: =MAX(0,SUM(C10:D10)-J10) -> 7000
B11: Occupancy | C11: 7000 | D11: =SUM(C52:INDEX(C52:N52,IndexMonth)) -> 0 | E11: 500 | F11: =C11+E11+D11 -> 7500 | G11: =I11-H11 -> 0 | H11: =MIN(I11,MAX(0,E11-L11+I11)) -> 0 | I11: 0 | J11: =L11-K11 -> 0 | K11: =MIN(E11,L11) -> 0 | L11: =SUM(C32:INDEX(C32:N32,IndexMonth)) -> 0 | N11: =E11-K11 -> 500 | P11: =MAX(0,SUM(C11:D11)-J11) -> 7000
B12: Equipment Rental & Maintenance | C12: 12000 | D12: =SUM(C53:INDEX(C53:N53,IndexMonth)) -> 0 | E12: 0 | F12: =C12+E12+D12 -> 12000 | G12: =I12-H12 -> 0 | H12: =MIN(I12,MAX(0,E12-L12+I12)) -> 0 | I12: 0 | J12: =L12-K12 -> 0 | K12: =MIN(E12,L12) -> 0 | L12: =SUM(C33:INDEX(C33:N33,IndexMonth)) -> 0 | N12: =E12-K12 -> 0 | P12: =MAX(0,SUM(C12:D12)-J12) -> 12000
B13: Printing & Publications | C13: 10000 | D13: =SUM(C54:INDEX(C54:N54,IndexMonth)) -> 0 | E13: 0 | F13: =C13+E13+D13 -> 10000 | G13: =I13-H13 -> 0 | H13: =MIN(I13,MAX(0,E13-L13+I13)) -> 0 | I13: 0 | J13: =L13-K13 -> 0 | K13: =MIN(E13,L13) -> 0 | L13: =SUM(C34:INDEX(C34:N34,IndexMonth)) -> 0 | N13: =E13-K13 -> 0 | P13: =MAX(0,SUM(C13:D13)-J13) -> 10000
B14: Travel / Conferences & Meetings | C14: 13000 | D14: =SUM(C55:INDEX(C55:N55,IndexMonth)) -> 0 | E14: 1000 | F14: =C14+E14+D14 -> 14000 | G14: =I14-H14 -> 0 | H14: =MIN(I14,MAX(0,E14-L14+I14)) -> 0 | I14: 0 | J14: =L14-K14 -> 0 | K14: =MIN(E14,L14) -> 0 | L14: =SUM(C35:INDEX(C35:N35,IndexMonth)) -> 0 | N14: =E14-K14 -> 1000 | P14: =MAX(0,SUM(C14:D14)-J14) -> 13000
B15: Insurance | C15: 6000 | D15: =SUM(C56:INDEX(C56:N56,IndexMonth)) -> 0 | E15: 0 | F15: =C15+E15+D15 -> 6000 | G15: =I15-H15 -> 0 | H15: =MIN(I15,MAX(0,E15-L15+I15)) -> 0 | I15: 0 | J15: =L15-K15 -> 0 | K15: =MIN(E15,L15) -> 0 | L15: =SUM(C36:INDEX(C36:N36,IndexMonth)) -> 0 | N15: =E15-K15 -> 0 | P15: =MAX(0,SUM(C15:D15)-J15) -> 6000
B16: Specific Assistance to Individuals | C16: 5000 | D16: =SUM(C57:INDEX(C57:N57,IndexMonth)) -> 0 | E16: 600 | F16: =C16+E16+D16 -> 5600 | G16: =I16-H16 -> 0 | H16: =MIN(I16,MAX(0,E16-L16+I16)) -> 0 | I16: 0 | J16: =L16-K16 -> 0 | K16: =MIN(E16,L16) -> 0 | L16: =SUM(C37:INDEX(C37:N37,IndexMonth)) -> 0 | N16: =E16-K16 -> 600 | P16: =MAX(0,SUM(C16:D16)-J16) -> 5000
B17: Depreciation | C17: 8000 | D17: =SUM(C58:INDEX(C58:N58,IndexMonth)) -> 0 | E17: 0 | F17: =C17+E17+D17 -> 8000 | G17: =I17-H17 -> 0 | H17: =MIN(I17,MAX(0,E17-L17+I17)) -> 0 | I17: 0 | J17: =L17-K17 -> 0 | K17: =MIN(E17,L17) -> 0 | L17: =SUM(C38:INDEX(C38:N38,IndexMonth)) -> 0 | N17: =E17-K17 -> 0 | P17: =MAX(0,SUM(C17:D17)-J17) -> 8000
... B19: Indirect Cost / Adm. Exp. / M&G | C19: 12000 | D19: =SUM(C60:INDEX(C60:N60,IndexMonth)) -> 0 | E19: 600 | F19: =C19+E19+D19 -> 12600 | G19: =I19-H19 -> 0 | H19: =MIN(I19,MAX(0,E19-L19+I19)) -> 0 | I19: 0 | J19: =L19-K19 -> 0 | K19: =MIN(E19,L19) -> 0 | L19: =SUM(C40:INDEX(C40:N40,IndexMonth)) -> 0 | N19: =E19-K19 -> 600 | P19: =MAX(0,SUM(C19:D19)-J19) -> 12000
B20: Total | C20: =SUM(C5:C19) -> 123000 | D20: =SUM(D5:D19) -> 0 | E20: =SUM(E5:E19) -> 9800 | F20: =SUM(F5:F19) -> 132800 | G20: =SUM(G5:G19) -> 0 | H20: =SUM(H5:H19) -> 0 | I20: =SUM(I5:I19) -> 0 | J20: =SUM(J5:J19) -> 0 | ... L20: =SUM(L5:L19) -> 0 | N20: =SUM(N5:N19) -> 9800 | P20: =SUM(P5:P19) -> 123000
B24: Expenditures | C24: {=luDates} -> 43739 | D24: 43770 | E24: 43800 | F24: 43831 | G24: 43862 | H24: 43891 | I24: 43922 | J24: 43952 | K24: 43983 | L24: 44013 | M24: 44044 | N24: 44075 | P24: YTD Total
B26: {=Categories} -> Salaries | O26: =IFERROR((12*J5)/(IndexMonth*SUM(C5:D5)),0) -> 0 | P26: =SUM(C26:INDEX(C26:N26,IndexMonth)) -> 0
B27: Benefits & Taxes | O27: =IFERROR((12*J6)/(IndexMonth*SUM(C6:D6)),0) -> 0 | P27: =SUM(C27:INDEX(C27:N27,IndexMonth)) -> 0
B28: Professional Fee / Grant & Award | O28: =IFERROR((12*J7)/(IndexMonth*SUM(C7:D7)),0) -> 0 | P28: =SUM(C28:INDEX(C28:N28,IndexMonth)) -> 0
B29: Supplies | O29: =IFERROR((12*J8)/(IndexMonth*SUM(C8:D8)),0) -> 0 | P29: =SUM(C29:INDEX(C29:N29,IndexMonth)) -> 0
B30: Telephone | O30: =IFERROR((12*J9)/(IndexMonth*SUM(C9:D9)),0) -> 0 | P30: =SUM(C30:INDEX(C30:N30,IndexMonth)) -> 0
B31: Postage & Shipping | O31: =IFERROR((12*J10)/(IndexMonth*SUM(C10:D10)),0) -> 0 | P31: =SUM(C31:INDEX(C31:N31,IndexMonth)) -> 0
B32: Occupancy | O32: =IFERROR((12*J11)/(IndexMonth*SUM(C11:D11)),0) -> 0 | P32: =SUM(C32:INDEX(C32:N32,IndexMonth)) -> 0
B33: Equipment Rental & Maintenance | O33: =IFERROR((12*J12)/(IndexMonth*SUM(C12:D12)),0) -> 0 | P33: =SUM(C33:INDEX(C33:N33,IndexMonth)) -> 0
B34: Printing & Publications | O34: =IFERROR((12*J13)/(IndexMonth*SUM(C13:D13)),0) -> 0 | P34: =SUM(C34:INDEX(C34:N34,IndexMonth)) -> 0
B35: Travel / Conferences & Meetings | O35: =IFERROR((12*J14)/(IndexMonth*SUM(C14:D14)),0) -> 0 | P35: =SUM(C35:INDEX(C35:N35,IndexMonth)) -> 0
B36: Insurance | O36: =IFERROR((12*J15)/(IndexMonth*SUM(C15:D15)),0) -> 0 | P36: =SUM(C36:INDEX(C36:N36,IndexMonth)) -> 0
B37: Specific Assistance to Individuals | O37: =IFERROR((12*J16)/(IndexMonth*SUM(C16:D16)),0) -> 0 | P37: =SUM(C37:INDEX(C37:N37,IndexMonth)) -> 0
B38: Depreciation | O38: =IFERROR((12*J17)/(IndexMonth*SUM(C17:D17)),0) -> 0 | P38: =SUM(C38:INDEX(C38:N38,IndexMonth)) -> 0
... B40: Indirect Cost / Adm. Exp. / M&G | O40: =IFERROR((12*J19)/(IndexMonth*SUM(C19:D19)),0) -> 0 | P40: =SUM(C40:INDEX(C40:N40,IndexMonth)) -> 0
B41: Total | C41: =SUM(C26:C40) -> 0 | D41: =SUM(D26:D40) -> 0 | E41: =SUM(E26:E40) -> 0 | F41: =SUM(F26:F40) -> 0 | G41: =SUM(G26:G40) -> 0 | H41: =SUM(H26:H40) -> 0 | I41: =SUM(I26:I40) -> 0 | J41: =SUM(J26:J40) -> 0 | ... N41: =SUM(N26:N40) -> 0 | P41: =SUM(P26:P40) -> 0
C42: =IF(M43,">> Current trend of expenditures may exceed the allocated budget in certain categories. <<","") | M42: =M43*2 -> 0 | N42: =IF(M43, "may exceed 100% of budget","")
M43: =COUNTIF(O26:O40,">1") -> 0 | N43: =IF(M43,"may exceed 110% of budget","")
B44: Budget Modifications | C44: {=luDates} -> 43739 | D44: 43770 | E44: 43800 | F44: 43831 | G44: 43862 | H44: 43891 | I44: 43922 | J44: 43952 | K44: 43983 | L44: 44013 | M44: 44044 | N44: 44075 | P44: Total
B46: {=Categories} -> Salaries | P46: =SUM(C46:INDEX(C46:N46,IndexMonth)) -> 0
B47: Benefits & Taxes | P47: =SUM(C47:INDEX(C47:N47,IndexMonth)) -> 0
B48: Professional Fee / Grant & Award | P48: =SUM(C48:INDEX(C48:N48,IndexMonth)) -> 0
...

Sheet II and AB
A1: 3 | B1: =INDEX(Domains,A1,3) -> Income, Infrastructure, and Asset Building
B3: Domain Summary | C3: Available Funding | G3: ="Monthly Expenditures - " & TEXT(InvoiceMonth,"mmmm yyyy") -> Monthly Expenditures - October 2019 | J3: Year to Date Expenditures | N3: Unused | P3: Next FFY
C4: Budget | D4: Modifications | E4: Carryover | F4: Total | G4: Current | H4: Carryover | I4: Combined | J4: Current | K4: Carryover | L4: Combined | N4: Carryover | P4: Carryover
B5: {=Categories} -> Salaries | C5: {=INDEX(budgetCurrent,,$A$1)} -> 0 | D5: =SUM(C46:INDEX(C46:N46,IndexMonth)) -> 0 | E5: {=INDEX(budgetRollover,,$A$1)} -> 1000 | F5: =C5+E5+D5 -> 1000 | G5: =I5-H5 -> 0 | H5: =MIN(I5,MAX(0,E5-L5+I5)) -> 0 | I5: {=INDEX(C26:N40,,IndexMonth)} -> 0 | J5: =L5-K5 -> 0 | K5: =MIN(E5,L5) -> 0 | L5: =SUM(C26:INDEX(C26:N26,IndexMonth)) -> 0 | N5: =E5-K5 -> 1000 | P5: =MAX(0,SUM(C5:D5)-J5) -> 0
B6: Benefits & Taxes | C6: 12000 | D6: =SUM(C47:INDEX(C47:N47,IndexMonth)) -> 0 | E6: 1200 | F6: =C6+E6+D6 -> 13200 | G6: =I6-H6 -> 0 | H6: =MIN(I6,MAX(0,E6-L6+I6)) -> 0 | I6: 0 | J6: =L6-K6 -> 0 | K6: =MIN(E6,L6) -> 0 | L6: =SUM(C27:INDEX(C27:N27,IndexMonth)) -> 0 | N6: =E6-K6 -> 1200 | P6: =MAX(0,SUM(C6:D6)-J6) -> 12000
B7: Professional Fee / Grant & Award | C7: 12000 | D7: =SUM(C48:INDEX(C48:N48,IndexMonth)) -> 0 | E7: 1800 | F7: =C7+E7+D7 -> 13800 | G7: =I7-H7 -> 0 | H7: =MIN(I7,MAX(0,E7-L7+I7)) -> 0 | I7: 0 | J7: =L7-K7 -> 0 | K7: =MIN(E7,L7) -> 0 | L7: =SUM(C28:INDEX(C28:N28,IndexMonth)) -> 0 | N7: =E7-K7 -> 1800 | P7: =MAX(0,SUM(C7:D7)-J7) -> 12000
B8: Supplies | C8: 4000 | D8: =SUM(C49:INDEX(C49:N49,IndexMonth)) -> 0 | E8: 1700 | F8: =C8+E8+D8 -> 5700 | G8: =I8-H8 -> 0 | H8: =MIN(I8,MAX(0,E8-L8+I8)) -> 0 | I8: 0 | J8: =L8-K8 -> 0 | K8: =MIN(E8,L8) -> 0 | L8: =SUM(C29:INDEX(C29:N29,IndexMonth)) -> 0 | N8: =E8-K8 -> 1700 | P8: =MAX(0,SUM(C8:D8)-J8) -> 4000
B9: Telephone | C9: 15000 | D9: =SUM(C50:INDEX(C50:N50,IndexMonth)) -> 0 | E9: 0 | F9: =C9+E9+D9 -> 15000 | G9: =I9-H9 -> 0 | H9: =MIN(I9,MAX(0,E9-L9+I9)) -> 0 | I9: 0 | J9: =L9-K9 -> 0 | K9: =MIN(E9,L9) -> 0 | L9: =SUM(C30:INDEX(C30:N30,IndexMonth)) -> 0 | N9: =E9-K9 -> 0 | P9: =MAX(0,SUM(C9:D9)-J9) -> 15000
B10: Postage & Shipping | C10: 7000 | D10: =SUM(C51:INDEX(C51:N51,IndexMonth)) -> 0 | E10: 1700 | F10: =C10+E10+D10 -> 8700 | G10: =I10-H10 -> 0 | H10: =MIN(I10,MAX(0,E10-L10+I10)) -> 0 | I10: 0 | J10: =L10-K10 -> 0 | K10: =MIN(E10,L10) -> 0 | L10: =SUM(C31:INDEX(C31:N31,IndexMonth)) -> 0 | N10: =E10-K10 -> 1700 | P10: =MAX(0,SUM(C10:D10)-J10) -> 7000
B11: Occupancy | C11: 11000 | D11: =SUM(C52:INDEX(C52:N52,IndexMonth)) -> 0 | E11: 0 | F11: =C11+E11+D11 -> 11000 | G11: =I11-H11 -> 0 | H11: =MIN(I11,MAX(0,E11-L11+I11)) -> 0 | I11: 0 | J11: =L11-K11 -> 0 | K11: =MIN(E11,L11) -> 0 | L11: =SUM(C32:INDEX(C32:N32,IndexMonth)) -> 0 | N11: =E11-K11 -> 0 | P11: =MAX(0,SUM(C11:D11)-J11) -> 11000
B12: Equipment Rental & Maintenance | C12: 11000 | D12: =SUM(C53:INDEX(C53:N53,IndexMonth)) -> 0 | E12: 0 | F12: =C12+E12+D12 -> 11000 | G12: =I12-H12 -> 0 | H12: =MIN(I12,MAX(0,E12-L12+I12)) -> 0 | I12: 0 | J12: =L12-K12 -> 0 | K12: =MIN(E12,L12) -> 0 | L12: =SUM(C33:INDEX(C33:N33,IndexMonth)) -> 0 | N12: =E12-K12 -> 0 | P12: =MAX(0,SUM(C12:D12)-J12) -> 11000
B13: Printing & Publications | C13: 13000 | D13: =SUM(C54:INDEX(C54:N54,IndexMonth)) -> 0 | E13: 2000 | F13: =C13+E13+D13 -> 15000 | G13: =I13-H13 -> 0 | H13: =MIN(I13,MAX(0,E13-L13+I13)) -> 0 | I13: 0 | J13: =L13-K13 -> 0 | K13: =MIN(E13,L13) -> 0 | L13: =SUM(C34:INDEX(C34:N34,IndexMonth)) -> 0 | N13: =E13-K13 -> 2000 | P13: =MAX(0,SUM(C13:D13)-J13) -> 13000
B14: Travel / Conferences & Meetings | C14: 12000 | D14: =SUM(C55:INDEX(C55:N55,IndexMonth)) -> 0 | E14: 1900 | F14: =C14+E14+D14 -> 13900 | G14: =I14-H14 -> 0 | H14: =MIN(I14,MAX(0,E14-L14+I14)) -> 0 | I14: 0 | J14: =L14-K14 -> 0 | K14: =MIN(E14,L14) -> 0 | L14: =SUM(C35:INDEX(C35:N35,IndexMonth)) -> 0 | N14: =E14-K14 -> 1900 | P14: =MAX(0,SUM(C14:D14)-J14) -> 12000
B15: Insurance | C15: 6000 | D15: =SUM(C56:INDEX(C56:N56,IndexMonth)) -> 0 | E15: 0 | F15: =C15+E15+D15 -> 6000 | G15: =I15-H15 -> 0 | H15: =MIN(I15,MAX(0,E15-L15+I15)) -> 0 | I15: 0 | J15: =L15-K15 -> 0 | K15: =MIN(E15,L15) -> 0 | L15: =SUM(C36:INDEX(C36:N36,IndexMonth)) -> 0 | N15: =E15-K15 -> 0 | P15: =MAX(0,SUM(C15:D15)-J15) -> 6000
B16: Specific Assistance to Individuals | C16: 4000 | D16: =SUM(C57:INDEX(C57:N57,IndexMonth)) -> 0 | E16: 1700 | F16: =C16+E16+D16 -> 5700 | G16: =I16-H16 -> 0 | H16: =MIN(I16,MAX(0,E16-L16+I16)) -> 0 | I16: 0 | J16: =L16-K16 -> 0 | K16: =MIN(E16,L16) -> 0 | L16: =SUM(C37:INDEX(C37:N37,IndexMonth)) -> 0 | N16: =E16-K16 -> 1700 | P16: =MAX(0,SUM(C16:D16)-J16) -> 4000
B17: Depreciation | C17: 13000 | D17: =SUM(C58:INDEX(C58:N58,IndexMonth)) -> 0 | E17: 2100 | F17: =C17+E17+D17 -> 15100 | G17: =I17-H17 -> 0 | H17: =MIN(I17,MAX(0,E17-L17+I17)) -> 0 | I17: 0 | J17: =L17-K17 -> 0 | K17: =MIN(E17,L17) -> 0 | L17: =SUM(C38:INDEX(C38:N38,IndexMonth)) -> 0 | N17: =E17-K17 -> 2100 | P17: =MAX(0,SUM(C17:D17)-J17) -> 13000
... B19: Indirect Cost / Adm. Exp. / M&G | C19: 2000 | D19: =SUM(C60:INDEX(C60:N60,IndexMonth)) -> 0 | E19: 0 | F19: =C19+E19+D19 -> 2000 | G19: =I19-H19 -> 0 | H19: =MIN(I19,MAX(0,E19-L19+I19)) -> 0 | I19: 0 | J19: =L19-K19 -> 0 | K19: =MIN(E19,L19) -> 0 | L19: =SUM(C40:INDEX(C40:N40,IndexMonth)) -> 0 | N19: =E19-K19 -> 0 | P19: =MAX(0,SUM(C19:D19)-J19) -> 2000
B20: Total | C20: =SUM(C5:C19) -> 131000 | D20: =SUM(D5:D19) -> 0 | E20: =SUM(E5:E19) -> 16900 | F20: =SUM(F5:F19) -> 147900 | G20: =SUM(G5:G19) -> 0 | H20: =SUM(H5:H19) -> 0 | I20: =SUM(I5:I19) -> 0 | J20: =SUM(J5:J19) -> 0 | ... L20: =SUM(L5:L19) -> 0 | N20: =SUM(N5:N19) -> 16900 | P20: =SUM(P5:P19) -> 131000
B24: Expenditures | C24: {=luDates} -> 43739 | D24: 43770 | E24: 43800 | F24: 43831 | G24: 43862 | H24: 43891 | I24: 43922 | J24: 43952 | K24: 43983 | L24: 44013 | M24: 44044 | N24: 44075 | P24: YTD Total
B26: {=Categories} -> Salaries | O26: =IFERROR((12*J5)/(IndexMonth*SUM(C5:D5)),0) -> 0 | P26: =SUM(C26:INDEX(C26:N26,IndexMonth)) -> 0
B27: Benefits & Taxes | O27: =IFERROR((12*J6)/(IndexMonth*SUM(C6:D6)),0) -> 0 | P27: =SUM(C27:INDEX(C27:N27,IndexMonth)) -> 0
B28: Professional Fee / Grant & Award | O28: =IFERROR((12*J7)/(IndexMonth*SUM(C7:D7)),0) -> 0 | P28: =SUM(C28:INDEX(C28:N28,IndexMonth)) -> 0
B29: Supplies | O29: =IFERROR((12*J8)/(IndexMonth*SUM(C8:D8)),0) -> 0 | P29: =SUM(C29:INDEX(C29:N29,IndexMonth)) -> 0
B30: Telephone | O30: =IFERROR((12*J9)/(IndexMonth*SUM(C9:D9)),0) -> 0 | P30: =SUM(C30:INDEX(C30:N30,IndexMonth)) -> 0
B31: Postage & Shipping | O31: =IFERROR((12*J10)/(IndexMonth*SUM(C10:D10)),0) -> 0 | P31: =SUM(C31:INDEX(C31:N31,IndexMonth)) -> 0
B32: Occupancy | O32: =IFERROR((12*J11)/(IndexMonth*SUM(C11:D11)),0) -> 0 | P32: =SUM(C32:INDEX(C32:N32,IndexMonth)) -> 0
B33: Equipment Rental & Maintenance | O33: =IFERROR((12*J12)/(IndexMonth*SUM(C12:D12)),0) -> 0 | P33: =SUM(C33:INDEX(C33:N33,IndexMonth)) -> 0
B34: Printing & Publications | O34: =IFERROR((12*J13)/(IndexMonth*SUM(C13:D13)),0) -> 0 | P34: =SUM(C34:INDEX(C34:N34,IndexMonth)) -> 0
B35: Travel / Conferences & Meetings | O35: =IFERROR((12*J14)/(IndexMonth*SUM(C14:D14)),0) -> 0 | P35: =SUM(C35:INDEX(C35:N35,IndexMonth)) -> 0
B36: Insurance | O36: =IFERROR((12*J15)/(IndexMonth*SUM(C15:D15)),0) -> 0 | P36: =SUM(C36:INDEX(C36:N36,IndexMonth)) -> 0
B37: Specific Assistance to Individuals | O37: =IFERROR((12*J16)/(IndexMonth*SUM(C16:D16)),0) -> 0 | P37: =SUM(C37:INDEX(C37:N37,IndexMonth)) -> 0
B38: Depreciation | O38: =IFERROR((12*J17)/(IndexMonth*SUM(C17:D17)),0) -> 0 | P38: =SUM(C38:INDEX(C38:N38,IndexMonth)) -> 0
... B40: Indirect Cost / Adm. Exp. / M&G | O40: =IFERROR((12*J19)/(IndexMonth*SUM(C19:D19)),0) -> 0 | P40: =SUM(C40:INDEX(C40:N40,IndexMonth)) -> 0
B41: Total | C41: =SUM(C26:C40) -> 0 | D41: =SUM(D26:D40) -> 0 | E41: =SUM(E26:E40) -> 0 | F41: =SUM(F26:F40) -> 0 | G41: =SUM(G26:G40) -> 0 | H41: =SUM(H26:H40) -> 0 | I41: =SUM(I26:I40) -> 0 | J41: =SUM(J26:J40) -> 0 | ... N41: =SUM(N26:N40) -> 0 | P41: =SUM(P26:P40) -> 0
C42: =IF(M43,">> Current trend of expenditures may exceed the allocated budget in certain categories. <<","") | M42: =M43*2 -> 0 | N42: =IF(M43, "may exceed 100% of budget","")
M43: =COUNTIF(O26:O40,">1") -> 0 | N43: =IF(M43,"may exceed 110% of budget","")
B44: Budget Modifications | C44: {=luDates} -> 43739 | D44: 43770 | E44: 43800 | F44: 43831 | G44: 43862 | H44: 43891 | I44: 43922 | J44: 43952 | K44: 43983 | L44: 44013 | M44: 44044 | N44: 44075 | P44: Total
B46: {=Categories} -> Salaries | P46: =SUM(C46:INDEX(C46:N46,IndexMonth)) -> 0
B47: Benefits & Taxes | P47: =SUM(C47:INDEX(C47:N47,IndexMonth)) -> 0
B48: Professional Fee / Grant & Award | P48: =SUM(C48:INDEX(C48:N48,IndexMonth)) -> 0
...

Sheet Housing
A1: 4 | B1: =INDEX(Domains,A1,3) -> Housing
B3: Domain Summary | C3: Available Funding | G3: ="Monthly Expenditures - " & TEXT(InvoiceMonth,"mmmm yyyy") -> Monthly Expenditures - October 2019 | J3: Year to Date Expenditures | N3: Unused | P3: Next FFY
C4: Budget | D4: Modifications | E4: Carryover | F4: Total | G4: Current | H4: Carryover | I4: Combined | J4: Current | K4: Carryover | L4: Combined | N4: Carryover | P4: Carryover
B5: {=Categories} -> Salaries | C5: {=INDEX(budgetCurrent,,$A$1)} -> 0 | D5: =SUM(C46:INDEX(C46:N46,IndexMonth)) -> 0 | E5: {=INDEX(budgetRollover,,$A$1)} -> 700 | F5: =C5+E5+D5 -> 700 | G5: =I5-H5 -> 0 | H5: =MIN(I5,MAX(0,E5-L5+I5)) -> 0 | I5: {=INDEX(C26:N40,,IndexMonth)} -> 0 | J5: =L5-K5 -> 0 | K5: =MIN(E5,L5) -> 0 | L5: =SUM(C26:INDEX(C26:N26,IndexMonth)) -> 0 | N5: =E5-K5 -> 700 | P5: =MAX(0,SUM(C5:D5)-J5) -> 0
B6: Benefits & Taxes | C6: 6000 | D6: =SUM(C47:INDEX(C47:N47,IndexMonth)) -> 0 | E6: 2100 | F6: =C6+E6+D6 -> 8100 | G6: =I6-H6 -> 0 | H6: =MIN(I6,MAX(0,E6-L6+I6)) -> 0 | I6: 0 | J6: =L6-K6 -> 0 | K6: =MIN(E6,L6) -> 0 | L6: =SUM(C27:INDEX(C27:N27,IndexMonth)) -> 0 | N6: =E6-K6 -> 2100 | P6: =MAX(0,SUM(C6:D6)-J6) -> 6000
B7: Professional Fee / Grant & Award | C7: 3000 | D7: =SUM(C48:INDEX(C48:N48,IndexMonth)) -> 0 | E7: 500 | F7: =C7+E7+D7 -> 3500 | G7: =I7-H7 -> 0 | H7: =MIN(I7,MAX(0,E7-L7+I7)) -> 0 | I7: 0 | J7: =L7-K7 -> 0 | K7: =MIN(E7,L7) -> 0 | L7: =SUM(C28:INDEX(C28:N28,IndexMonth)) -> 0 | N7: =E7-K7 -> 500 | P7: =MAX(0,SUM(C7:D7)-J7) -> 3000
B8: Supplies | C8: 5000 | D8: =SUM(C49:INDEX(C49:N49,IndexMonth)) -> 0 | E8: 0 | F8: =C8+E8+D8 -> 5000 | G8: =I8-H8 -> 0 | H8: =MIN(I8,MAX(0,E8-L8+I8)) -> 0 | I8: 0 | J8: =L8-K8 -> 0 | K8: =MIN(E8,L8) -> 0 | L8: =SUM(C29:INDEX(C29:N29,IndexMonth)) -> 0 | N8: =E8-K8 -> 0 | P8: =MAX(0,SUM(C8:D8)-J8) -> 5000
B9: Telephone | C9: 12000 | D9: =SUM(C50:INDEX(C50:N50,IndexMonth)) -> 0 | E9: 1800 | F9: =C9+E9+D9 -> 13800 | G9: =I9-H9 -> 0 | H9: =MIN(I9,MAX(0,E9-L9+I9)) -> 0 | I9: 0 | J9: =L9-K9 -> 0 | K9: =MIN(E9,L9) -> 0 | L9: =SUM(C30:INDEX(C30:N30,IndexMonth)) -> 0 | N9: =E9-K9 -> 1800 | P9: =MAX(0,SUM(C9:D9)-J9) -> 12000
B10: Postage & Shipping | C10: 6000 | D10: =SUM(C51:INDEX(C51:N51,IndexMonth)) -> 0 | E10: 800 | F10: =C10+E10+D10 -> 6800 | G10: =I10-H10 -> 0 | H10: =MIN(I10,MAX(0,E10-L10+I10)) -> 0 | I10: 0 | J10: =L10-K10 -> 0 | K10: =MIN(E10,L10) -> 0 | L10: =SUM(C31:INDEX(C31:N31,IndexMonth)) -> 0 | N10: =E10-K10 -> 800 | P10: =MAX(0,SUM(C10:D10)-J10) -> 6000
B11: Occupancy | C11: 2000 | D11: =SUM(C52:INDEX(C52:N52,IndexMonth)) -> 0 | E11: 0 | F11: =C11+E11+D11 -> 2000 | G11: =I11-H11 -> 0 | H11: =MIN(I11,MAX(0,E11-L11+I11)) -> 0 | I11: 0 | J11: =L11-K11 -> 0 | K11: =MIN(E11,L11) -> 0 | L11: =SUM(C32:INDEX(C32:N32,IndexMonth)) -> 0 | N11: =E11-K11 -> 0 | P11: =MAX(0,SUM(C11:D11)-J11) -> 2000
B12: Equipment Rental & Maintenance | C12: 11000 | D12: =SUM(C53:INDEX(C53:N53,IndexMonth)) -> 0 | E12: 0 | F12: =C12+E12+D12 -> 11000 | G12: =I12-H12 -> 0 | H12: =MIN(I12,MAX(0,E12-L12+I12)) -> 0 | I12: 0 | J12: =L12-K12 -> 0 | K12: =MIN(E12,L12) -> 0 | L12: =SUM(C33:INDEX(C33:N33,IndexMonth)) -> 0 | N12: =E12-K12 -> 0 | P12: =MAX(0,SUM(C12:D12)-J12) -> 11000
B13: Printing & Publications | C13: 15000 | D13: =SUM(C54:INDEX(C54:N54,IndexMonth)) -> 0 | E13: 700 | F13: =C13+E13+D13 -> 15700 | G13: =I13-H13 -> 0 | H13: =MIN(I13,MAX(0,E13-L13+I13)) -> 0 | I13: 0 | J13: =L13-K13 -> 0 | K13: =MIN(E13,L13) -> 0 | L13: =SUM(C34:INDEX(C34:N34,IndexMonth)) -> 0 | N13: =E13-K13 -> 700 | P13: =MAX(0,SUM(C13:D13)-J13) -> 15000
B14: Travel / Conferences & Meetings | C14: 9000 | D14: =SUM(C55:INDEX(C55:N55,IndexMonth)) -> 0 | E14: 1800 | F14: =C14+E14+D14 -> 10800 | G14: =I14-H14 -> 0 | H14: =MIN(I14,MAX(0,E14-L14+I14)) -> 0 | I14: 0 | J14: =L14-K14 -> 0 | K14: =MIN(E14,L14) -> 0 | L14: =SUM(C35:INDEX(C35:N35,IndexMonth)) -> 0 | N14: =E14-K14 -> 1800 | P14: =MAX(0,SUM(C14:D14)-J14) -> 9000
B15: Insurance | C15: 9000 | D15: =SUM(C56:INDEX(C56:N56,IndexMonth)) -> 0 | E15: 0 | F15: =C15+E15+D15 -> 9000 | G15: =I15-H15 -> 0 | H15: =MIN(I15,MAX(0,E15-L15+I15)) -> 0 | I15: 0 | J15: =L15-K15 -> 0 | K15: =MIN(E15,L15) -> 0 | L15: =SUM(C36:INDEX(C36:N36,IndexMonth)) -> 0 | N15: =E15-K15 -> 0 | P15: =MAX(0,SUM(C15:D15)-J15) -> 9000
B16: Specific Assistance to Individuals | C16: 13000 | D16: =SUM(C57:INDEX(C57:N57,IndexMonth)) -> 0 | E16: 0 | F16: =C16+E16+D16 -> 13000 | G16: =I16-H16 -> 0 | H16: =MIN(I16,MAX(0,E16-L16+I16)) -> 0 | I16: 0 | J16: =L16-K16 -> 0 | K16: =MIN(E16,L16) -> 0 | L16: =SUM(C37:INDEX(C37:N37,IndexMonth)) -> 0 | N16: =E16-K16 -> 0 | P16: =MAX(0,SUM(C16:D16)-J16) -> 13000
B17: Depreciation | C17: 7000 | D17: =SUM(C58:INDEX(C58:N58,IndexMonth)) -> 0 | E17: 1300 | F17: =C17+E17+D17 -> 8300 | G17: =I17-H17 -> 0 | H17: =MIN(I17,MAX(0,E17-L17+I17)) -> 0 | I17: 0 | J17: =L17-K17 -> 0 | K17: =MIN(E17,L17) -> 0 | L17: =SUM(C38:INDEX(C38:N38,IndexMonth)) -> 0 | N17: =E17-K17 -> 1300 | P17: =MAX(0,SUM(C17:D17)-J17) -> 7000
... B19: Indirect Cost / Adm. Exp. / M&G | C19: 5000 | D19: =SUM(C60:INDEX(C60:N60,IndexMonth)) -> 0 | E19: 700 | F19: =C19+E19+D19 -> 5700 | G19: =I19-H19 -> 0 | H19: =MIN(I19,MAX(0,E19-L19+I19)) -> 0 | I19: 0 | J19: =L19-K19 -> 0 | K19: =MIN(E19,L19) -> 0 | L19: =SUM(C40:INDEX(C40:N40,IndexMonth)) -> 0 | N19: =E19-K19 -> 700 | P19: =MAX(0,SUM(C19:D19)-J19) -> 5000
B20: Total | C20: =SUM(C5:C19) -> 112000 | D20: =SUM(D5:D19) -> 0 | E20: =SUM(E5:E19) -> 11200 | F20: =SUM(F5:F19) -> 123200 | G20: =SUM(G5:G19) -> 0 | H20: =SUM(H5:H19) -> 0 | I20: =SUM(I5:I19) -> 0 | J20: =SUM(J5:J19) -> 0 | ... L20: =SUM(L5:L19) -> 0 | N20: =SUM(N5:N19) -> 11200 | P20: =SUM(P5:P19) -> 112000
B24: Expenditures | C24: {=luDates} -> 43739 | D24: 43770 | E24: 43800 | F24: 43831 | G24: 43862 | H24: 43891 | I24: 43922 | J24: 43952 | K24: 43983 | L24: 44013 | M24: 44044 | N24: 44075 | P24: YTD Total
B26: {=Categories} -> Salaries | O26: =IFERROR((12*J5)/(IndexMonth*SUM(C5:D5)),0) -> 0 | P26: =SUM(C26:INDEX(C26:N26,IndexMonth)) -> 0
B27: Benefits & Taxes | O27: =IFERROR((12*J6)/(IndexMonth*SUM(C6:D6)),0) -> 0 | P27: =SUM(C27:INDEX(C27:N27,IndexMonth)) -> 0
B28: Professional Fee / Grant & Award | O28: =IFERROR((12*J7)/(IndexMonth*SUM(C7:D7)),0) -> 0 | P28: =SUM(C28:INDEX(C28:N28,IndexMonth)) -> 0
B29: Supplies | O29: =IFERROR((12*J8)/(IndexMonth*SUM(C8:D8)),0) -> 0 | P29: =SUM(C29:INDEX(C29:N29,IndexMonth)) -> 0
B30: Telephone | O30: =IFERROR((12*J9)/(IndexMonth*SUM(C9:D9)),0) -> 0 | P30: =SUM(C30:INDEX(C30:N30,IndexMonth)) -> 0
B31: Postage & Shipping | O31: =IFERROR((12*J10)/(IndexMonth*SUM(C10:D10)),0) -> 0 | P31: =SUM(C31:INDEX(C31:N31,IndexMonth)) -> 0
B32: Occupancy | O32: =IFERROR((12*J11)/(IndexMonth*SUM(C11:D11)),0) -> 0 | P32: =SUM(C32:INDEX(C32:N32,IndexMonth)) -> 0
B33: Equipment Rental & Maintenance | O33: =IFERROR((12*J12)/(IndexMonth*SUM(C12:D12)),0) -> 0 | P33: =SUM(C33:INDEX(C33:N33,IndexMonth)) -> 0
B34: Printing & Publications | O34: =IFERROR((12*J13)/(IndexMonth*SUM(C13:D13)),0) -> 0 | P34: =SUM(C34:INDEX(C34:N34,IndexMonth)) -> 0
B35: Travel / Conferences & Meetings | O35: =IFERROR((12*J14)/(IndexMonth*SUM(C14:D14)),0) -> 0 | P35: =SUM(C35:INDEX(C35:N35,IndexMonth)) -> 0
B36: Insurance | O36: =IFERROR((12*J15)/(IndexMonth*SUM(C15:D15)),0) -> 0 | P36: =SUM(C36:INDEX(C36:N36,IndexMonth)) -> 0
B37: Specific Assistance to Individuals | O37: =IFERROR((12*J16)/(IndexMonth*SUM(C16:D16)),0) -> 0 | P37: =SUM(C37:INDEX(C37:N37,IndexMonth)) -> 0
B38: Depreciation | O38: =IFERROR((12*J17)/(IndexMonth*SUM(C17:D17)),0) -> 0 | P38: =SUM(C38:INDEX(C38:N38,IndexMonth)) -> 0
... B40: Indirect Cost / Adm. Exp. / M&G | O40: =IFERROR((12*J19)/(IndexMonth*SUM(C19:D19)),0) -> 0 | P40: =SUM(C40:INDEX(C40:N40,IndexMonth)) -> 0
B41: Total | C41: =SUM(C26:C40) -> 0 | D41: =SUM(D26:D40) -> 0 | E41: =SUM(E26:E40) -> 0 | F41: =SUM(F26:F40) -> 0 | G41: =SUM(G26:G40) -> 0 | H41: =SUM(H26:H40) -> 0 | I41: =SUM(I26:I40) -> 0 | J41: =SUM(J26:J40) -> 0 | ... N41: =SUM(N26:N40) -> 0 | P41: =SUM(P26:P40) -> 0
C42: =IF(M43,">> Current trend of expenditures may exceed the allocated budget in certain categories. <<","") | M42: =M43*2 -> 0 | N42: =IF(M43, "may exceed 100% of budget","")
M43: =COUNTIF(O26:O40,">1") -> 0 | N43: =IF(M43,"may exceed 110% of budget","")
B44: Budget Modifications | C44: {=luDates} -> 43739 | D44: 43770 | E44: 43800 | F44: 43831 | G44: 43862 | H44: 43891 | I44: 43922 | J44: 43952 | K44: 43983 | L44: 44013 | M44: 44044 | N44: 44075 | P44: Total
B46: {=Categories} -> Salaries | P46: =SUM(C46:INDEX(C46:N46,IndexMonth)) -> 0
B47: Benefits & Taxes | P47: =SUM(C47:INDEX(C47:N47,IndexMonth)) -> 0
B48: Professional Fee / Grant & Award | P48: =SUM(C48:INDEX(C48:N48,IndexMonth)) -> 0
...

Sheet H and S BD
A1: 5 | B1: =INDEX(Domains,A1,3) -> Health and Social/Dehavioral Development (including nutrition)
B3: Domain Summary | C3: Available Funding | G3: ="Monthly Expenditures - " & TEXT(InvoiceMonth,"mmmm yyyy") -> Monthly Expenditures - October 2019 | J3: Year to Date Expenditures | N3: Unused | P3: Next FFY
C4: Budget | D4: Modifications | E4: Carryover | F4: Total | G4: Current | H4: Carryover | I4: Combined | J4: Current | K4: Carryover | L4: Combined | N4: Carryover | P4: Carryover
B5: {=Categories} -> Salaries | C5: {=INDEX(budgetCurrent,,$A$1)} -> 0 | D5: =SUM(C46:INDEX(C46:N46,IndexMonth)) -> 0 | E5: {=INDEX(budgetRollover,,$A$1)} -> 600 | F5: =C5+E5+D5 -> 600 | G5: =I5-H5 -> 0 | H5: =MIN(I5,MAX(0,E5-L5+I5)) -> 0 | I5: {=INDEX(C26:N40,,IndexMonth)} -> 0 | J5: =L5-K5 -> 0 | K5: =MIN(E5,L5) -> 0 | L5: =SUM(C26:INDEX(C26:N26,IndexMonth)) -> 0 | N5: =E5-K5 -> 600 | P5: =MAX(0,SUM(C5:D5)-J5) -> 0
B6: Benefits & Taxes | C6: 2000 | D6: =SUM(C47:INDEX(C47:N47,IndexMonth)) -> 0 | E6: 700 | F6: =C6+E6+D6 -> 2700 | G6: =I6-H6 -> 0 | H6: =MIN(I6,MAX(0,E6-L6+I6)) -> 0 | I6: 0 | J6: =L6-K6 -> 0 | K6: =MIN(E6,L6) -> 0 | L6: =SUM(C27:INDEX(C27:N27,IndexMonth)) -> 0 | N6: =E6-K6 -> 700 | P6: =MAX(0,SUM(C6:D6)-J6) -> 2000
B7: Professional Fee / Grant & Award | C7: 5000 | D7: =SUM(C48:INDEX(C48:N48,IndexMonth)) -> 0 | E7: 600 | F7: =C7+E7+D7 -> 5600 | G7: =I7-H7 -> 0 | H7: =MIN(I7,MAX(0,E7-L7+I7)) -> 0 | I7: 0 | J7: =L7-K7 -> 0 | K7: =MIN(E7,L7) -> 0 | L7: =SUM(C28:INDEX(C28:N28,IndexMonth)) -> 0 | N7: =E7-K7 -> 600 | P7: =MAX(0,SUM(C7:D7)-J7) -> 5000
B8: Supplies | C8: 12000 | D8: =SUM(C49:INDEX(C49:N49,IndexMonth)) -> 0 | E8: 1400 | F8: =C8+E8+D8 -> 13400 | G8: =I8-H8 -> 0 | H8: =MIN(I8,MAX(0,E8-L8+I8)) -> 0 | I8: 0 | J8: =L8-K8 -> 0 | K8: =MIN(E8,L8) -> 0 | L8: =SUM(C29:INDEX(C29:N29,IndexMonth)) -> 0 | N8: =E8-K8 -> 1400 | P8: =MAX(0,SUM(C8:D8)-J8) -> 12000
B9: Telephone | C9: 10000 | D9: =SUM(C50:INDEX(C50:N50,IndexMonth)) -> 0 | E9: 0 | F9: =C9+E9+D9 -> 10000 | G9: =I9-H9 -> 0 | H9: =MIN(I9,MAX(0,E9-L9+I9)) -> 0 | I9: 0 | J9: =L9-K9 -> 0 | K9: =MIN(E9,L9) -> 0 | L9: =SUM(C30:INDEX(C30:N30,IndexMonth)) -> 0 | N9: =E9-K9 -> 0 | P9: =MAX(0,SUM(C9:D9)-J9) -> 10000
B10: Postage & Shipping | C10: 8000 | D10: =SUM(C51:INDEX(C51:N51,IndexMonth)) -> 0 | E10: 0 | F10: =C10+E10+D10 -> 8000 | G10: =I10-H10 -> 0 | H10: =MIN(I10,MAX(0,E10-L10+I10)) -> 0 | I10: 0 | J10: =L10-K10 -> 0 | K10: =MIN(E10,L10) -> 0 | L10: =SUM(C31:INDEX(C31:N31,IndexMonth)) -> 0 | N10: =E10-K10 -> 0 | P10: =MAX(0,SUM(C10:D10)-J10) -> 8000
B11: Occupancy | C11: 12000 | D11: =SUM(C52:INDEX(C52:N52,IndexMonth)) -> 0 | E11: 1700 | F11: =C11+E11+D11 -> 13700 | G11: =I11-H11 -> 0 | H11: =MIN(I11,MAX(0,E11-L11+I11)) -> 0 | I11: 0 | J11: =L11-K11 -> 0 | K11: =MIN(E11,L11) -> 0 | L11: =SUM(C32:INDEX(C32:N32,IndexMonth)) -> 0 | N11: =E11-K11 -> 1700 | P11: =MAX(0,SUM(C11:D11)-J11) -> 12000
B12: Equipment Rental & Maintenance | C12: 11000 | D12: =SUM(C53:INDEX(C53:N53,IndexMonth)) -> 0 | E12: 2200 | F12: =C12+E12+D12 -> 13200 | G12: =I12-H12 -> 0 | H12: =MIN(I12,MAX(0,E12-L12+I12)) -> 0 | I12: 0 | J12: =L12-K12 -> 0 | K12: =MIN(E12,L12) -> 0 | L12: =SUM(C33:INDEX(C33:N33,IndexMonth)) -> 0 | N12: =E12-K12 -> 2200 | P12: =MAX(0,SUM(C12:D12)-J12) -> 11000
B13: Printing & Publications | C13: 14000 | D13: =SUM(C54:INDEX(C54:N54,IndexMonth)) -> 0 | E13: 0 | F13: =C13+E13+D13 -> 14000 | G13: =I13-H13 -> 0 | H13: =MIN(I13,MAX(0,E13-L13+I13)) -> 0 | I13: 0 | J13: =L13-K13 -> 0 | K13: =MIN(E13,L13) -> 0 | L13: =SUM(C34:INDEX(C34:N34,IndexMonth)) -> 0 | N13: =E13-K13 -> 0 | P13: =MAX(0,SUM(C13:D13)-J13) -> 14000
B14: Travel / Conferences & Meetings | C14: 3000 | D14: =SUM(C55:INDEX(C55:N55,IndexMonth)) -> 0 | E14: 0 | F14: =C14+E14+D14 -> 3000 | G14: =I14-H14 -> 0 | H14: =MIN(I14,MAX(0,E14-L14+I14)) -> 0 | I14: 0 | J14: =L14-K14 -> 0 | K14: =MIN(E14,L14) -> 0 | L14: =SUM(C35:INDEX(C35:N35,IndexMonth)) -> 0 | N14: =E14-K14 -> 0 | P14: =MAX(0,SUM(C14:D14)-J14) -> 3000
B15: Insurance | C15: 9000 | D15: =SUM(C56:INDEX(C56:N56,IndexMonth)) -> 0 | E15: 1100 | F15: =C15+E15+D15 -> 10100 | G15: =I15-H15 -> 0 | H15: =MIN(I15,MAX(0,E15-L15+I15)) -> 0 | I15: 0 | J15: =L15-K15 -> 0 | K15: =MIN(E15,L15) -> 0 | L15: =SUM(C36:INDEX(C36:N36,IndexMonth)) -> 0 | N15: =E15-K15 -> 1100 | P15: =MAX(0,SUM(C15:D15)-J15) -> 9000
